BEGIN:VCALENDAR
VERSION:2.0
PRODID:-//jEvents 2.0 for Joomla//EN
CALSCALE:GREGORIAN
METHOD:PUBLISH
BEGIN:VTIMEZONE
TZID:Europe/Paris
BEGIN:STANDARD
DTSTART:20180126T000000
RDATE:20180325T030000
TZOFFSETFROM:+0200
TZOFFSETTO:+0100
TZNAME:Europe/Paris CET
END:STANDARD
BEGIN:STANDARD
DTSTART:20181028T020000
RDATE:20190331T030000
TZOFFSETFROM:+0200
TZOFFSETTO:+0100
TZNAME:Europe/Paris CET
END:STANDARD
BEGIN:STANDARD
DTSTART:20191027T020000
RDATE:20200329T030000
TZOFFSETFROM:+0200
TZOFFSETTO:+0100
TZNAME:Europe/Paris CET
END:STANDARD
BEGIN:STANDARD
DTSTART:20201025T020000
RDATE:20210328T030000
TZOFFSETFROM:+0200
TZOFFSETTO:+0100
TZNAME:Europe/Paris CET
END:STANDARD
BEGIN:STANDARD
DTSTART:20211031T020000
RDATE:20220327T030000
TZOFFSETFROM:+0200
TZOFFSETTO:+0100
TZNAME:Europe/Paris CET
END:STANDARD
BEGIN:STANDARD
DTSTART:20221030T020000
RDATE:20230326T030000
TZOFFSETFROM:+0200
TZOFFSETTO:+0100
TZNAME:Europe/Paris CET
END:STANDARD
BEGIN:STANDARD
DTSTART:20231029T020000
RDATE:20240331T030000
TZOFFSETFROM:+0200
TZOFFSETTO:+0100
TZNAME:Europe/Paris CET
END:STANDARD
BEGIN:STANDARD
DTSTART:20241027T020000
RDATE:20250330T030000
TZOFFSETFROM:+0200
TZOFFSETTO:+0100
TZNAME:Europe/Paris CET
END:STANDARD
BEGIN:STANDARD
DTSTART:20251026T020000
RDATE:20260329T030000
TZOFFSETFROM:+0200
TZOFFSETTO:+0100
TZNAME:Europe/Paris CET
END:STANDARD
BEGIN:STANDARD
DTSTART:20261025T020000
RDATE:20270328T030000
TZOFFSETFROM:+0200
TZOFFSETTO:+0100
TZNAME:Europe/Paris CET
END:STANDARD
BEGIN:DAYLIGHT
DTSTART:20180325T030000
RDATE:20181028T020000
TZOFFSETFROM:+0100
TZOFFSETTO:+0200
TZNAME:Europe/Paris CEST
END:DAYLIGHT
BEGIN:DAYLIGHT
DTSTART:20190331T030000
RDATE:20191027T020000
TZOFFSETFROM:+0100
TZOFFSETTO:+0200
TZNAME:Europe/Paris CEST
END:DAYLIGHT
BEGIN:DAYLIGHT
DTSTART:20200329T030000
RDATE:20201025T020000
TZOFFSETFROM:+0100
TZOFFSETTO:+0200
TZNAME:Europe/Paris CEST
END:DAYLIGHT
BEGIN:DAYLIGHT
DTSTART:20210328T030000
RDATE:20211031T020000
TZOFFSETFROM:+0100
TZOFFSETTO:+0200
TZNAME:Europe/Paris CEST
END:DAYLIGHT
BEGIN:DAYLIGHT
DTSTART:20220327T030000
RDATE:20221030T020000
TZOFFSETFROM:+0100
TZOFFSETTO:+0200
TZNAME:Europe/Paris CEST
END:DAYLIGHT
BEGIN:DAYLIGHT
DTSTART:20230326T030000
RDATE:20231029T020000
TZOFFSETFROM:+0100
TZOFFSETTO:+0200
TZNAME:Europe/Paris CEST
END:DAYLIGHT
BEGIN:DAYLIGHT
DTSTART:20240331T030000
RDATE:20241027T020000
TZOFFSETFROM:+0100
TZOFFSETTO:+0200
TZNAME:Europe/Paris CEST
END:DAYLIGHT
BEGIN:DAYLIGHT
DTSTART:20250330T030000
RDATE:20251026T020000
TZOFFSETFROM:+0100
TZOFFSETTO:+0200
TZNAME:Europe/Paris CEST
END:DAYLIGHT
BEGIN:DAYLIGHT
DTSTART:20260329T030000
RDATE:20261025T020000
TZOFFSETFROM:+0100
TZOFFSETTO:+0200
TZNAME:Europe/Paris CEST
END:DAYLIGHT
END:VTIMEZONE
BEGIN:VEVENT
UID:572f351761a61085df2fe5c274a3d8c7
CATEGORIES:Circuit Massif D2 (alpin)
CREATED:20181114T121858
SUMMARY:CD2
URL;VALUE=URI:https://skivosges.net/agenda/export-synchronisation/detailevenement/1144/-/
 cd2?tmpl=component
DESCRIPTION:<!-- #gskiepreuve code généré par le plugin jevents pour GskiEpreuves. Ne p
 as modifier cette ligne, ni tout le contenu suivant  #gskiepreuve --><div c
 lass="gski-evenement_infos"><div class="gski-evenement-nom">CD2</div><div c
 lass="gski-evenement-report"></div><ul class="gski-evenement-liste-infos"><
 li>Codex évenement AMVT0300</li><li>Station : MARKSTEIN</li><li>Piste : STA
 DE DE SLALOM</li><li>Organisateur : 14186 S.C VALLEE DE WESSERLING</li><li>
 Courriel : <!-- Cette adresse électronique est protégée contre les robots s
 pammeurs. --><span class="cloaked_email ep_cc351fe7"><span data-ep-b="&#109
 ;" data-ep-a="&#115;&#99;&#118;&#119;"><span data-ep-b="&#108;&#46;&#99;&#1
 11;" data-ep-a="&#101;s&#115;&#101;"><span data-ep-b="&#103;&#64;&#97;&#111
 ;" data-ep-a="rl&#105;&#110;"></span></span></span></span><script>RegularLa
 bs.EmailProtector.unCloak("ep_cc351fe7");</script></li><li>Téléphone : 03 8
 9 82 78 08</li><li><span class="gski-evenement-obs">Délégué Technique : PET
 ER MARTINE</span></li></ul><div class="gski-evenement-infos-2"><div class="
 gski-evenement-info-inscriptions"><div class="gski-evenement-inscriptions-p
 eriodes">Période d'inscription à l'evènement du mardi 22 janvier 2019 à 19:
 00 au vendredi 25 janvier 2019 à 22:00 <span class="gski-evenement-inscript
 ions-impossibles">(Inscriptions impossibles).</span><div class="gski-evenem
 ent-inscriptions-types-titres">Inscriptions ouvertes aux detenteurs des tit
 res Fédéraux valides suivants : Licenciés Compétiteurs</div></div></div><di
 v class="gski-evenement-epreuves"><div class="gski-evenement-epreuves-titre
 s">Epreuves :</div><ul class="gski-evenement-epreuves-list"><li><div class=
 "gski-epreuve-date">Le dimanche 27 janvier 2019 à 13:00</div><ul class="gsk
 i-epreuve-liste-infos"><li>Codex épreuve AMVM0301</li><li>Slalom</li><li>Ca
 tégorie(s) : U16 (Filles)</li></ul></li><li><div class="gski-epreuve-date">
 Le dimanche 27 janvier 2019 à 13:15</div><ul class="gski-epreuve-liste-info
 s"><li>Codex épreuve AMVF0301</li><li>Slalom</li><li>Catégorie(s) : U16 (Ga
 rçons)</li></ul></li><li><div class="gski-epreuve-date">Le dimanche 27 janv
 ier 2019 à 13:30</div><ul class="gski-epreuve-liste-infos"><li>Codex épreuv
 e AMVM0302</li><li>Slalom</li><li>Catégorie(s) : U18 a Masters (Dames)</li>
 </ul></li><li><div class="gski-epreuve-date">Le dimanche 27 janvier 2019 à 
 13:45</div><ul class="gski-epreuve-liste-infos"><li>Codex épreuve AMVF0302<
 /li><li>Slalom</li><li>Catégorie(s) : U18 a Masters (Hommes)</li></ul></li>
 </ul></div><div class="gskiepreuves-links"><ul><li><a href="/index.php?opti
 on=com_jevents&task=icalevent.detail&evid=1139&Itemid=6283">Voir les inform
 ations dans l'agenda...</a></li><li><a href="/index.php?option=com_gskiepre
 uves&view=afficheresultats&format_option=tous&filter[search]=AMVT0300&filte
 r[date_debut]=27-01-2019&filter[date_fin]=27-01-2019&code_activite=ALP&Item
 id=6283">Vers les résultats...</a></li><li>Publications concernant cet évèn
 ement :<ul><li><a href="/index.php?option=com_content&view=article&id=6595&
 Itemid=6283">Samedi 26 Janvier 2019 à 08:40 : Le 27/01/2019 MARKSTEIN Liste
  de départs</a></li></ul></li></ul></div></div"><!-- #/gskiepreuve fin du d
 ode généré par le plugin jevents pour GskiEpreuves. . Ne pas modifier cette
  ligne, ni tout le contenu précedant.  #/gskiepreuve --> <a href="https://s
 kivosges.net/agenda/export-synchronisation/detailevenement/1144/-/cd2?tmpl=
 component">Cet évènement a été importé depuis :https://skivosges.net/agenda
 /export-synchronisation/detailevenement/1144/-/cd2?tmpl=component</a>
X-ALT-DESC;FMTTYPE=text/html:<!-- #gskiepreuve code généré par le plugin jevents pour GskiEpreuves. Ne p
 as modifier cette ligne, ni tout le contenu suivant  #gskiepreuve --><div c
 lass="gski-evenement_infos"><div class="gski-evenement-nom">CD2</div><div c
 lass="gski-evenement-report"></div><ul class="gski-evenement-liste-infos"><
 li>Codex évenement AMVT0300</li><li>Station : MARKSTEIN</li><li>Piste : STA
 DE DE SLALOM</li><li>Organisateur : 14186 S.C VALLEE DE WESSERLING</li><li>
 Courriel : <!-- Cette adresse électronique est protégée contre les robots s
 pammeurs. --><span class="cloaked_email ep_cc351fe7"><span data-ep-b="&#109
 ;" data-ep-a="&#115;&#99;&#118;&#119;"><span data-ep-b="&#108;&#46;&#99;&#1
 11;" data-ep-a="&#101;s&#115;&#101;"><span data-ep-b="&#103;&#64;&#97;&#111
 ;" data-ep-a="rl&#105;&#110;"></span></span></span></span><script>RegularLa
 bs.EmailProtector.unCloak("ep_cc351fe7");</script></li><li>Téléphone : 03 8
 9 82 78 08</li><li><span class="gski-evenement-obs">Délégué Technique : PET
 ER MARTINE</span></li></ul><div class="gski-evenement-infos-2"><div class="
 gski-evenement-info-inscriptions"><div class="gski-evenement-inscriptions-p
 eriodes">Période d'inscription à l'evènement du mardi 22 janvier 2019 à 19:
 00 au vendredi 25 janvier 2019 à 22:00 <span class="gski-evenement-inscript
 ions-impossibles">(Inscriptions impossibles).</span><div class="gski-evenem
 ent-inscriptions-types-titres">Inscriptions ouvertes aux detenteurs des tit
 res Fédéraux valides suivants : Licenciés Compétiteurs</div></div></div><di
 v class="gski-evenement-epreuves"><div class="gski-evenement-epreuves-titre
 s">Epreuves :</div><ul class="gski-evenement-epreuves-list"><li><div class=
 "gski-epreuve-date">Le dimanche 27 janvier 2019 à 13:00</div><ul class="gsk
 i-epreuve-liste-infos"><li>Codex épreuve AMVM0301</li><li>Slalom</li><li>Ca
 tégorie(s) : U16 (Filles)</li></ul></li><li><div class="gski-epreuve-date">
 Le dimanche 27 janvier 2019 à 13:15</div><ul class="gski-epreuve-liste-info
 s"><li>Codex épreuve AMVF0301</li><li>Slalom</li><li>Catégorie(s) : U16 (Ga
 rçons)</li></ul></li><li><div class="gski-epreuve-date">Le dimanche 27 janv
 ier 2019 à 13:30</div><ul class="gski-epreuve-liste-infos"><li>Codex épreuv
 e AMVM0302</li><li>Slalom</li><li>Catégorie(s) : U18 a Masters (Dames)</li>
 </ul></li><li><div class="gski-epreuve-date">Le dimanche 27 janvier 2019 à 
 13:45</div><ul class="gski-epreuve-liste-infos"><li>Codex épreuve AMVF0302<
 /li><li>Slalom</li><li>Catégorie(s) : U18 a Masters (Hommes)</li></ul></li>
 </ul></div><div class="gskiepreuves-links"><ul><li><a href="https://skivosg
 es.net/index.php?option=com_jevents&task=icalevent.detail&evid=1139&Itemid=
 6283">Voir les informations dans l'agenda...</a></li><li><a href="https://s
 kivosges.net/index.php?option=com_gskiepreuves&view=afficheresultats&format
 _option=tous&filter[search]=AMVT0300&filter[date_debut]=27-01-2019&filter[d
 ate_fin]=27-01-2019&code_activite=ALP&Itemid=6283">Vers les résultats...</a
 ></li><li>Publications concernant cet évènement :<ul><li><a href="https://s
 kivosges.net/index.php?option=com_content&view=article&id=6595&Itemid=6283"
 >Samedi 26 Janvier 2019 à 08:40 : Le 27/01/2019 MARKSTEIN Liste de départs<
 /a></li></ul></li></ul></div></div"><!-- #/gskiepreuve fin du dode généré p
 ar le plugin jevents pour GskiEpreuves. . Ne pas modifier cette ligne, ni t
 out le contenu précedant.  #/gskiepreuve --> <a href="https://skivosges.net
 /agenda/export-synchronisation/detailevenement/1144/-/cd2?tmpl=component">C
 et évènement a été importé depuis :https://skivosges.net/agenda/export-sync
 hronisation/detailevenement/1144/-/cd2?tmpl=component</a>DTSTAMP:20260420T144002
DTSTART;TZID=Europe/Paris;VALUE=DATE:20190127
DTEND;TZID=Europe/Paris;VALUE=DATE:20190128
SEQUENCE:0
TRANSP:OPAQUE
END:VEVENT
END:VCALENDAR