BEGIN:VCALENDAR
VERSION:2.0
PRODID:-//jEvents 2.0 for Joomla//EN
CALSCALE:GREGORIAN
METHOD:PUBLISH
BEGIN:VTIMEZONE
TZID:Europe/Paris
BEGIN:STANDARD
DTSTART:20180126T000000
RDATE:20180325T030000
TZOFFSETFROM:+0200
TZOFFSETTO:+0100
TZNAME:Europe/Paris CET
END:STANDARD
BEGIN:STANDARD
DTSTART:20181028T020000
RDATE:20190331T030000
TZOFFSETFROM:+0200
TZOFFSETTO:+0100
TZNAME:Europe/Paris CET
END:STANDARD
BEGIN:STANDARD
DTSTART:20191027T020000
RDATE:20200329T030000
TZOFFSETFROM:+0200
TZOFFSETTO:+0100
TZNAME:Europe/Paris CET
END:STANDARD
BEGIN:STANDARD
DTSTART:20201025T020000
RDATE:20210328T030000
TZOFFSETFROM:+0200
TZOFFSETTO:+0100
TZNAME:Europe/Paris CET
END:STANDARD
BEGIN:STANDARD
DTSTART:20211031T020000
RDATE:20220327T030000
TZOFFSETFROM:+0200
TZOFFSETTO:+0100
TZNAME:Europe/Paris CET
END:STANDARD
BEGIN:STANDARD
DTSTART:20221030T020000
RDATE:20230326T030000
TZOFFSETFROM:+0200
TZOFFSETTO:+0100
TZNAME:Europe/Paris CET
END:STANDARD
BEGIN:STANDARD
DTSTART:20231029T020000
RDATE:20240331T030000
TZOFFSETFROM:+0200
TZOFFSETTO:+0100
TZNAME:Europe/Paris CET
END:STANDARD
BEGIN:STANDARD
DTSTART:20241027T020000
RDATE:20250330T030000
TZOFFSETFROM:+0200
TZOFFSETTO:+0100
TZNAME:Europe/Paris CET
END:STANDARD
BEGIN:STANDARD
DTSTART:20251026T020000
RDATE:20260329T030000
TZOFFSETFROM:+0200
TZOFFSETTO:+0100
TZNAME:Europe/Paris CET
END:STANDARD
BEGIN:STANDARD
DTSTART:20261025T020000
RDATE:20270328T030000
TZOFFSETFROM:+0200
TZOFFSETTO:+0100
TZNAME:Europe/Paris CET
END:STANDARD
BEGIN:DAYLIGHT
DTSTART:20180325T030000
RDATE:20181028T020000
TZOFFSETFROM:+0100
TZOFFSETTO:+0200
TZNAME:Europe/Paris CEST
END:DAYLIGHT
BEGIN:DAYLIGHT
DTSTART:20190331T030000
RDATE:20191027T020000
TZOFFSETFROM:+0100
TZOFFSETTO:+0200
TZNAME:Europe/Paris CEST
END:DAYLIGHT
BEGIN:DAYLIGHT
DTSTART:20200329T030000
RDATE:20201025T020000
TZOFFSETFROM:+0100
TZOFFSETTO:+0200
TZNAME:Europe/Paris CEST
END:DAYLIGHT
BEGIN:DAYLIGHT
DTSTART:20210328T030000
RDATE:20211031T020000
TZOFFSETFROM:+0100
TZOFFSETTO:+0200
TZNAME:Europe/Paris CEST
END:DAYLIGHT
BEGIN:DAYLIGHT
DTSTART:20220327T030000
RDATE:20221030T020000
TZOFFSETFROM:+0100
TZOFFSETTO:+0200
TZNAME:Europe/Paris CEST
END:DAYLIGHT
BEGIN:DAYLIGHT
DTSTART:20230326T030000
RDATE:20231029T020000
TZOFFSETFROM:+0100
TZOFFSETTO:+0200
TZNAME:Europe/Paris CEST
END:DAYLIGHT
BEGIN:DAYLIGHT
DTSTART:20240331T030000
RDATE:20241027T020000
TZOFFSETFROM:+0100
TZOFFSETTO:+0200
TZNAME:Europe/Paris CEST
END:DAYLIGHT
BEGIN:DAYLIGHT
DTSTART:20250330T030000
RDATE:20251026T020000
TZOFFSETFROM:+0100
TZOFFSETTO:+0200
TZNAME:Europe/Paris CEST
END:DAYLIGHT
BEGIN:DAYLIGHT
DTSTART:20260329T030000
RDATE:20261025T020000
TZOFFSETFROM:+0100
TZOFFSETTO:+0200
TZNAME:Europe/Paris CEST
END:DAYLIGHT
END:VTIMEZONE
BEGIN:VEVENT
UID:a170b28fc13cdf7348638b0cbb6b48d0
CATEGORIES:Circuit Massif Jeunes (alpin)
CREATED:20181114T121858
SUMMARY:CJM Coupe d'Argent U12 Prix de la Ville de St Maurice
URL;VALUE=URI:https://skivosges.net/agenda/export-synchronisation/detailevenement/1145/-/
 cjm-coupe-dargent-u12-prix-de-la-ville-de-st-maurice?tmpl=component
DESCRIPTION:<!-- #gskiepreuve code généré par le plugin jevents pour GskiEpreuves. Ne p
 as modifier cette ligne, ni tout le contenu suivant  #gskiepreuve --><div c
 lass="gski-evenement_infos"><div class="gski-evenement-nom">CJM Coupe d'Arg
 ent U12 Prix de la Ville de St Maurice</div><div class="gski-evenement-repo
 rt"></div><ul class="gski-evenement-liste-infos"><li>Codex évenement AMVT02
 90</li><li>Lieu : langenberg</li><li>Station : BALLON D'ALSACE</li><li>Pist
 e : stade de slalom</li><li>Organisateur : 14063 SKIEURS DE ST MAURICE/MOSE
 LLE</li><li>Courriel : <!-- Cette adresse électronique est protégée contre 
 les robots spammeurs. --><span class="cloaked_email ep_fd87018e"><span data
 -ep-b="" data-ep-a="&#100;&#97;&#110;i"><span data-ep-a="e&#108;.&#109;" da
 ta-ep-b="r&#46;f&#114;"><span data-ep-a="&#111;re&#108;" data-ep-b="&#53;&#
 64;&#115;&#102;"></span></span></span></span><script>RegularLabs.EmailProte
 ctor.unCloak("ep_fd87018e");</script></li><li><span class="gski-evenement-o
 bs">Délégué Technique : KOENIG DANIEL</span></li></ul><div class="gski-even
 ement-infos-2"><div class="gski-evenement-info-inscriptions"><div class="gs
 ki-evenement-inscriptions-periodes">Période d'inscription à l'evènement du 
 dimanche 20 janvier 2019 à 01:00 au vendredi 25 janvier 2019 à 17:00 <span 
 class="gski-evenement-inscriptions-impossibles">(Inscriptions impossibles).
 </span><div class="gski-evenement-inscriptions-types-titres">Inscriptions o
 uvertes aux detenteurs des titres Fédéraux valides suivants : Licenciés Com
 pétiteurs</div></div></div><div class="gski-evenement-epreuves"><div class=
 "gski-evenement-epreuves-titres">Epreuves :</div><ul class="gski-evenement-
 epreuves-list"><li><div class="gski-epreuve-date">Le dimanche 27 janvier 20
 19</div><ul class="gski-epreuve-liste-infos"><li>Codex épreuve AMVM0291</li
 ><li>Slalom</li><li>Catégorie(s) : U12 (Garçons)</li></ul></li><li><div cla
 ss="gski-epreuve-date">Le dimanche 27 janvier 2019</div><ul class="gski-epr
 euve-liste-infos"><li>Codex épreuve AMVF0291</li><li>Slalom</li><li>Catégor
 ie(s) : U12 (Filles)</li></ul></li></ul></div><div class="gskiepreuves-link
 s"><ul><li><a href="/index.php?option=com_jevents&task=icalevent.detail&evi
 d=1140&Itemid=6283">Voir les informations dans l'agenda...</a></li><li><a h
 ref="/index.php?option=com_gskiepreuves&view=afficheresultats&format_option
 =tous&filter[search]=AMVT0290&filter[date_debut]=27-01-2019&filter[date_fin
 ]=27-01-2019&code_activite=ALP&Itemid=6283">Vers les résultats...</a></li><
 li>Publications concernant cet évènement :<ul><li><a href="/index.php?optio
 n=com_content&view=article&id=6602&Itemid=6283">Dimanche 27 Janvier 2019 à 
 17:50 : Le 27/01/2019 BALLON D'ALSACE Résultats</a></li><li><a href="/index
 .php?option=com_content&view=article&id=6591&Itemid=6283">Vendredi 25 Janvi
 er 2019 à 19:11 : Le 27/01/2019 BALLON D'ALSACE Liste de départs</a></li><l
 i><a href="/index.php?option=com_content&view=article&id=6575&Itemid=6283">
 Mardi 22 Janvier 2019 à 18:26 : Le 27/01/2019 BALLON D'ALSACE Informations<
 /a></li></ul></li></ul></div></div"><!-- #/gskiepreuve fin du dode généré p
 ar le plugin jevents pour GskiEpreuves. . Ne pas modifier cette ligne, ni t
 out le contenu précedant.  #/gskiepreuve --> <a href="https://skivosges.net
 /agenda/export-synchronisation/detailevenement/1145/-/cjm-coupe-dargent-u12
 -prix-de-la-ville-de-st-maurice?tmpl=component">Cet évènement a été importé
  depuis :https://skivosges.net/agenda/export-synchronisation/detailevenemen
 t/1145/-/cjm-coupe-dargent-u12-prix-de-la-ville-de-st-maurice?tmpl=componen
 t</a>
X-ALT-DESC;FMTTYPE=text/html:<!-- #gskiepreuve code généré par le plugin jevents pour GskiEpreuves. Ne p
 as modifier cette ligne, ni tout le contenu suivant  #gskiepreuve --><div c
 lass="gski-evenement_infos"><div class="gski-evenement-nom">CJM Coupe d'Arg
 ent U12 Prix de la Ville de St Maurice</div><div class="gski-evenement-repo
 rt"></div><ul class="gski-evenement-liste-infos"><li>Codex évenement AMVT02
 90</li><li>Lieu : langenberg</li><li>Station : BALLON D'ALSACE</li><li>Pist
 e : stade de slalom</li><li>Organisateur : 14063 SKIEURS DE ST MAURICE/MOSE
 LLE</li><li>Courriel : <!-- Cette adresse électronique est protégée contre 
 les robots spammeurs. --><span class="cloaked_email ep_fd87018e"><span data
 -ep-b="" data-ep-a="&#100;&#97;&#110;i"><span data-ep-a="e&#108;.&#109;" da
 ta-ep-b="r&#46;f&#114;"><span data-ep-a="&#111;re&#108;" data-ep-b="&#53;&#
 64;&#115;&#102;"></span></span></span></span><script>RegularLabs.EmailProte
 ctor.unCloak("ep_fd87018e");</script></li><li><span class="gski-evenement-o
 bs">Délégué Technique : KOENIG DANIEL</span></li></ul><div class="gski-even
 ement-infos-2"><div class="gski-evenement-info-inscriptions"><div class="gs
 ki-evenement-inscriptions-periodes">Période d'inscription à l'evènement du 
 dimanche 20 janvier 2019 à 01:00 au vendredi 25 janvier 2019 à 17:00 <span 
 class="gski-evenement-inscriptions-impossibles">(Inscriptions impossibles).
 </span><div class="gski-evenement-inscriptions-types-titres">Inscriptions o
 uvertes aux detenteurs des titres Fédéraux valides suivants : Licenciés Com
 pétiteurs</div></div></div><div class="gski-evenement-epreuves"><div class=
 "gski-evenement-epreuves-titres">Epreuves :</div><ul class="gski-evenement-
 epreuves-list"><li><div class="gski-epreuve-date">Le dimanche 27 janvier 20
 19</div><ul class="gski-epreuve-liste-infos"><li>Codex épreuve AMVM0291</li
 ><li>Slalom</li><li>Catégorie(s) : U12 (Garçons)</li></ul></li><li><div cla
 ss="gski-epreuve-date">Le dimanche 27 janvier 2019</div><ul class="gski-epr
 euve-liste-infos"><li>Codex épreuve AMVF0291</li><li>Slalom</li><li>Catégor
 ie(s) : U12 (Filles)</li></ul></li></ul></div><div class="gskiepreuves-link
 s"><ul><li><a href="https://skivosges.net/index.php?option=com_jevents&task
 =icalevent.detail&evid=1140&Itemid=6283">Voir les informations dans l'agend
 a...</a></li><li><a href="https://skivosges.net/index.php?option=com_gskiep
 reuves&view=afficheresultats&format_option=tous&filter[search]=AMVT0290&fil
 ter[date_debut]=27-01-2019&filter[date_fin]=27-01-2019&code_activite=ALP&It
 emid=6283">Vers les résultats...</a></li><li>Publications concernant cet év
 ènement :<ul><li><a href="https://skivosges.net/index.php?option=com_conten
 t&view=article&id=6602&Itemid=6283">Dimanche 27 Janvier 2019 à 17:50 : Le 2
 7/01/2019 BALLON D'ALSACE Résultats</a></li><li><a href="https://skivosges.
 net/index.php?option=com_content&view=article&id=6591&Itemid=6283">Vendredi
  25 Janvier 2019 à 19:11 : Le 27/01/2019 BALLON D'ALSACE Liste de départs</
 a></li><li><a href="https://skivosges.net/index.php?option=com_content&view
 =article&id=6575&Itemid=6283">Mardi 22 Janvier 2019 à 18:26 : Le 27/01/2019
  BALLON D'ALSACE Informations</a></li></ul></li></ul></div></div"><!-- #/gs
 kiepreuve fin du dode généré par le plugin jevents pour GskiEpreuves. . Ne 
 pas modifier cette ligne, ni tout le contenu précedant.  #/gskiepreuve --> 
 <a href="https://skivosges.net/agenda/export-synchronisation/detailevenemen
 t/1145/-/cjm-coupe-dargent-u12-prix-de-la-ville-de-st-maurice?tmpl=componen
 t">Cet évènement a été importé depuis :https://skivosges.net/agenda/export-
 synchronisation/detailevenement/1145/-/cjm-coupe-dargent-u12-prix-de-la-vil
 le-de-st-maurice?tmpl=component</a>DTSTAMP:20260420T151405
DTSTART;TZID=Europe/Paris;VALUE=DATE:20190127
DTEND;TZID=Europe/Paris;VALUE=DATE:20190128
SEQUENCE:0
TRANSP:OPAQUE
END:VEVENT
END:VCALENDAR