BEGIN:VCALENDAR
VERSION:2.0
PRODID:-//jEvents 2.0 for Joomla//EN
CALSCALE:GREGORIAN
METHOD:PUBLISH
BEGIN:VTIMEZONE
TZID:Europe/Paris
BEGIN:STANDARD
DTSTART:20180126T000000
RDATE:20180325T030000
TZOFFSETFROM:+0200
TZOFFSETTO:+0100
TZNAME:Europe/Paris CET
END:STANDARD
BEGIN:STANDARD
DTSTART:20181028T020000
RDATE:20190331T030000
TZOFFSETFROM:+0200
TZOFFSETTO:+0100
TZNAME:Europe/Paris CET
END:STANDARD
BEGIN:STANDARD
DTSTART:20191027T020000
RDATE:20200329T030000
TZOFFSETFROM:+0200
TZOFFSETTO:+0100
TZNAME:Europe/Paris CET
END:STANDARD
BEGIN:STANDARD
DTSTART:20201025T020000
RDATE:20210328T030000
TZOFFSETFROM:+0200
TZOFFSETTO:+0100
TZNAME:Europe/Paris CET
END:STANDARD
BEGIN:STANDARD
DTSTART:20211031T020000
RDATE:20220327T030000
TZOFFSETFROM:+0200
TZOFFSETTO:+0100
TZNAME:Europe/Paris CET
END:STANDARD
BEGIN:STANDARD
DTSTART:20221030T020000
RDATE:20230326T030000
TZOFFSETFROM:+0200
TZOFFSETTO:+0100
TZNAME:Europe/Paris CET
END:STANDARD
BEGIN:STANDARD
DTSTART:20231029T020000
RDATE:20240331T030000
TZOFFSETFROM:+0200
TZOFFSETTO:+0100
TZNAME:Europe/Paris CET
END:STANDARD
BEGIN:STANDARD
DTSTART:20241027T020000
RDATE:20250330T030000
TZOFFSETFROM:+0200
TZOFFSETTO:+0100
TZNAME:Europe/Paris CET
END:STANDARD
BEGIN:STANDARD
DTSTART:20251026T020000
RDATE:20260329T030000
TZOFFSETFROM:+0200
TZOFFSETTO:+0100
TZNAME:Europe/Paris CET
END:STANDARD
BEGIN:STANDARD
DTSTART:20261025T020000
RDATE:20270328T030000
TZOFFSETFROM:+0200
TZOFFSETTO:+0100
TZNAME:Europe/Paris CET
END:STANDARD
BEGIN:DAYLIGHT
DTSTART:20180325T030000
RDATE:20181028T020000
TZOFFSETFROM:+0100
TZOFFSETTO:+0200
TZNAME:Europe/Paris CEST
END:DAYLIGHT
BEGIN:DAYLIGHT
DTSTART:20190331T030000
RDATE:20191027T020000
TZOFFSETFROM:+0100
TZOFFSETTO:+0200
TZNAME:Europe/Paris CEST
END:DAYLIGHT
BEGIN:DAYLIGHT
DTSTART:20200329T030000
RDATE:20201025T020000
TZOFFSETFROM:+0100
TZOFFSETTO:+0200
TZNAME:Europe/Paris CEST
END:DAYLIGHT
BEGIN:DAYLIGHT
DTSTART:20210328T030000
RDATE:20211031T020000
TZOFFSETFROM:+0100
TZOFFSETTO:+0200
TZNAME:Europe/Paris CEST
END:DAYLIGHT
BEGIN:DAYLIGHT
DTSTART:20220327T030000
RDATE:20221030T020000
TZOFFSETFROM:+0100
TZOFFSETTO:+0200
TZNAME:Europe/Paris CEST
END:DAYLIGHT
BEGIN:DAYLIGHT
DTSTART:20230326T030000
RDATE:20231029T020000
TZOFFSETFROM:+0100
TZOFFSETTO:+0200
TZNAME:Europe/Paris CEST
END:DAYLIGHT
BEGIN:DAYLIGHT
DTSTART:20240331T030000
RDATE:20241027T020000
TZOFFSETFROM:+0100
TZOFFSETTO:+0200
TZNAME:Europe/Paris CEST
END:DAYLIGHT
BEGIN:DAYLIGHT
DTSTART:20250330T030000
RDATE:20251026T020000
TZOFFSETFROM:+0100
TZOFFSETTO:+0200
TZNAME:Europe/Paris CEST
END:DAYLIGHT
BEGIN:DAYLIGHT
DTSTART:20260329T030000
RDATE:20261025T020000
TZOFFSETFROM:+0100
TZOFFSETTO:+0200
TZNAME:Europe/Paris CEST
END:DAYLIGHT
END:VTIMEZONE
BEGIN:VEVENT
UID:732a1c27067175aceb6a20e3b44a55b3
CATEGORIES:Circuit Massif Jeunes (alpin)
CREATED:20181114T121858
SUMMARY:CJM Coupe d'Argent U14 Prix des Skieurs de Strasbourg
URL;VALUE=URI:https://skivosges.net/agenda/export-synchronisation/detailevenement/1146/-/
 cjm-coupe-dargent-u14-prix-des-skieurs-de-strasbourg?tmpl=component
DESCRIPTION:<!-- #gskiepreuve code généré par le plugin jevents pour GskiEpreuves. Ne p
 as modifier cette ligne, ni tout le contenu suivant  #gskiepreuve --><div c
 lass="gski-evenement_infos"><div class="gski-evenement-nom">CJM Coupe d'Arg
 ent U14 Prix des Skieurs de Strasbourg</div><div class="gski-evenement-repo
 rt"></div><ul class="gski-evenement-liste-infos"><li>Codex évenement AMVT02
 80</li><li>Station : LAC BLANC</li><li>Organisateur : 14077 SKIEURS DE STRA
 SBOURG</li><li>Courriel : <!-- Cette adresse électronique est protégée cont
 re les robots spammeurs. --><span class="cloaked_email ep_21e163ea"><span d
 ata-ep-a="jp&#104;." data-ep-b="f&#114;"><span data-ep-b="n&#103;e&#46;" da
 ta-ep-a="&#104;o&#108;&#119;"><span data-ep-a="e&#103;6&#55;" data-ep-b="&#
 64;&#111;&#114;&#97;"></span></span></span></span><script>RegularLabs.Email
 Protector.unCloak("ep_21e163ea");</script></li><li><span class="gski-evenem
 ent-obs">Délégué Technique : TURRI TIZIANO</span></li></ul><div class="gski
 -evenement-infos-2"><div class="gski-evenement-info-inscriptions"><div clas
 s="gski-evenement-inscriptions-periodes">Période d'inscription à l'evènemen
 t du dimanche 20 janvier 2019 à 00:00 au vendredi 25 janvier 2019 à 17:00 <
 span class="gski-evenement-inscriptions-impossibles">(Inscriptions impossib
 les).</span><div class="gski-evenement-inscriptions-types-titres">Inscripti
 ons ouvertes aux detenteurs des titres Fédéraux valides suivants : Licencié
 s Compétiteurs</div></div></div><div class="gski-evenement-epreuves"><div c
 lass="gski-evenement-epreuves-titres">Epreuves :</div><ul class="gski-evene
 ment-epreuves-list"><li><div class="gski-epreuve-date">Le dimanche 27 janvi
 er 2019</div><ul class="gski-epreuve-liste-infos"><li>Codex épreuve AMVM028
 1</li><li>Slalom</li><li>Catégorie(s) : U14 (Garçons)</li></ul></li><li><di
 v class="gski-epreuve-date">Le dimanche 27 janvier 2019</div><ul class="gsk
 i-epreuve-liste-infos"><li>Codex épreuve AMVF0281</li><li>Slalom</li><li>Ca
 tégorie(s) : U14 (Filles)</li></ul></li></ul></div><div class="gskiepreuves
 -links"><ul><li><a href="/index.php?option=com_jevents&task=icalevent.detai
 l&evid=1141&Itemid=6283">Voir les informations dans l'agenda...</a></li><li
 ><a href="/index.php?option=com_gskiepreuves&view=afficheresultats&format_o
 ption=tous&filter[search]=AMVT0280&filter[date_debut]=27-01-2019&filter[dat
 e_fin]=27-01-2019&code_activite=ALP&Itemid=6283">Vers les résultats...</a><
 /li><li>Publications concernant cet évènement :<ul><li><a href="/index.php?
 option=com_content&view=article&id=6601&Itemid=6283">Dimanche 27 Janvier 20
 19 à 17:21 : Le 27/01/2019 LAC BLANC Résultats</a></li><li><a href="/index.
 php?option=com_content&view=article&id=6594&Itemid=6283">Vendredi 25 Janvie
 r 2019 à 22:43 : Le 27/01/2019 LAC BLANC Liste de départs</a></li><li><a hr
 ef="/index.php?option=com_content&view=article&id=6593&Itemid=6283">Vendred
 i 25 Janvier 2019 à 22:40 : Le 27/01/2019 LAC BLANC Liste de départs</a></l
 i><li><a href="/index.php?option=com_content&view=article&id=6585&Itemid=62
 83">Jeudi 24 Janvier 2019 à 12:04 : Le 27/01/2019 LAC BLANC Informations</a
 ></li></ul></li></ul></div></div"><!-- #/gskiepreuve fin du dode généré par
  le plugin jevents pour GskiEpreuves. . Ne pas modifier cette ligne, ni tou
 t le contenu précedant.  #/gskiepreuve --> <a href="https://skivosges.net/a
 genda/export-synchronisation/detailevenement/1146/-/cjm-coupe-dargent-u14-p
 rix-des-skieurs-de-strasbourg?tmpl=component">Cet évènement a été importé d
 epuis :https://skivosges.net/agenda/export-synchronisation/detailevenement/
 1146/-/cjm-coupe-dargent-u14-prix-des-skieurs-de-strasbourg?tmpl=component<
 /a>
X-ALT-DESC;FMTTYPE=text/html:<!-- #gskiepreuve code généré par le plugin jevents pour GskiEpreuves. Ne p
 as modifier cette ligne, ni tout le contenu suivant  #gskiepreuve --><div c
 lass="gski-evenement_infos"><div class="gski-evenement-nom">CJM Coupe d'Arg
 ent U14 Prix des Skieurs de Strasbourg</div><div class="gski-evenement-repo
 rt"></div><ul class="gski-evenement-liste-infos"><li>Codex évenement AMVT02
 80</li><li>Station : LAC BLANC</li><li>Organisateur : 14077 SKIEURS DE STRA
 SBOURG</li><li>Courriel : <!-- Cette adresse électronique est protégée cont
 re les robots spammeurs. --><span class="cloaked_email ep_21e163ea"><span d
 ata-ep-a="jp&#104;." data-ep-b="f&#114;"><span data-ep-b="n&#103;e&#46;" da
 ta-ep-a="&#104;o&#108;&#119;"><span data-ep-a="e&#103;6&#55;" data-ep-b="&#
 64;&#111;&#114;&#97;"></span></span></span></span><script>RegularLabs.Email
 Protector.unCloak("ep_21e163ea");</script></li><li><span class="gski-evenem
 ent-obs">Délégué Technique : TURRI TIZIANO</span></li></ul><div class="gski
 -evenement-infos-2"><div class="gski-evenement-info-inscriptions"><div clas
 s="gski-evenement-inscriptions-periodes">Période d'inscription à l'evènemen
 t du dimanche 20 janvier 2019 à 00:00 au vendredi 25 janvier 2019 à 17:00 <
 span class="gski-evenement-inscriptions-impossibles">(Inscriptions impossib
 les).</span><div class="gski-evenement-inscriptions-types-titres">Inscripti
 ons ouvertes aux detenteurs des titres Fédéraux valides suivants : Licencié
 s Compétiteurs</div></div></div><div class="gski-evenement-epreuves"><div c
 lass="gski-evenement-epreuves-titres">Epreuves :</div><ul class="gski-evene
 ment-epreuves-list"><li><div class="gski-epreuve-date">Le dimanche 27 janvi
 er 2019</div><ul class="gski-epreuve-liste-infos"><li>Codex épreuve AMVM028
 1</li><li>Slalom</li><li>Catégorie(s) : U14 (Garçons)</li></ul></li><li><di
 v class="gski-epreuve-date">Le dimanche 27 janvier 2019</div><ul class="gsk
 i-epreuve-liste-infos"><li>Codex épreuve AMVF0281</li><li>Slalom</li><li>Ca
 tégorie(s) : U14 (Filles)</li></ul></li></ul></div><div class="gskiepreuves
 -links"><ul><li><a href="https://skivosges.net/index.php?option=com_jevents
 &task=icalevent.detail&evid=1141&Itemid=6283">Voir les informations dans l'
 agenda...</a></li><li><a href="https://skivosges.net/index.php?option=com_g
 skiepreuves&view=afficheresultats&format_option=tous&filter[search]=AMVT028
 0&filter[date_debut]=27-01-2019&filter[date_fin]=27-01-2019&code_activite=A
 LP&Itemid=6283">Vers les résultats...</a></li><li>Publications concernant c
 et évènement :<ul><li><a href="https://skivosges.net/index.php?option=com_c
 ontent&view=article&id=6601&Itemid=6283">Dimanche 27 Janvier 2019 à 17:21 :
  Le 27/01/2019 LAC BLANC Résultats</a></li><li><a href="https://skivosges.n
 et/index.php?option=com_content&view=article&id=6594&Itemid=6283">Vendredi 
 25 Janvier 2019 à 22:43 : Le 27/01/2019 LAC BLANC Liste de départs</a></li>
 <li><a href="https://skivosges.net/index.php?option=com_content&view=articl
 e&id=6593&Itemid=6283">Vendredi 25 Janvier 2019 à 22:40 : Le 27/01/2019 LAC
  BLANC Liste de départs</a></li><li><a href="https://skivosges.net/index.ph
 p?option=com_content&view=article&id=6585&Itemid=6283">Jeudi 24 Janvier 201
 9 à 12:04 : Le 27/01/2019 LAC BLANC Informations</a></li></ul></li></ul></d
 iv></div"><!-- #/gskiepreuve fin du dode généré par le plugin jevents pour 
 GskiEpreuves. . Ne pas modifier cette ligne, ni tout le contenu précedant. 
  #/gskiepreuve --> <a href="https://skivosges.net/agenda/export-synchronisa
 tion/detailevenement/1146/-/cjm-coupe-dargent-u14-prix-des-skieurs-de-stras
 bourg?tmpl=component">Cet évènement a été importé depuis :https://skivosges
 .net/agenda/export-synchronisation/detailevenement/1146/-/cjm-coupe-dargent
 -u14-prix-des-skieurs-de-strasbourg?tmpl=component</a>DTSTAMP:20260420T131914
DTSTART;TZID=Europe/Paris;VALUE=DATE:20190127
DTEND;TZID=Europe/Paris;VALUE=DATE:20190128
SEQUENCE:0
TRANSP:OPAQUE
END:VEVENT
END:VCALENDAR