BEGIN:VCALENDAR
VERSION:2.0
PRODID:-//jEvents 2.0 for Joomla//EN
CALSCALE:GREGORIAN
METHOD:PUBLISH
BEGIN:VTIMEZONE
TZID:Europe/Paris
BEGIN:STANDARD
DTSTART:20180201T000000
RDATE:20180325T030000
TZOFFSETFROM:+0200
TZOFFSETTO:+0100
TZNAME:Europe/Paris CET
END:STANDARD
BEGIN:STANDARD
DTSTART:20181028T020000
RDATE:20190331T030000
TZOFFSETFROM:+0200
TZOFFSETTO:+0100
TZNAME:Europe/Paris CET
END:STANDARD
BEGIN:STANDARD
DTSTART:20191027T020000
RDATE:20200329T030000
TZOFFSETFROM:+0200
TZOFFSETTO:+0100
TZNAME:Europe/Paris CET
END:STANDARD
BEGIN:STANDARD
DTSTART:20201025T020000
RDATE:20210328T030000
TZOFFSETFROM:+0200
TZOFFSETTO:+0100
TZNAME:Europe/Paris CET
END:STANDARD
BEGIN:STANDARD
DTSTART:20211031T020000
RDATE:20220327T030000
TZOFFSETFROM:+0200
TZOFFSETTO:+0100
TZNAME:Europe/Paris CET
END:STANDARD
BEGIN:STANDARD
DTSTART:20221030T020000
RDATE:20230326T030000
TZOFFSETFROM:+0200
TZOFFSETTO:+0100
TZNAME:Europe/Paris CET
END:STANDARD
BEGIN:STANDARD
DTSTART:20231029T020000
RDATE:20240331T030000
TZOFFSETFROM:+0200
TZOFFSETTO:+0100
TZNAME:Europe/Paris CET
END:STANDARD
BEGIN:STANDARD
DTSTART:20241027T020000
RDATE:20250330T030000
TZOFFSETFROM:+0200
TZOFFSETTO:+0100
TZNAME:Europe/Paris CET
END:STANDARD
BEGIN:STANDARD
DTSTART:20251026T020000
RDATE:20260329T030000
TZOFFSETFROM:+0200
TZOFFSETTO:+0100
TZNAME:Europe/Paris CET
END:STANDARD
BEGIN:STANDARD
DTSTART:20261025T020000
RDATE:20270328T030000
TZOFFSETFROM:+0200
TZOFFSETTO:+0100
TZNAME:Europe/Paris CET
END:STANDARD
BEGIN:DAYLIGHT
DTSTART:20180325T030000
RDATE:20181028T020000
TZOFFSETFROM:+0100
TZOFFSETTO:+0200
TZNAME:Europe/Paris CEST
END:DAYLIGHT
BEGIN:DAYLIGHT
DTSTART:20190331T030000
RDATE:20191027T020000
TZOFFSETFROM:+0100
TZOFFSETTO:+0200
TZNAME:Europe/Paris CEST
END:DAYLIGHT
BEGIN:DAYLIGHT
DTSTART:20200329T030000
RDATE:20201025T020000
TZOFFSETFROM:+0100
TZOFFSETTO:+0200
TZNAME:Europe/Paris CEST
END:DAYLIGHT
BEGIN:DAYLIGHT
DTSTART:20210328T030000
RDATE:20211031T020000
TZOFFSETFROM:+0100
TZOFFSETTO:+0200
TZNAME:Europe/Paris CEST
END:DAYLIGHT
BEGIN:DAYLIGHT
DTSTART:20220327T030000
RDATE:20221030T020000
TZOFFSETFROM:+0100
TZOFFSETTO:+0200
TZNAME:Europe/Paris CEST
END:DAYLIGHT
BEGIN:DAYLIGHT
DTSTART:20230326T030000
RDATE:20231029T020000
TZOFFSETFROM:+0100
TZOFFSETTO:+0200
TZNAME:Europe/Paris CEST
END:DAYLIGHT
BEGIN:DAYLIGHT
DTSTART:20240331T030000
RDATE:20241027T020000
TZOFFSETFROM:+0100
TZOFFSETTO:+0200
TZNAME:Europe/Paris CEST
END:DAYLIGHT
BEGIN:DAYLIGHT
DTSTART:20250330T030000
RDATE:20251026T020000
TZOFFSETFROM:+0100
TZOFFSETTO:+0200
TZNAME:Europe/Paris CEST
END:DAYLIGHT
BEGIN:DAYLIGHT
DTSTART:20260329T030000
RDATE:20261025T020000
TZOFFSETFROM:+0100
TZOFFSETTO:+0200
TZNAME:Europe/Paris CEST
END:DAYLIGHT
END:VTIMEZONE
BEGIN:VEVENT
UID:9d453d35b55f41fadd01ec726c51ab8b
CATEGORIES:Compétition Biathlon
CREATED:20181114T121858
SUMMARY:Biathlon inter régional
URL;VALUE=URI:https://skivosges.net/agenda/export-synchronisation/detailevenement/1157/-/
 biathlon-inter-regional?tmpl=component
DESCRIPTION:<!-- #gskiepreuve code généré par le plugin jevents pour GskiEpreuves. Ne p
 as modifier cette ligne, ni tout le contenu suivant  #gskiepreuve --><div c
 lass="gski-evenement_infos"><div class="gski-evenement-nom">Biathlon inter 
 régional</div><div class="gski-evenement-report"></div><ul class="gski-even
 ement-liste-infos"><li>Codex évenement BMVT0040</li><li>Organisateur : </li
 ></ul><div class="gski-evenement-infos-2"><div class="gski-evenement-info-i
 nscriptions"><div class="gski-evenement-inscriptions-periodes">Période d'in
 scription à l'evènement du samedi 26 janvier 2019 à 00:00 au jeudi 31 janvi
 er 2019 à 12:00 <span class="gski-evenement-inscriptions-impossibles">(Insc
 riptions impossibles).</span><div class="gski-evenement-inscriptions-types-
 titres">Inscriptions ouvertes aux detenteurs des titres Fédéraux valides su
 ivants : Licenciés Compétiteurs</div></div></div><div class="gski-evenement
 -epreuves"><div class="gski-evenement-epreuves-titres">Epreuves :</div><ul 
 class="gski-evenement-epreuves-list"><li><div class="gski-epreuve-date">Le 
 samedi 02 février 2019</div><ul class="gski-epreuve-liste-infos"><li>Codex 
 épreuve BMVF0041</li><li>Individuel</li><li>Catégorie(s) : U15/U17 (Filles)
 </li></ul></li><li><div class="gski-epreuve-date">Le samedi 02 février 2019
 </div><ul class="gski-epreuve-liste-infos"><li>Codex épreuve BMVM0041</li><
 li>Individuel</li><li>Catégorie(s) : U15/U17 (Garçons)</li></ul></li><li><d
 iv class="gski-epreuve-date">Le samedi 02 février 2019</div><ul class="gski
 -epreuve-liste-infos"><li>Codex épreuve BMVF0042</li><li>Individuel</li><li
 >Catégorie(s) : U17 a SEN (Dames)</li></ul></li><li><div class="gski-epreuv
 e-date">Le samedi 02 février 2019</div><ul class="gski-epreuve-liste-infos"
 ><li>Codex épreuve BMVM0042</li><li>Individuel</li><li>Catégorie(s) : U17 a
  SEN (Hommes)</li></ul></li></ul></div><div class="gskiepreuves-links"><ul>
 <li><a href="/index.php?option=com_jevents&task=icalevent.detail&evid=1152&
 Itemid=6283">Voir les informations dans l'agenda...</a></li></ul></div></di
 v"><!-- #/gskiepreuve fin du dode généré par le plugin jevents pour GskiEpr
 euves. . Ne pas modifier cette ligne, ni tout le contenu précedant.  #/gski
 epreuve --> <a href="https://skivosges.net/agenda/export-synchronisation/de
 tailevenement/1157/-/biathlon-inter-regional?tmpl=component">Cet évènement 
 a été importé depuis :https://skivosges.net/agenda/export-synchronisation/d
 etailevenement/1157/-/biathlon-inter-regional?tmpl=component</a>
X-ALT-DESC;FMTTYPE=text/html:<!-- #gskiepreuve code généré par le plugin jevents pour GskiEpreuves. Ne p
 as modifier cette ligne, ni tout le contenu suivant  #gskiepreuve --><div c
 lass="gski-evenement_infos"><div class="gski-evenement-nom">Biathlon inter 
 régional</div><div class="gski-evenement-report"></div><ul class="gski-even
 ement-liste-infos"><li>Codex évenement BMVT0040</li><li>Organisateur : </li
 ></ul><div class="gski-evenement-infos-2"><div class="gski-evenement-info-i
 nscriptions"><div class="gski-evenement-inscriptions-periodes">Période d'in
 scription à l'evènement du samedi 26 janvier 2019 à 00:00 au jeudi 31 janvi
 er 2019 à 12:00 <span class="gski-evenement-inscriptions-impossibles">(Insc
 riptions impossibles).</span><div class="gski-evenement-inscriptions-types-
 titres">Inscriptions ouvertes aux detenteurs des titres Fédéraux valides su
 ivants : Licenciés Compétiteurs</div></div></div><div class="gski-evenement
 -epreuves"><div class="gski-evenement-epreuves-titres">Epreuves :</div><ul 
 class="gski-evenement-epreuves-list"><li><div class="gski-epreuve-date">Le 
 samedi 02 février 2019</div><ul class="gski-epreuve-liste-infos"><li>Codex 
 épreuve BMVF0041</li><li>Individuel</li><li>Catégorie(s) : U15/U17 (Filles)
 </li></ul></li><li><div class="gski-epreuve-date">Le samedi 02 février 2019
 </div><ul class="gski-epreuve-liste-infos"><li>Codex épreuve BMVM0041</li><
 li>Individuel</li><li>Catégorie(s) : U15/U17 (Garçons)</li></ul></li><li><d
 iv class="gski-epreuve-date">Le samedi 02 février 2019</div><ul class="gski
 -epreuve-liste-infos"><li>Codex épreuve BMVF0042</li><li>Individuel</li><li
 >Catégorie(s) : U17 a SEN (Dames)</li></ul></li><li><div class="gski-epreuv
 e-date">Le samedi 02 février 2019</div><ul class="gski-epreuve-liste-infos"
 ><li>Codex épreuve BMVM0042</li><li>Individuel</li><li>Catégorie(s) : U17 a
  SEN (Hommes)</li></ul></li></ul></div><div class="gskiepreuves-links"><ul>
 <li><a href="https://skivosges.net/index.php?option=com_jevents&task=icalev
 ent.detail&evid=1152&Itemid=6283">Voir les informations dans l'agenda...</a
 ></li></ul></div></div"><!-- #/gskiepreuve fin du dode généré par le plugin
  jevents pour GskiEpreuves. . Ne pas modifier cette ligne, ni tout le conte
 nu précedant.  #/gskiepreuve --> <a href="https://skivosges.net/agenda/expo
 rt-synchronisation/detailevenement/1157/-/biathlon-inter-regional?tmpl=comp
 onent">Cet évènement a été importé depuis :https://skivosges.net/agenda/exp
 ort-synchronisation/detailevenement/1157/-/biathlon-inter-regional?tmpl=com
 ponent</a>DTSTAMP:20260420T185015
DTSTART;TZID=Europe/Paris;VALUE=DATE:20190202
DTEND;TZID=Europe/Paris;VALUE=DATE:20190203
SEQUENCE:0
TRANSP:OPAQUE
END:VEVENT
END:VCALENDAR