BEGIN:VCALENDAR
VERSION:2.0
PRODID:-//jEvents 2.0 for Joomla//EN
CALSCALE:GREGORIAN
METHOD:PUBLISH
BEGIN:VTIMEZONE
TZID:Europe/Paris
BEGIN:STANDARD
DTSTART:20180202T000000
RDATE:20180325T030000
TZOFFSETFROM:+0200
TZOFFSETTO:+0100
TZNAME:Europe/Paris CET
END:STANDARD
BEGIN:STANDARD
DTSTART:20181028T020000
RDATE:20190331T030000
TZOFFSETFROM:+0200
TZOFFSETTO:+0100
TZNAME:Europe/Paris CET
END:STANDARD
BEGIN:STANDARD
DTSTART:20191027T020000
RDATE:20200329T030000
TZOFFSETFROM:+0200
TZOFFSETTO:+0100
TZNAME:Europe/Paris CET
END:STANDARD
BEGIN:STANDARD
DTSTART:20201025T020000
RDATE:20210328T030000
TZOFFSETFROM:+0200
TZOFFSETTO:+0100
TZNAME:Europe/Paris CET
END:STANDARD
BEGIN:STANDARD
DTSTART:20211031T020000
RDATE:20220327T030000
TZOFFSETFROM:+0200
TZOFFSETTO:+0100
TZNAME:Europe/Paris CET
END:STANDARD
BEGIN:STANDARD
DTSTART:20221030T020000
RDATE:20230326T030000
TZOFFSETFROM:+0200
TZOFFSETTO:+0100
TZNAME:Europe/Paris CET
END:STANDARD
BEGIN:STANDARD
DTSTART:20231029T020000
RDATE:20240331T030000
TZOFFSETFROM:+0200
TZOFFSETTO:+0100
TZNAME:Europe/Paris CET
END:STANDARD
BEGIN:STANDARD
DTSTART:20241027T020000
RDATE:20250330T030000
TZOFFSETFROM:+0200
TZOFFSETTO:+0100
TZNAME:Europe/Paris CET
END:STANDARD
BEGIN:STANDARD
DTSTART:20251026T020000
RDATE:20260329T030000
TZOFFSETFROM:+0200
TZOFFSETTO:+0100
TZNAME:Europe/Paris CET
END:STANDARD
BEGIN:STANDARD
DTSTART:20261025T020000
RDATE:20270328T030000
TZOFFSETFROM:+0200
TZOFFSETTO:+0100
TZNAME:Europe/Paris CET
END:STANDARD
BEGIN:DAYLIGHT
DTSTART:20180325T030000
RDATE:20181028T020000
TZOFFSETFROM:+0100
TZOFFSETTO:+0200
TZNAME:Europe/Paris CEST
END:DAYLIGHT
BEGIN:DAYLIGHT
DTSTART:20190331T030000
RDATE:20191027T020000
TZOFFSETFROM:+0100
TZOFFSETTO:+0200
TZNAME:Europe/Paris CEST
END:DAYLIGHT
BEGIN:DAYLIGHT
DTSTART:20200329T030000
RDATE:20201025T020000
TZOFFSETFROM:+0100
TZOFFSETTO:+0200
TZNAME:Europe/Paris CEST
END:DAYLIGHT
BEGIN:DAYLIGHT
DTSTART:20210328T030000
RDATE:20211031T020000
TZOFFSETFROM:+0100
TZOFFSETTO:+0200
TZNAME:Europe/Paris CEST
END:DAYLIGHT
BEGIN:DAYLIGHT
DTSTART:20220327T030000
RDATE:20221030T020000
TZOFFSETFROM:+0100
TZOFFSETTO:+0200
TZNAME:Europe/Paris CEST
END:DAYLIGHT
BEGIN:DAYLIGHT
DTSTART:20230326T030000
RDATE:20231029T020000
TZOFFSETFROM:+0100
TZOFFSETTO:+0200
TZNAME:Europe/Paris CEST
END:DAYLIGHT
BEGIN:DAYLIGHT
DTSTART:20240331T030000
RDATE:20241027T020000
TZOFFSETFROM:+0100
TZOFFSETTO:+0200
TZNAME:Europe/Paris CEST
END:DAYLIGHT
BEGIN:DAYLIGHT
DTSTART:20250330T030000
RDATE:20251026T020000
TZOFFSETFROM:+0100
TZOFFSETTO:+0200
TZNAME:Europe/Paris CEST
END:DAYLIGHT
BEGIN:DAYLIGHT
DTSTART:20260329T030000
RDATE:20261025T020000
TZOFFSETFROM:+0100
TZOFFSETTO:+0200
TZNAME:Europe/Paris CEST
END:DAYLIGHT
END:VTIMEZONE
BEGIN:VEVENT
UID:9f15458e931247c2157865105fcbd866
CATEGORIES:Circuit Massif D2 (alpin)
CREATED:20181114T121858
SUMMARY:CD2 Coupe de la Ville de Belfort
URL;VALUE=URI:https://skivosges.net/agenda/export-synchronisation/detailevenement/1160/-/
 cd2-coupe-de-la-ville-de-belfort?tmpl=component
DESCRIPTION:CD2 Coupe de la Ville de Belfort\n - Codex évenement AMVT0390\n - Station :
  BALLON D'ALSACE\n - Piste : Stade de slalom\n - Organisateur : 14004 STE S
 KI TOURISME MONTAGNE\n - Courriel : RegularLabs.EmailProtector.unCloak("ep_
 a2f1f7ea");\n - Délégué Technique : L'EPINGLE JEAN CLAUDEPériode d'inscript
 ion à l'evènement du dimanche 27 janvier 2019 à 00:00 au vendredi 01 févrie
 r 2019 à 18:00 (Inscriptions impossibles).Inscriptions ouvertes aux detente
 urs des titres Fédéraux valides suivants : Licenciés CompétiteursEpreuves :
 \n - Le dimanche 03 février 2019\n - Codex épreuve AMVM0391\n - Slalom\n - 
 Catégorie(s) : U16 (Garçons)\n - Le dimanche 03 février 2019\n - Codex épre
 uve AMVF0391\n - Slalom\n - Catégorie(s) : U16 (Filles)\n - Le dimanche 03 
 février 2019\n - Codex épreuve AMVM0392\n - Slalom\n - Catégorie(s) : U18 a
  Masters (Hommes)\n - Le dimanche 03 février 2019\n - Codex épreuve AMVF039
 2\n - Slalom\n - Catégorie(s) : U18 a Masters (Dames)\n - Voir les informat
 ions dans l'agenda... (/index.php?option=com_jevents&amp;task=icalevent.det
 ail&amp;evid=1155&amp;Itemid=6283)\n - Vers les résultats... (/index.php?op
 tion=com_gskiepreuves&amp;view=afficheresultats&amp;format_option=tous&amp;
 filter[search]=AMVT0390&amp;filter[date_debut]=03-02-2019&amp;filter[date_f
 in]=03-02-2019&amp;code_activite=ALP&amp;Itemid=6283)\n - Publications conc
 ernant cet évènement :\n - Samedi 2 Février 2019 à 19:56 : Le 03/02/2019 BA
 LLON D'ALSACE Liste de départs\n - Samedi 2 Février 2019 à 19:51 : Le 03/02
 /2019 BALLON D'ALSACE Informations Cet évènement a été importé depuis :http
 s://skivosges.net/agenda/export-synchronisation/detailevenement/1160/-/cd2-
 coupe-de-la-ville-de-belfort?tmpl=component
X-ALT-DESC;FMTTYPE=text/html:<!-- #gskiepreuve code généré par le plugin jevents pour GskiEpreuves. Ne p
 as modifier cette ligne, ni tout le contenu suivant  #gskiepreuve --><div c
 lass="gski-evenement_infos"><div class="gski-evenement-nom">CD2 Coupe de la
  Ville de Belfort</div><div class="gski-evenement-report"></div><ul class="
 gski-evenement-liste-infos"><li>Codex évenement AMVT0390</li><li>Station : 
 BALLON D'ALSACE</li><li>Piste : Stade de slalom</li><li>Organisateur : 1400
 4 STE SKI TOURISME MONTAGNE</li><li>Courriel : <!-- Cette adresse électroni
 que est protégée contre les robots spammeurs. --><span class="cloaked_email
  ep_a2f1f7ea"><span data-ep-b="" data-ep-a="&#106;&#103;&#104;"><span data-
 ep-b="r" data-ep-a="&#64;c&#105;"><span data-ep-b="&#101;.&#102;" data-ep-a
 ="t&#101;&#108;"></span></span></span></span><script>RegularLabs.EmailProte
 ctor.unCloak("ep_a2f1f7ea");</script></li><li><span class="gski-evenement-o
 bs">Délégué Technique : L'EPINGLE JEAN CLAUDE</span></li></ul><div class="g
 ski-evenement-infos-2"><div class="gski-evenement-info-inscriptions"><div c
 lass="gski-evenement-inscriptions-periodes">Période d'inscription à l'evène
 ment du dimanche 27 janvier 2019 à 00:00 au vendredi 01 février 2019 à 18:0
 0 <span class="gski-evenement-inscriptions-impossibles">(Inscriptions impos
 sibles).</span><div class="gski-evenement-inscriptions-types-titres">Inscri
 ptions ouvertes aux detenteurs des titres Fédéraux valides suivants : Licen
 ciés Compétiteurs</div></div></div><div class="gski-evenement-epreuves"><di
 v class="gski-evenement-epreuves-titres">Epreuves :</div><ul class="gski-ev
 enement-epreuves-list"><li><div class="gski-epreuve-date">Le dimanche 03 fé
 vrier 2019</div><ul class="gski-epreuve-liste-infos"><li>Codex épreuve AMVM
 0391</li><li>Slalom</li><li>Catégorie(s) : U16 (Garçons)</li></ul></li><li>
 <div class="gski-epreuve-date">Le dimanche 03 février 2019</div><ul class="
 gski-epreuve-liste-infos"><li>Codex épreuve AMVF0391</li><li>Slalom</li><li
 >Catégorie(s) : U16 (Filles)</li></ul></li><li><div class="gski-epreuve-dat
 e">Le dimanche 03 février 2019</div><ul class="gski-epreuve-liste-infos"><l
 i>Codex épreuve AMVM0392</li><li>Slalom</li><li>Catégorie(s) : U18 a Master
 s (Hommes)</li></ul></li><li><div class="gski-epreuve-date">Le dimanche 03 
 février 2019</div><ul class="gski-epreuve-liste-infos"><li>Codex épreuve AM
 VF0392</li><li>Slalom</li><li>Catégorie(s) : U18 a Masters (Dames)</li></ul
 ></li></ul></div><div class="gskiepreuves-links"><ul><li><a href="https://s
 kivosges.net/index.php?option=com_jevents&task=icalevent.detail&evid=1155&I
 temid=6283">Voir les informations dans l'agenda...</a></li><li><a href="htt
 ps://skivosges.net/index.php?option=com_gskiepreuves&view=afficheresultats&
 format_option=tous&filter[search]=AMVT0390&filter[date_debut]=03-02-2019&fi
 lter[date_fin]=03-02-2019&code_activite=ALP&Itemid=6283">Vers les résultats
 ...</a></li><li>Publications concernant cet évènement :<ul><li><a href="htt
 ps://skivosges.net/index.php?option=com_content&view=article&id=6630&Itemid
 =6283">Samedi 2 Février 2019 à 19:56 : Le 03/02/2019 BALLON D'ALSACE Liste 
 de départs</a></li><li><a href="https://skivosges.net/index.php?option=com_
 content&view=article&id=6629&Itemid=6283">Samedi 2 Février 2019 à 19:51 : L
 e 03/02/2019 BALLON D'ALSACE Informations</a></li></ul></li></ul></div></di
 v"><!-- #/gskiepreuve fin du dode généré par le plugin jevents pour GskiEpr
 euves. . Ne pas modifier cette ligne, ni tout le contenu précedant.  #/gski
 epreuve --> <a href="https://skivosges.net/agenda/export-synchronisation/de
 tailevenement/1160/-/cd2-coupe-de-la-ville-de-belfort?tmpl=component">Cet é
 vènement a été importé depuis :https://skivosges.net/agenda/export-synchron
 isation/detailevenement/1160/-/cd2-coupe-de-la-ville-de-belfort?tmpl=compon
 ent</a>DTSTAMP:20260420T183900
DTSTART;TZID=Europe/Paris;VALUE=DATE:20190203
DTEND;TZID=Europe/Paris;VALUE=DATE:20190204
SEQUENCE:0
TRANSP:OPAQUE
END:VEVENT
END:VCALENDAR