BEGIN:VCALENDAR
VERSION:2.0
PRODID:-//jEvents 2.0 for Joomla//EN
CALSCALE:GREGORIAN
METHOD:PUBLISH
BEGIN:VTIMEZONE
TZID:Europe/Paris
BEGIN:STANDARD
DTSTART:20180208T000000
RDATE:20180325T030000
TZOFFSETFROM:+0200
TZOFFSETTO:+0100
TZNAME:Europe/Paris CET
END:STANDARD
BEGIN:STANDARD
DTSTART:20181028T020000
RDATE:20190331T030000
TZOFFSETFROM:+0200
TZOFFSETTO:+0100
TZNAME:Europe/Paris CET
END:STANDARD
BEGIN:STANDARD
DTSTART:20191027T020000
RDATE:20200329T030000
TZOFFSETFROM:+0200
TZOFFSETTO:+0100
TZNAME:Europe/Paris CET
END:STANDARD
BEGIN:STANDARD
DTSTART:20201025T020000
RDATE:20210328T030000
TZOFFSETFROM:+0200
TZOFFSETTO:+0100
TZNAME:Europe/Paris CET
END:STANDARD
BEGIN:STANDARD
DTSTART:20211031T020000
RDATE:20220327T030000
TZOFFSETFROM:+0200
TZOFFSETTO:+0100
TZNAME:Europe/Paris CET
END:STANDARD
BEGIN:STANDARD
DTSTART:20221030T020000
RDATE:20230326T030000
TZOFFSETFROM:+0200
TZOFFSETTO:+0100
TZNAME:Europe/Paris CET
END:STANDARD
BEGIN:STANDARD
DTSTART:20231029T020000
RDATE:20240331T030000
TZOFFSETFROM:+0200
TZOFFSETTO:+0100
TZNAME:Europe/Paris CET
END:STANDARD
BEGIN:STANDARD
DTSTART:20241027T020000
RDATE:20250330T030000
TZOFFSETFROM:+0200
TZOFFSETTO:+0100
TZNAME:Europe/Paris CET
END:STANDARD
BEGIN:STANDARD
DTSTART:20251026T020000
RDATE:20260329T030000
TZOFFSETFROM:+0200
TZOFFSETTO:+0100
TZNAME:Europe/Paris CET
END:STANDARD
BEGIN:STANDARD
DTSTART:20261025T020000
RDATE:20270328T030000
TZOFFSETFROM:+0200
TZOFFSETTO:+0100
TZNAME:Europe/Paris CET
END:STANDARD
BEGIN:DAYLIGHT
DTSTART:20180325T030000
RDATE:20181028T020000
TZOFFSETFROM:+0100
TZOFFSETTO:+0200
TZNAME:Europe/Paris CEST
END:DAYLIGHT
BEGIN:DAYLIGHT
DTSTART:20190331T030000
RDATE:20191027T020000
TZOFFSETFROM:+0100
TZOFFSETTO:+0200
TZNAME:Europe/Paris CEST
END:DAYLIGHT
BEGIN:DAYLIGHT
DTSTART:20200329T030000
RDATE:20201025T020000
TZOFFSETFROM:+0100
TZOFFSETTO:+0200
TZNAME:Europe/Paris CEST
END:DAYLIGHT
BEGIN:DAYLIGHT
DTSTART:20210328T030000
RDATE:20211031T020000
TZOFFSETFROM:+0100
TZOFFSETTO:+0200
TZNAME:Europe/Paris CEST
END:DAYLIGHT
BEGIN:DAYLIGHT
DTSTART:20220327T030000
RDATE:20221030T020000
TZOFFSETFROM:+0100
TZOFFSETTO:+0200
TZNAME:Europe/Paris CEST
END:DAYLIGHT
BEGIN:DAYLIGHT
DTSTART:20230326T030000
RDATE:20231029T020000
TZOFFSETFROM:+0100
TZOFFSETTO:+0200
TZNAME:Europe/Paris CEST
END:DAYLIGHT
BEGIN:DAYLIGHT
DTSTART:20240331T030000
RDATE:20241027T020000
TZOFFSETFROM:+0100
TZOFFSETTO:+0200
TZNAME:Europe/Paris CEST
END:DAYLIGHT
BEGIN:DAYLIGHT
DTSTART:20250330T030000
RDATE:20251026T020000
TZOFFSETFROM:+0100
TZOFFSETTO:+0200
TZNAME:Europe/Paris CEST
END:DAYLIGHT
BEGIN:DAYLIGHT
DTSTART:20260329T030000
RDATE:20261025T020000
TZOFFSETFROM:+0100
TZOFFSETTO:+0200
TZNAME:Europe/Paris CEST
END:DAYLIGHT
END:VTIMEZONE
BEGIN:VEVENT
UID:6551e8312cfe334cdb7a6a16cb1c2709
CATEGORIES:Opens et Promos (alpin)
CREATED:20181114T121858
SUMMARY:PROMO chpt. Dép.90
URL;VALUE=URI:https://skivosges.net/agenda/export-synchronisation/detailevenement/1167/-/
 promo-chpt-dep-90?tmpl=component
DESCRIPTION:<!-- #gskiepreuve code généré par le plugin jevents pour GskiEpreuves. Ne p
 as modifier cette ligne, ni tout le contenu suivant  #gskiepreuve --><div c
 lass="gski-evenement_infos"><div class="gski-evenement-nom">PROMO chpt. Dép
 .90</div><div class="gski-evenement-report"></div><ul class="gski-evenement
 -liste-infos"><li>Codex évenement AMVT0400</li><li>Station : BALLON D'ALSAC
 E</li><li>Organisateur : 14004 STE SKI TOURISME MONTAGNE</li><li>Courriel :
  <!-- Cette adresse électronique est protégée contre les robots spammeurs. 
 --><span class="cloaked_email ep_8a448784"><span data-ep-a="&#106;&#103;h" 
 data-ep-b=""><span data-ep-b="r" data-ep-a="&#64;&#99;&#105;"><span data-ep
 -b="e&#46;&#102;" data-ep-a="&#116;el"></span></span></span></span><script>
 RegularLabs.EmailProtector.unCloak("ep_8a448784");</script></li><li><span c
 lass="gski-evenement-obs">Délégué Technique : PETER MARTINE</span></li></ul
 ><div class="gski-evenement-infos-2"><div class="gski-evenement-info-inscri
 ptions"><div class="gski-evenement-inscriptions-periodes">Période d'inscrip
 tion à l'evènement du samedi 02 février 2019 à 00:00 au jeudi 07 février 20
 19 à 12:00 <span class="gski-evenement-inscriptions-impossibles">(Inscripti
 ons impossibles).</span><div class="gski-evenement-inscriptions-types-titre
 s">Inscriptions ouvertes aux detenteurs des titres Fédéraux valides suivant
 s : Licenciés Compétiteurs et Titres Loisirs et Dirigeants</div></div></div
 ><div class="gski-evenement-epreuves"><div class="gski-evenement-epreuves-t
 itres">Epreuves :</div><ul class="gski-evenement-epreuves-list"><li><div cl
 ass="gski-epreuve-date">Le samedi 09 février 2019</div><ul class="gski-epre
 uve-liste-infos"><li>Codex épreuve AMVM0401</li><li>Slalom Geant</li><li>Ca
 tégorie(s) : U8/U10 (Garçons)</li></ul></li><li><div class="gski-epreuve-da
 te">Le samedi 09 février 2019</div><ul class="gski-epreuve-liste-infos"><li
 >Codex épreuve AMVF0401</li><li>Slalom Geant</li><li>Catégorie(s) : U8/U10 
 (Filles)</li></ul></li><li><div class="gski-epreuve-date">Le samedi 09 févr
 ier 2019</div><ul class="gski-epreuve-liste-infos"><li>Codex épreuve AMVM04
 02</li><li>Slalom Geant</li><li>Catégorie(s) : U12 (Garçons)</li></ul></li>
 <li><div class="gski-epreuve-date">Le samedi 09 février 2019</div><ul class
 ="gski-epreuve-liste-infos"><li>Codex épreuve AMVF0402</li><li>Slalom Geant
 </li><li>Catégorie(s) : U12 (Filles)</li></ul></li></ul></div><div class="g
 skiepreuves-links"><ul><li><a href="/index.php?option=com_jevents&task=ical
 event.detail&evid=1162&Itemid=6283">Voir les informations dans l'agenda...<
 /a></li><li><a href="/index.php?option=com_gskiepreuves&view=afficheresulta
 ts&format_option=tous&filter[search]=AMVT0400&filter[date_debut]=09-02-2019
 &filter[date_fin]=09-02-2019&code_activite=ALP&Itemid=6283">Vers les résult
 ats...</a></li></ul></div></div"><!-- #/gskiepreuve fin du dode généré par 
 le plugin jevents pour GskiEpreuves. . Ne pas modifier cette ligne, ni tout
  le contenu précedant.  #/gskiepreuve --> <a href="https://skivosges.net/ag
 enda/export-synchronisation/detailevenement/1167/-/promo-chpt-dep-90?tmpl=c
 omponent">Cet évènement a été importé depuis :https://skivosges.net/agenda/
 export-synchronisation/detailevenement/1167/-/promo-chpt-dep-90?tmpl=compon
 ent</a>
X-ALT-DESC;FMTTYPE=text/html:<!-- #gskiepreuve code généré par le plugin jevents pour GskiEpreuves. Ne p
 as modifier cette ligne, ni tout le contenu suivant  #gskiepreuve --><div c
 lass="gski-evenement_infos"><div class="gski-evenement-nom">PROMO chpt. Dép
 .90</div><div class="gski-evenement-report"></div><ul class="gski-evenement
 -liste-infos"><li>Codex évenement AMVT0400</li><li>Station : BALLON D'ALSAC
 E</li><li>Organisateur : 14004 STE SKI TOURISME MONTAGNE</li><li>Courriel :
  <!-- Cette adresse électronique est protégée contre les robots spammeurs. 
 --><span class="cloaked_email ep_8a448784"><span data-ep-a="&#106;&#103;h" 
 data-ep-b=""><span data-ep-b="r" data-ep-a="&#64;&#99;&#105;"><span data-ep
 -b="e&#46;&#102;" data-ep-a="&#116;el"></span></span></span></span><script>
 RegularLabs.EmailProtector.unCloak("ep_8a448784");</script></li><li><span c
 lass="gski-evenement-obs">Délégué Technique : PETER MARTINE</span></li></ul
 ><div class="gski-evenement-infos-2"><div class="gski-evenement-info-inscri
 ptions"><div class="gski-evenement-inscriptions-periodes">Période d'inscrip
 tion à l'evènement du samedi 02 février 2019 à 00:00 au jeudi 07 février 20
 19 à 12:00 <span class="gski-evenement-inscriptions-impossibles">(Inscripti
 ons impossibles).</span><div class="gski-evenement-inscriptions-types-titre
 s">Inscriptions ouvertes aux detenteurs des titres Fédéraux valides suivant
 s : Licenciés Compétiteurs et Titres Loisirs et Dirigeants</div></div></div
 ><div class="gski-evenement-epreuves"><div class="gski-evenement-epreuves-t
 itres">Epreuves :</div><ul class="gski-evenement-epreuves-list"><li><div cl
 ass="gski-epreuve-date">Le samedi 09 février 2019</div><ul class="gski-epre
 uve-liste-infos"><li>Codex épreuve AMVM0401</li><li>Slalom Geant</li><li>Ca
 tégorie(s) : U8/U10 (Garçons)</li></ul></li><li><div class="gski-epreuve-da
 te">Le samedi 09 février 2019</div><ul class="gski-epreuve-liste-infos"><li
 >Codex épreuve AMVF0401</li><li>Slalom Geant</li><li>Catégorie(s) : U8/U10 
 (Filles)</li></ul></li><li><div class="gski-epreuve-date">Le samedi 09 févr
 ier 2019</div><ul class="gski-epreuve-liste-infos"><li>Codex épreuve AMVM04
 02</li><li>Slalom Geant</li><li>Catégorie(s) : U12 (Garçons)</li></ul></li>
 <li><div class="gski-epreuve-date">Le samedi 09 février 2019</div><ul class
 ="gski-epreuve-liste-infos"><li>Codex épreuve AMVF0402</li><li>Slalom Geant
 </li><li>Catégorie(s) : U12 (Filles)</li></ul></li></ul></div><div class="g
 skiepreuves-links"><ul><li><a href="https://skivosges.net/index.php?option=
 com_jevents&task=icalevent.detail&evid=1162&Itemid=6283">Voir les informati
 ons dans l'agenda...</a></li><li><a href="https://skivosges.net/index.php?o
 ption=com_gskiepreuves&view=afficheresultats&format_option=tous&filter[sear
 ch]=AMVT0400&filter[date_debut]=09-02-2019&filter[date_fin]=09-02-2019&code
 _activite=ALP&Itemid=6283">Vers les résultats...</a></li></ul></div></div">
 <!-- #/gskiepreuve fin du dode généré par le plugin jevents pour GskiEpreuv
 es. . Ne pas modifier cette ligne, ni tout le contenu précedant.  #/gskiepr
 euve --> <a href="https://skivosges.net/agenda/export-synchronisation/detai
 levenement/1167/-/promo-chpt-dep-90?tmpl=component">Cet évènement a été imp
 orté depuis :https://skivosges.net/agenda/export-synchronisation/detaileven
 ement/1167/-/promo-chpt-dep-90?tmpl=component</a>DTSTAMP:20260420T221521
DTSTART;TZID=Europe/Paris;VALUE=DATE:20190209
DTEND;TZID=Europe/Paris;VALUE=DATE:20190210
SEQUENCE:0
TRANSP:OPAQUE
END:VEVENT
END:VCALENDAR