BEGIN:VCALENDAR
VERSION:2.0
PRODID:-//jEvents 2.0 for Joomla//EN
CALSCALE:GREGORIAN
METHOD:PUBLISH
BEGIN:VTIMEZONE
TZID:Europe/Paris
BEGIN:STANDARD
DTSTART:20180209T000000
RDATE:20180325T030000
TZOFFSETFROM:+0200
TZOFFSETTO:+0100
TZNAME:Europe/Paris CET
END:STANDARD
BEGIN:STANDARD
DTSTART:20181028T020000
RDATE:20190331T030000
TZOFFSETFROM:+0200
TZOFFSETTO:+0100
TZNAME:Europe/Paris CET
END:STANDARD
BEGIN:STANDARD
DTSTART:20191027T020000
RDATE:20200329T030000
TZOFFSETFROM:+0200
TZOFFSETTO:+0100
TZNAME:Europe/Paris CET
END:STANDARD
BEGIN:STANDARD
DTSTART:20201025T020000
RDATE:20210328T030000
TZOFFSETFROM:+0200
TZOFFSETTO:+0100
TZNAME:Europe/Paris CET
END:STANDARD
BEGIN:STANDARD
DTSTART:20211031T020000
RDATE:20220327T030000
TZOFFSETFROM:+0200
TZOFFSETTO:+0100
TZNAME:Europe/Paris CET
END:STANDARD
BEGIN:STANDARD
DTSTART:20221030T020000
RDATE:20230326T030000
TZOFFSETFROM:+0200
TZOFFSETTO:+0100
TZNAME:Europe/Paris CET
END:STANDARD
BEGIN:STANDARD
DTSTART:20231029T020000
RDATE:20240331T030000
TZOFFSETFROM:+0200
TZOFFSETTO:+0100
TZNAME:Europe/Paris CET
END:STANDARD
BEGIN:STANDARD
DTSTART:20241027T020000
RDATE:20250330T030000
TZOFFSETFROM:+0200
TZOFFSETTO:+0100
TZNAME:Europe/Paris CET
END:STANDARD
BEGIN:STANDARD
DTSTART:20251026T020000
RDATE:20260329T030000
TZOFFSETFROM:+0200
TZOFFSETTO:+0100
TZNAME:Europe/Paris CET
END:STANDARD
BEGIN:STANDARD
DTSTART:20261025T020000
RDATE:20270328T030000
TZOFFSETFROM:+0200
TZOFFSETTO:+0100
TZNAME:Europe/Paris CET
END:STANDARD
BEGIN:DAYLIGHT
DTSTART:20180325T030000
RDATE:20181028T020000
TZOFFSETFROM:+0100
TZOFFSETTO:+0200
TZNAME:Europe/Paris CEST
END:DAYLIGHT
BEGIN:DAYLIGHT
DTSTART:20190331T030000
RDATE:20191027T020000
TZOFFSETFROM:+0100
TZOFFSETTO:+0200
TZNAME:Europe/Paris CEST
END:DAYLIGHT
BEGIN:DAYLIGHT
DTSTART:20200329T030000
RDATE:20201025T020000
TZOFFSETFROM:+0100
TZOFFSETTO:+0200
TZNAME:Europe/Paris CEST
END:DAYLIGHT
BEGIN:DAYLIGHT
DTSTART:20210328T030000
RDATE:20211031T020000
TZOFFSETFROM:+0100
TZOFFSETTO:+0200
TZNAME:Europe/Paris CEST
END:DAYLIGHT
BEGIN:DAYLIGHT
DTSTART:20220327T030000
RDATE:20221030T020000
TZOFFSETFROM:+0100
TZOFFSETTO:+0200
TZNAME:Europe/Paris CEST
END:DAYLIGHT
BEGIN:DAYLIGHT
DTSTART:20230326T030000
RDATE:20231029T020000
TZOFFSETFROM:+0100
TZOFFSETTO:+0200
TZNAME:Europe/Paris CEST
END:DAYLIGHT
BEGIN:DAYLIGHT
DTSTART:20240331T030000
RDATE:20241027T020000
TZOFFSETFROM:+0100
TZOFFSETTO:+0200
TZNAME:Europe/Paris CEST
END:DAYLIGHT
BEGIN:DAYLIGHT
DTSTART:20250330T030000
RDATE:20251026T020000
TZOFFSETFROM:+0100
TZOFFSETTO:+0200
TZNAME:Europe/Paris CEST
END:DAYLIGHT
BEGIN:DAYLIGHT
DTSTART:20260329T030000
RDATE:20261025T020000
TZOFFSETFROM:+0100
TZOFFSETTO:+0200
TZNAME:Europe/Paris CEST
END:DAYLIGHT
END:VTIMEZONE
BEGIN:VEVENT
UID:7cc358f32ee182984ffa34bb69198ab7
CATEGORIES:Circuit Alsace Jeunes (alpin)
CREATED:20181114T121858
SUMMARY:CJA Coupe de Bronze **REPORTE(E) au 17/02/2019**
URL;VALUE=URI:https://skivosges.net/agenda/export-synchronisation/detailevenement/1171/-/
 cja-coupe-de-bronze-reporte-e-au-17-02-2019?tmpl=component
DESCRIPTION:CJA Coupe de Bronze (Epreuve reportée au 17/02/2019)\n - Codex évenement AM
 VT0430\n - Lieu : FEDERALE\n - Station : MARKSTEIN\n - Piste : STADE SERGE 
 LANG\n - Organisateur : 14186 S.C VALLEE DE WESSERLING\n - Courriel : Regul
 arLabs.EmailProtector.unCloak("ep_8623b876");\n - Téléphone : 03 89 82 78 0
 8\n - Délégué Technique : FUCHS MICHELPériode d'inscription à l'evènement d
 u dimanche 03 février 2019 à 23:00 au vendredi 08 février 2019 à 23:00 (Ins
 criptions impossibles).Inscriptions ouvertes aux detenteurs des titres Fédé
 raux valides suivants : Licenciés CompétiteursL'épreuve sera chronometrée a
 vec les résultats publiés en direct (live)Epreuves :\n - Le dimanche 10 fév
 rier 2019 à 10:00\n - Codex épreuve AMVM0431\n - Slalom\n - Catégorie(s) : 
 U8/U10 (Garçons)\n - Le dimanche 10 février 2019\n - Codex épreuve AMVF0431
 \n - Slalom\n - Catégorie(s) : U8/U10 (Filles)\n - Le dimanche 10 février 2
 019\n - Codex épreuve AMVM0432\n - Slalom\n - Catégorie(s) : U12 (Garçons)\
 n - Le dimanche 10 février 2019\n - Codex épreuve AMVF0432\n - Slalom\n - C
 atégorie(s) : U12 (Filles)\n - Le dimanche 10 février 2019\n - Codex épreuv
 e AMVM0433\n - Slalom\n - Catégorie(s) : U14 (Garçons)\n - Le dimanche 10 f
 évrier 2019\n - Codex épreuve AMVF0433\n - Slalom\n - Catégorie(s) : U14 (F
 illes)\n - Voir les informations dans l'agenda... (/index.php?option=com_je
 vents&amp;task=icalevent.detail&amp;evid=1166&amp;Itemid=6283)\n - Vers les
  résultats... (/index.php?option=com_gskiepreuves&amp;view=afficheresultats
 &amp;format_option=tous&amp;filter[search]=AMVT0430&amp;filter[date_debut]=
 17-02-2019&amp;filter[date_fin]=17-02-2019&amp;code_activite=ALP&amp;Itemid
 =6283)\n - Publications concernant cet évènement :\n - Samedi 16 Février 20
 19 à 14:32 : Le 17/02/2019 MARKSTEIN Liste de départs Cet évènement a été i
 mporté depuis :https://skivosges.net/agenda/export-synchronisation/detailev
 enement/1171/-/cja-coupe-de-bronze-reporte-e-au-17-02-2019?tmpl=component
X-ALT-DESC;FMTTYPE=text/html:<!-- #gskiepreuve code généré par le plugin jevents pour GskiEpreuves. Ne p
 as modifier cette ligne, ni tout le contenu suivant  #gskiepreuve --><div c
 lass="gski-evenement_infos"><div class="gski-evenement-nom">CJA Coupe de Br
 onze</div><div class="gski-evenement-report"> <font class="gskiattention">(
 Epreuve reportée au 17/02/2019)</font></div><ul class="gski-evenement-liste
 -infos"><li>Codex évenement AMVT0430</li><li>Lieu : FEDERALE</li><li>Statio
 n : MARKSTEIN</li><li>Piste : STADE SERGE LANG</li><li>Organisateur : 14186
  S.C VALLEE DE WESSERLING</li><li>Courriel : <!-- Cette adresse électroniqu
 e est protégée contre les robots spammeurs. --><span class="cloaked_email e
 p_8623b876"><span data-ep-b="&#109;" data-ep-a="&#115;cv&#119;"><span data-
 ep-b="&#108;&#46;&#99;&#111;" data-ep-a="&#101;s&#115;&#101;"><span data-ep
 -a="&#114;&#108;i&#110;" data-ep-b="&#103;&#64;&#97;o"></span></span></span
 ></span><script>RegularLabs.EmailProtector.unCloak("ep_8623b876");</script>
 </li><li>Téléphone : 03 89 82 78 08</li><li><span class="gski-evenement-obs
 ">Délégué Technique : FUCHS MICHEL</span></li></ul><div class="gski-eveneme
 nt-infos-2"><div class="gski-evenement-info-inscriptions"><div class="gski-
 evenement-inscriptions-periodes">Période d'inscription à l'evènement du dim
 anche 03 février 2019 à 23:00 au vendredi 08 février 2019 à 23:00 <span cla
 ss="gski-evenement-inscriptions-impossibles">(Inscriptions impossibles).</s
 pan><div class="gski-evenement-inscriptions-types-titres">Inscriptions ouve
 rtes aux detenteurs des titres Fédéraux valides suivants : Licenciés Compét
 iteurs</div></div></div><div class="gski-evenement-info-live">L'épreuve ser
 a chronometrée avec les résultats publiés en direct (live)</div><div class=
 "gski-evenement-epreuves"><div class="gski-evenement-epreuves-titres">Epreu
 ves :</div><ul class="gski-evenement-epreuves-list"><li><div class="gski-ep
 reuve-date">Le dimanche 10 février 2019 à 10:00</div><ul class="gski-epreuv
 e-liste-infos"><li>Codex épreuve AMVM0431</li><li>Slalom</li><li>Catégorie(
 s) : U8/U10 (Garçons)</li></ul></li><li><div class="gski-epreuve-date">Le d
 imanche 10 février 2019</div><ul class="gski-epreuve-liste-infos"><li>Codex
  épreuve AMVF0431</li><li>Slalom</li><li>Catégorie(s) : U8/U10 (Filles)</li
 ></ul></li><li><div class="gski-epreuve-date">Le dimanche 10 février 2019</
 div><ul class="gski-epreuve-liste-infos"><li>Codex épreuve AMVM0432</li><li
 >Slalom</li><li>Catégorie(s) : U12 (Garçons)</li></ul></li><li><div class="
 gski-epreuve-date">Le dimanche 10 février 2019</div><ul class="gski-epreuve
 -liste-infos"><li>Codex épreuve AMVF0432</li><li>Slalom</li><li>Catégorie(s
 ) : U12 (Filles)</li></ul></li><li><div class="gski-epreuve-date">Le dimanc
 he 10 février 2019</div><ul class="gski-epreuve-liste-infos"><li>Codex épre
 uve AMVM0433</li><li>Slalom</li><li>Catégorie(s) : U14 (Garçons)</li></ul><
 /li><li><div class="gski-epreuve-date">Le dimanche 10 février 2019</div><ul
  class="gski-epreuve-liste-infos"><li>Codex épreuve AMVF0433</li><li>Slalom
 </li><li>Catégorie(s) : U14 (Filles)</li></ul></li></ul></div><div class="g
 skiepreuves-links"><ul><li><a href="https://skivosges.net/index.php?option=
 com_jevents&task=icalevent.detail&evid=1166&Itemid=6283">Voir les informati
 ons dans l'agenda...</a></li><li><a href="https://skivosges.net/index.php?o
 ption=com_gskiepreuves&view=afficheresultats&format_option=tous&filter[sear
 ch]=AMVT0430&filter[date_debut]=17-02-2019&filter[date_fin]=17-02-2019&code
 _activite=ALP&Itemid=6283">Vers les résultats...</a></li><li>Publications c
 oncernant cet évènement :<ul><li><a href="https://skivosges.net/index.php?o
 ption=com_content&view=article&id=6690&Itemid=6283">Samedi 16 Février 2019 
 à 14:32 : Le 17/02/2019 MARKSTEIN Liste de départs</a></li></ul></li></ul><
 /div></div"><!-- #/gskiepreuve fin du dode généré par le plugin jevents pou
 r GskiEpreuves. . Ne pas modifier cette ligne, ni tout le contenu précedant
 .  #/gskiepreuve --> <a href="https://skivosges.net/agenda/export-synchroni
 sation/detailevenement/1171/-/cja-coupe-de-bronze-reporte-e-au-17-02-2019?t
 mpl=component">Cet évènement a été importé depuis :https://skivosges.net/ag
 enda/export-synchronisation/detailevenement/1171/-/cja-coupe-de-bronze-repo
 rte-e-au-17-02-2019?tmpl=component</a>DTSTAMP:20260420T220844
DTSTART;TZID=Europe/Paris;VALUE=DATE:20190210
DTEND;TZID=Europe/Paris;VALUE=DATE:20190211
SEQUENCE:0
TRANSP:OPAQUE
END:VEVENT
END:VCALENDAR