BEGIN:VCALENDAR
VERSION:2.0
PRODID:-//jEvents 2.0 for Joomla//EN
CALSCALE:GREGORIAN
METHOD:PUBLISH
BEGIN:VTIMEZONE
TZID:Europe/Paris
BEGIN:STANDARD
DTSTART:20180209T000000
RDATE:20180325T030000
TZOFFSETFROM:+0200
TZOFFSETTO:+0100
TZNAME:Europe/Paris CET
END:STANDARD
BEGIN:STANDARD
DTSTART:20181028T020000
RDATE:20190331T030000
TZOFFSETFROM:+0200
TZOFFSETTO:+0100
TZNAME:Europe/Paris CET
END:STANDARD
BEGIN:STANDARD
DTSTART:20191027T020000
RDATE:20200329T030000
TZOFFSETFROM:+0200
TZOFFSETTO:+0100
TZNAME:Europe/Paris CET
END:STANDARD
BEGIN:STANDARD
DTSTART:20201025T020000
RDATE:20210328T030000
TZOFFSETFROM:+0200
TZOFFSETTO:+0100
TZNAME:Europe/Paris CET
END:STANDARD
BEGIN:STANDARD
DTSTART:20211031T020000
RDATE:20220327T030000
TZOFFSETFROM:+0200
TZOFFSETTO:+0100
TZNAME:Europe/Paris CET
END:STANDARD
BEGIN:STANDARD
DTSTART:20221030T020000
RDATE:20230326T030000
TZOFFSETFROM:+0200
TZOFFSETTO:+0100
TZNAME:Europe/Paris CET
END:STANDARD
BEGIN:STANDARD
DTSTART:20231029T020000
RDATE:20240331T030000
TZOFFSETFROM:+0200
TZOFFSETTO:+0100
TZNAME:Europe/Paris CET
END:STANDARD
BEGIN:STANDARD
DTSTART:20241027T020000
RDATE:20250330T030000
TZOFFSETFROM:+0200
TZOFFSETTO:+0100
TZNAME:Europe/Paris CET
END:STANDARD
BEGIN:STANDARD
DTSTART:20251026T020000
RDATE:20260329T030000
TZOFFSETFROM:+0200
TZOFFSETTO:+0100
TZNAME:Europe/Paris CET
END:STANDARD
BEGIN:STANDARD
DTSTART:20261025T020000
RDATE:20270328T030000
TZOFFSETFROM:+0200
TZOFFSETTO:+0100
TZNAME:Europe/Paris CET
END:STANDARD
BEGIN:DAYLIGHT
DTSTART:20180325T030000
RDATE:20181028T020000
TZOFFSETFROM:+0100
TZOFFSETTO:+0200
TZNAME:Europe/Paris CEST
END:DAYLIGHT
BEGIN:DAYLIGHT
DTSTART:20190331T030000
RDATE:20191027T020000
TZOFFSETFROM:+0100
TZOFFSETTO:+0200
TZNAME:Europe/Paris CEST
END:DAYLIGHT
BEGIN:DAYLIGHT
DTSTART:20200329T030000
RDATE:20201025T020000
TZOFFSETFROM:+0100
TZOFFSETTO:+0200
TZNAME:Europe/Paris CEST
END:DAYLIGHT
BEGIN:DAYLIGHT
DTSTART:20210328T030000
RDATE:20211031T020000
TZOFFSETFROM:+0100
TZOFFSETTO:+0200
TZNAME:Europe/Paris CEST
END:DAYLIGHT
BEGIN:DAYLIGHT
DTSTART:20220327T030000
RDATE:20221030T020000
TZOFFSETFROM:+0100
TZOFFSETTO:+0200
TZNAME:Europe/Paris CEST
END:DAYLIGHT
BEGIN:DAYLIGHT
DTSTART:20230326T030000
RDATE:20231029T020000
TZOFFSETFROM:+0100
TZOFFSETTO:+0200
TZNAME:Europe/Paris CEST
END:DAYLIGHT
BEGIN:DAYLIGHT
DTSTART:20240331T030000
RDATE:20241027T020000
TZOFFSETFROM:+0100
TZOFFSETTO:+0200
TZNAME:Europe/Paris CEST
END:DAYLIGHT
BEGIN:DAYLIGHT
DTSTART:20250330T030000
RDATE:20251026T020000
TZOFFSETFROM:+0100
TZOFFSETTO:+0200
TZNAME:Europe/Paris CEST
END:DAYLIGHT
BEGIN:DAYLIGHT
DTSTART:20260329T030000
RDATE:20261025T020000
TZOFFSETFROM:+0100
TZOFFSETTO:+0200
TZNAME:Europe/Paris CEST
END:DAYLIGHT
END:VTIMEZONE
BEGIN:VEVENT
UID:4974281ae190cd28c34499140bdf1b81
CATEGORIES:Opens et Promos (alpin)
CREATED:20181114T121858
SUMMARY:PROMO Dimanche de la Glisse - Prix du SC Hohwald
URL;VALUE=URI:https://skivosges.net/agenda/export-synchronisation/detailevenement/1172/-/
 promo-dimanche-de-la-glisse-prix-du-sc-hohwald?tmpl=component
DESCRIPTION:<!-- #gskiepreuve code généré par le plugin jevents pour GskiEpreuves. Ne p
 as modifier cette ligne, ni tout le contenu suivant  #gskiepreuve --><div c
 lass="gski-evenement_infos"><div class="gski-evenement-nom">PROMO Dimanche 
 de la Glisse - Prix du SC Hohwald</div><div class="gski-evenement-report"><
 /div><ul class="gski-evenement-liste-infos"><li>Codex évenement AMVT0420</l
 i><li>Station : CHAMP DU FEU</li><li>Piste : La Petite Serva</li><li>Organi
 sateur : 14021 SKI CLUB LE HOHWALD</li><li>Courriel : <!-- Cette adresse él
 ectronique est protégée contre les robots spammeurs. --><span class="cloake
 d_email ep_ec10291d"><span data-ep-a="meh" data-ep-b="&#46;f&#114;"><span d
 ata-ep-b="s&#102;r" data-ep-a="&#109;&#101;&#116;"><span data-ep-a="c&#101;
 k" data-ep-b="&#105;c&#64;"></span></span></span></span><script>RegularLabs
 .EmailProtector.unCloak("ep_ec10291d");</script></li></ul><div class="gski-
 evenement-infos-2"><div class="gski-evenement-info-inscriptions"><div class
 ="gski-evenement-inscriptions-periodes">Période d'inscription à l'evènement
  du dimanche 03 février 2019 à 00:00 au samedi 09 février 2019 à 12:00 <spa
 n class="gski-evenement-inscriptions-impossibles">(Inscriptions impossibles
 ).</span><div class="gski-evenement-inscriptions-types-titres">Inscriptions
  ouvertes aux detenteurs des titres Fédéraux valides suivants : Licenciés C
 ompétiteurs et Titres Loisirs et Dirigeants</div></div></div><div class="gs
 ki-evenement-epreuves"><div class="gski-evenement-epreuves-titres">Epreuves
  :</div><ul class="gski-evenement-epreuves-list"><li><div class="gski-epreu
 ve-date">Le dimanche 10 février 2019 à 10:30</div><ul class="gski-epreuve-l
 iste-infos"><li>Codex épreuve AMVM0421</li><li>Slalom Geant</li><li>Catégor
 ie(s) : U8/U10 (Garçons)</li></ul></li><li><div class="gski-epreuve-date">L
 e dimanche 10 février 2019 à 10:30</div><ul class="gski-epreuve-liste-infos
 "><li>Codex épreuve AMVF0421</li><li>Slalom Geant</li><li>Catégorie(s) : U8
 /U10 (Filles)</li></ul></li><li><div class="gski-epreuve-date">Le dimanche 
 10 février 2019 à 10:30</div><ul class="gski-epreuve-liste-infos"><li>Codex
  épreuve AMVM0422</li><li>Slalom Geant</li><li>Catégorie(s) : U12 a U16 (Ga
 rçons)</li></ul></li><li><div class="gski-epreuve-date">Le dimanche 10 févr
 ier 2019 à 10:30</div><ul class="gski-epreuve-liste-infos"><li>Codex épreuv
 e AMVF0422</li><li>Slalom Geant</li><li>Catégorie(s) : U12 a U16 (Filles)</
 li></ul></li></ul></div><div class="gskiepreuves-links"><ul><li><a href="/i
 ndex.php?option=com_jevents&task=icalevent.detail&evid=1167&Itemid=6283">Vo
 ir les informations dans l'agenda...</a></li><li><a href="/index.php?option
 =com_gskiepreuves&view=afficheresultats&format_option=tous&filter[search]=A
 MVT0420&filter[date_debut]=10-02-2019&filter[date_fin]=10-02-2019&code_acti
 vite=ALP&Itemid=6283">Vers les résultats...</a></li></ul></div></div"><!-- 
 #/gskiepreuve fin du dode généré par le plugin jevents pour GskiEpreuves. .
  Ne pas modifier cette ligne, ni tout le contenu précedant.  #/gskiepreuve 
 --> <a href="https://skivosges.net/agenda/export-synchronisation/detaileven
 ement/1172/-/promo-dimanche-de-la-glisse-prix-du-sc-hohwald?tmpl=component"
 >Cet évènement a été importé depuis :https://skivosges.net/agenda/export-sy
 nchronisation/detailevenement/1172/-/promo-dimanche-de-la-glisse-prix-du-sc
 -hohwald?tmpl=component</a>
X-ALT-DESC;FMTTYPE=text/html:<!-- #gskiepreuve code généré par le plugin jevents pour GskiEpreuves. Ne p
 as modifier cette ligne, ni tout le contenu suivant  #gskiepreuve --><div c
 lass="gski-evenement_infos"><div class="gski-evenement-nom">PROMO Dimanche 
 de la Glisse - Prix du SC Hohwald</div><div class="gski-evenement-report"><
 /div><ul class="gski-evenement-liste-infos"><li>Codex évenement AMVT0420</l
 i><li>Station : CHAMP DU FEU</li><li>Piste : La Petite Serva</li><li>Organi
 sateur : 14021 SKI CLUB LE HOHWALD</li><li>Courriel : <!-- Cette adresse él
 ectronique est protégée contre les robots spammeurs. --><span class="cloake
 d_email ep_ec10291d"><span data-ep-a="meh" data-ep-b="&#46;f&#114;"><span d
 ata-ep-b="s&#102;r" data-ep-a="&#109;&#101;&#116;"><span data-ep-a="c&#101;
 k" data-ep-b="&#105;c&#64;"></span></span></span></span><script>RegularLabs
 .EmailProtector.unCloak("ep_ec10291d");</script></li></ul><div class="gski-
 evenement-infos-2"><div class="gski-evenement-info-inscriptions"><div class
 ="gski-evenement-inscriptions-periodes">Période d'inscription à l'evènement
  du dimanche 03 février 2019 à 00:00 au samedi 09 février 2019 à 12:00 <spa
 n class="gski-evenement-inscriptions-impossibles">(Inscriptions impossibles
 ).</span><div class="gski-evenement-inscriptions-types-titres">Inscriptions
  ouvertes aux detenteurs des titres Fédéraux valides suivants : Licenciés C
 ompétiteurs et Titres Loisirs et Dirigeants</div></div></div><div class="gs
 ki-evenement-epreuves"><div class="gski-evenement-epreuves-titres">Epreuves
  :</div><ul class="gski-evenement-epreuves-list"><li><div class="gski-epreu
 ve-date">Le dimanche 10 février 2019 à 10:30</div><ul class="gski-epreuve-l
 iste-infos"><li>Codex épreuve AMVM0421</li><li>Slalom Geant</li><li>Catégor
 ie(s) : U8/U10 (Garçons)</li></ul></li><li><div class="gski-epreuve-date">L
 e dimanche 10 février 2019 à 10:30</div><ul class="gski-epreuve-liste-infos
 "><li>Codex épreuve AMVF0421</li><li>Slalom Geant</li><li>Catégorie(s) : U8
 /U10 (Filles)</li></ul></li><li><div class="gski-epreuve-date">Le dimanche 
 10 février 2019 à 10:30</div><ul class="gski-epreuve-liste-infos"><li>Codex
  épreuve AMVM0422</li><li>Slalom Geant</li><li>Catégorie(s) : U12 a U16 (Ga
 rçons)</li></ul></li><li><div class="gski-epreuve-date">Le dimanche 10 févr
 ier 2019 à 10:30</div><ul class="gski-epreuve-liste-infos"><li>Codex épreuv
 e AMVF0422</li><li>Slalom Geant</li><li>Catégorie(s) : U12 a U16 (Filles)</
 li></ul></li></ul></div><div class="gskiepreuves-links"><ul><li><a href="ht
 tps://skivosges.net/index.php?option=com_jevents&task=icalevent.detail&evid
 =1167&Itemid=6283">Voir les informations dans l'agenda...</a></li><li><a hr
 ef="https://skivosges.net/index.php?option=com_gskiepreuves&view=afficheres
 ultats&format_option=tous&filter[search]=AMVT0420&filter[date_debut]=10-02-
 2019&filter[date_fin]=10-02-2019&code_activite=ALP&Itemid=6283">Vers les ré
 sultats...</a></li></ul></div></div"><!-- #/gskiepreuve fin du dode généré 
 par le plugin jevents pour GskiEpreuves. . Ne pas modifier cette ligne, ni 
 tout le contenu précedant.  #/gskiepreuve --> <a href="https://skivosges.ne
 t/agenda/export-synchronisation/detailevenement/1172/-/promo-dimanche-de-la
 -glisse-prix-du-sc-hohwald?tmpl=component">Cet évènement a été importé depu
 is :https://skivosges.net/agenda/export-synchronisation/detailevenement/117
 2/-/promo-dimanche-de-la-glisse-prix-du-sc-hohwald?tmpl=component</a>DTSTAMP:20260420T193825
DTSTART;TZID=Europe/Paris;VALUE=DATE:20190210
DTEND;TZID=Europe/Paris;VALUE=DATE:20190211
SEQUENCE:0
TRANSP:OPAQUE
END:VEVENT
END:VCALENDAR