BEGIN:VCALENDAR
VERSION:2.0
PRODID:-//jEvents 2.0 for Joomla//EN
CALSCALE:GREGORIAN
METHOD:PUBLISH
BEGIN:VTIMEZONE
TZID:Europe/Paris
BEGIN:STANDARD
DTSTART:20180216T000000
RDATE:20180325T030000
TZOFFSETFROM:+0200
TZOFFSETTO:+0100
TZNAME:Europe/Paris CET
END:STANDARD
BEGIN:STANDARD
DTSTART:20181028T020000
RDATE:20190331T030000
TZOFFSETFROM:+0200
TZOFFSETTO:+0100
TZNAME:Europe/Paris CET
END:STANDARD
BEGIN:STANDARD
DTSTART:20191027T020000
RDATE:20200329T030000
TZOFFSETFROM:+0200
TZOFFSETTO:+0100
TZNAME:Europe/Paris CET
END:STANDARD
BEGIN:STANDARD
DTSTART:20201025T020000
RDATE:20210328T030000
TZOFFSETFROM:+0200
TZOFFSETTO:+0100
TZNAME:Europe/Paris CET
END:STANDARD
BEGIN:STANDARD
DTSTART:20211031T020000
RDATE:20220327T030000
TZOFFSETFROM:+0200
TZOFFSETTO:+0100
TZNAME:Europe/Paris CET
END:STANDARD
BEGIN:STANDARD
DTSTART:20221030T020000
RDATE:20230326T030000
TZOFFSETFROM:+0200
TZOFFSETTO:+0100
TZNAME:Europe/Paris CET
END:STANDARD
BEGIN:STANDARD
DTSTART:20231029T020000
RDATE:20240331T030000
TZOFFSETFROM:+0200
TZOFFSETTO:+0100
TZNAME:Europe/Paris CET
END:STANDARD
BEGIN:STANDARD
DTSTART:20241027T020000
RDATE:20250330T030000
TZOFFSETFROM:+0200
TZOFFSETTO:+0100
TZNAME:Europe/Paris CET
END:STANDARD
BEGIN:STANDARD
DTSTART:20251026T020000
RDATE:20260329T030000
TZOFFSETFROM:+0200
TZOFFSETTO:+0100
TZNAME:Europe/Paris CET
END:STANDARD
BEGIN:STANDARD
DTSTART:20261025T020000
RDATE:20270328T030000
TZOFFSETFROM:+0200
TZOFFSETTO:+0100
TZNAME:Europe/Paris CET
END:STANDARD
BEGIN:DAYLIGHT
DTSTART:20180325T030000
RDATE:20181028T020000
TZOFFSETFROM:+0100
TZOFFSETTO:+0200
TZNAME:Europe/Paris CEST
END:DAYLIGHT
BEGIN:DAYLIGHT
DTSTART:20190331T030000
RDATE:20191027T020000
TZOFFSETFROM:+0100
TZOFFSETTO:+0200
TZNAME:Europe/Paris CEST
END:DAYLIGHT
BEGIN:DAYLIGHT
DTSTART:20200329T030000
RDATE:20201025T020000
TZOFFSETFROM:+0100
TZOFFSETTO:+0200
TZNAME:Europe/Paris CEST
END:DAYLIGHT
BEGIN:DAYLIGHT
DTSTART:20210328T030000
RDATE:20211031T020000
TZOFFSETFROM:+0100
TZOFFSETTO:+0200
TZNAME:Europe/Paris CEST
END:DAYLIGHT
BEGIN:DAYLIGHT
DTSTART:20220327T030000
RDATE:20221030T020000
TZOFFSETFROM:+0100
TZOFFSETTO:+0200
TZNAME:Europe/Paris CEST
END:DAYLIGHT
BEGIN:DAYLIGHT
DTSTART:20230326T030000
RDATE:20231029T020000
TZOFFSETFROM:+0100
TZOFFSETTO:+0200
TZNAME:Europe/Paris CEST
END:DAYLIGHT
BEGIN:DAYLIGHT
DTSTART:20240331T030000
RDATE:20241027T020000
TZOFFSETFROM:+0100
TZOFFSETTO:+0200
TZNAME:Europe/Paris CEST
END:DAYLIGHT
BEGIN:DAYLIGHT
DTSTART:20250330T030000
RDATE:20251026T020000
TZOFFSETFROM:+0100
TZOFFSETTO:+0200
TZNAME:Europe/Paris CEST
END:DAYLIGHT
BEGIN:DAYLIGHT
DTSTART:20260329T030000
RDATE:20261025T020000
TZOFFSETFROM:+0100
TZOFFSETTO:+0200
TZNAME:Europe/Paris CEST
END:DAYLIGHT
END:VTIMEZONE
BEGIN:VEVENT
UID:1d0ff7c9031670f40a88e04435a1532a
CATEGORIES:Compétition Ski de Fond
CREATED:20181114T121859
SUMMARY:Grand Prix de Xonrupt  Big Mat Atomic n°11 Crédit Mutuel n°10
URL;VALUE=URI:https://skivosges.net/agenda/export-synchronisation/detailevenement/1182/-/
 grand-prix-de-xonrupt-big-mat-atomic-n-11-credit-mutuel-n-10?tmpl=component
DESCRIPTION:<!-- #gskiepreuve code généré par le plugin jevents pour GskiEpreuves. Ne p
 as modifier cette ligne, ni tout le contenu suivant  #gskiepreuve --><div c
 lass="gski-evenement_infos"><div class="gski-evenement-nom">Grand Prix de X
 onrupt  Big Mat Atomic n°11 Crédit Mutuel n°10</div><div class="gski-evenem
 ent-report"></div><ul class="gski-evenement-liste-infos"><li>Codex évenemen
 t FMVT0210</li><li>Station : XONRUPT</li><li>Organisateur : 14102 SKI CLUB 
 XONRUPT</li><li>Courriel : <!-- Cette adresse électronique est protégée con
 tre les robots spammeurs. --><span class="cloaked_email ep_a7cd770f"><span 
 data-ep-a="&#114;&#101;&#109;y" data-ep-b="&#109;"><span data-ep-a="al&#97;
 i" data-ep-b="&#108;&#46;&#99;&#111;"><span data-ep-a="&#110;88&#64;" data-
 ep-b="&#103;&#109;&#97;&#105;"></span></span></span></span><script>RegularL
 abs.EmailProtector.unCloak("ep_a7cd770f");</script></li><li><span class="gs
 ki-evenement-obs">Délégué Technique : POIROT ERIC</span></li></ul><div clas
 s="gski-evenement-infos-2"><div class="gski-evenement-info-inscriptions"><d
 iv class="gski-evenement-inscriptions-periodes">Période d'inscription à l'e
 vènement du dimanche 10 février 2019 à 00:00 au vendredi 15 février 2019 à 
 12:00 <span class="gski-evenement-inscriptions-impossibles">(Inscriptions i
 mpossibles).</span><div class="gski-evenement-inscriptions-types-titres">In
 scriptions ouvertes aux detenteurs des titres Fédéraux valides suivants : L
 icenciés Compétiteurs</div></div></div><div class="gski-evenement-epreuves"
 ><div class="gski-evenement-epreuves-titres">Epreuves :</div><ul class="gsk
 i-evenement-epreuves-list"><li><div class="gski-epreuve-date">Le dimanche 1
 7 février 2019</div><ul class="gski-epreuve-liste-infos"><li>Codex épreuve 
 FMVF0211</li><li>Poursuite 2 Jours</li><li>Catégorie(s) : U15 a SEN (Filles
 )</li></ul></li><li><div class="gski-epreuve-date">Le dimanche 17 février 2
 019</div><ul class="gski-epreuve-liste-infos"><li>Codex épreuve FMVM0211</l
 i><li>Poursuite 2 Jours</li><li>Catégorie(s) : U15 a SEN (Garçons)</li></ul
 ></li></ul></div><div class="gskiepreuves-links"><ul><li><a href="/index.ph
 p?option=com_jevents&task=icalevent.detail&evid=1177&Itemid=6283">Voir les 
 informations dans l'agenda...</a></li><li><a href="/index.php?option=com_gs
 kiepreuves&view=afficheresultats&format_option=tous&filter[search]=FMVT0210
 &filter[date_debut]=17-02-2019&filter[date_fin]=17-02-2019&code_activite=FO
 ND&Itemid=6283">Vers les résultats...</a></li><li>Publications concernant c
 et évènement :<ul><li><a href="/index.php?option=com_content&view=article&i
 d=6695&Itemid=6283">Dimanche 17 Février 2019 à 18:53 : Le 17/02/2019 XONRUP
 T Résultats</a></li></ul></li></ul></div></div"><!-- #/gskiepreuve fin du d
 ode généré par le plugin jevents pour GskiEpreuves. . Ne pas modifier cette
  ligne, ni tout le contenu précedant.  #/gskiepreuve --> <a href="https://s
 kivosges.net/agenda/export-synchronisation/detailevenement/1182/-/grand-pri
 x-de-xonrupt-big-mat-atomic-n-11-credit-mutuel-n-10?tmpl=component">Cet évè
 nement a été importé depuis :https://skivosges.net/agenda/export-synchronis
 ation/detailevenement/1182/-/grand-prix-de-xonrupt-big-mat-atomic-n-11-cred
 it-mutuel-n-10?tmpl=component</a>
X-ALT-DESC;FMTTYPE=text/html:<!-- #gskiepreuve code généré par le plugin jevents pour GskiEpreuves. Ne p
 as modifier cette ligne, ni tout le contenu suivant  #gskiepreuve --><div c
 lass="gski-evenement_infos"><div class="gski-evenement-nom">Grand Prix de X
 onrupt  Big Mat Atomic n°11 Crédit Mutuel n°10</div><div class="gski-evenem
 ent-report"></div><ul class="gski-evenement-liste-infos"><li>Codex évenemen
 t FMVT0210</li><li>Station : XONRUPT</li><li>Organisateur : 14102 SKI CLUB 
 XONRUPT</li><li>Courriel : <!-- Cette adresse électronique est protégée con
 tre les robots spammeurs. --><span class="cloaked_email ep_a7cd770f"><span 
 data-ep-a="&#114;&#101;&#109;y" data-ep-b="&#109;"><span data-ep-a="al&#97;
 i" data-ep-b="&#108;&#46;&#99;&#111;"><span data-ep-a="&#110;88&#64;" data-
 ep-b="&#103;&#109;&#97;&#105;"></span></span></span></span><script>RegularL
 abs.EmailProtector.unCloak("ep_a7cd770f");</script></li><li><span class="gs
 ki-evenement-obs">Délégué Technique : POIROT ERIC</span></li></ul><div clas
 s="gski-evenement-infos-2"><div class="gski-evenement-info-inscriptions"><d
 iv class="gski-evenement-inscriptions-periodes">Période d'inscription à l'e
 vènement du dimanche 10 février 2019 à 00:00 au vendredi 15 février 2019 à 
 12:00 <span class="gski-evenement-inscriptions-impossibles">(Inscriptions i
 mpossibles).</span><div class="gski-evenement-inscriptions-types-titres">In
 scriptions ouvertes aux detenteurs des titres Fédéraux valides suivants : L
 icenciés Compétiteurs</div></div></div><div class="gski-evenement-epreuves"
 ><div class="gski-evenement-epreuves-titres">Epreuves :</div><ul class="gsk
 i-evenement-epreuves-list"><li><div class="gski-epreuve-date">Le dimanche 1
 7 février 2019</div><ul class="gski-epreuve-liste-infos"><li>Codex épreuve 
 FMVF0211</li><li>Poursuite 2 Jours</li><li>Catégorie(s) : U15 a SEN (Filles
 )</li></ul></li><li><div class="gski-epreuve-date">Le dimanche 17 février 2
 019</div><ul class="gski-epreuve-liste-infos"><li>Codex épreuve FMVM0211</l
 i><li>Poursuite 2 Jours</li><li>Catégorie(s) : U15 a SEN (Garçons)</li></ul
 ></li></ul></div><div class="gskiepreuves-links"><ul><li><a href="https://s
 kivosges.net/index.php?option=com_jevents&task=icalevent.detail&evid=1177&I
 temid=6283">Voir les informations dans l'agenda...</a></li><li><a href="htt
 ps://skivosges.net/index.php?option=com_gskiepreuves&view=afficheresultats&
 format_option=tous&filter[search]=FMVT0210&filter[date_debut]=17-02-2019&fi
 lter[date_fin]=17-02-2019&code_activite=FOND&Itemid=6283">Vers les résultat
 s...</a></li><li>Publications concernant cet évènement :<ul><li><a href="ht
 tps://skivosges.net/index.php?option=com_content&view=article&id=6695&Itemi
 d=6283">Dimanche 17 Février 2019 à 18:53 : Le 17/02/2019 XONRUPT Résultats<
 /a></li></ul></li></ul></div></div"><!-- #/gskiepreuve fin du dode généré p
 ar le plugin jevents pour GskiEpreuves. . Ne pas modifier cette ligne, ni t
 out le contenu précedant.  #/gskiepreuve --> <a href="https://skivosges.net
 /agenda/export-synchronisation/detailevenement/1182/-/grand-prix-de-xonrupt
 -big-mat-atomic-n-11-credit-mutuel-n-10?tmpl=component">Cet évènement a été
  importé depuis :https://skivosges.net/agenda/export-synchronisation/detail
 evenement/1182/-/grand-prix-de-xonrupt-big-mat-atomic-n-11-credit-mutuel-n-
 10?tmpl=component</a>DTSTAMP:20260420T221525
DTSTART;TZID=Europe/Paris;VALUE=DATE:20190217
DTEND;TZID=Europe/Paris;VALUE=DATE:20190218
SEQUENCE:0
TRANSP:OPAQUE
END:VEVENT
END:VCALENDAR