BEGIN:VCALENDAR
VERSION:2.0
PRODID:-//jEvents 2.0 for Joomla//EN
CALSCALE:GREGORIAN
METHOD:PUBLISH
BEGIN:VTIMEZONE
TZID:Europe/Paris
BEGIN:STANDARD
DTSTART:20180217T000000
RDATE:20180325T030000
TZOFFSETFROM:+0200
TZOFFSETTO:+0100
TZNAME:Europe/Paris CET
END:STANDARD
BEGIN:STANDARD
DTSTART:20181028T020000
RDATE:20190331T030000
TZOFFSETFROM:+0200
TZOFFSETTO:+0100
TZNAME:Europe/Paris CET
END:STANDARD
BEGIN:STANDARD
DTSTART:20191027T020000
RDATE:20200329T030000
TZOFFSETFROM:+0200
TZOFFSETTO:+0100
TZNAME:Europe/Paris CET
END:STANDARD
BEGIN:STANDARD
DTSTART:20201025T020000
RDATE:20210328T030000
TZOFFSETFROM:+0200
TZOFFSETTO:+0100
TZNAME:Europe/Paris CET
END:STANDARD
BEGIN:STANDARD
DTSTART:20211031T020000
RDATE:20220327T030000
TZOFFSETFROM:+0200
TZOFFSETTO:+0100
TZNAME:Europe/Paris CET
END:STANDARD
BEGIN:STANDARD
DTSTART:20221030T020000
RDATE:20230326T030000
TZOFFSETFROM:+0200
TZOFFSETTO:+0100
TZNAME:Europe/Paris CET
END:STANDARD
BEGIN:STANDARD
DTSTART:20231029T020000
RDATE:20240331T030000
TZOFFSETFROM:+0200
TZOFFSETTO:+0100
TZNAME:Europe/Paris CET
END:STANDARD
BEGIN:STANDARD
DTSTART:20241027T020000
RDATE:20250330T030000
TZOFFSETFROM:+0200
TZOFFSETTO:+0100
TZNAME:Europe/Paris CET
END:STANDARD
BEGIN:STANDARD
DTSTART:20251026T020000
RDATE:20260329T030000
TZOFFSETFROM:+0200
TZOFFSETTO:+0100
TZNAME:Europe/Paris CET
END:STANDARD
BEGIN:STANDARD
DTSTART:20261025T020000
RDATE:20270328T030000
TZOFFSETFROM:+0200
TZOFFSETTO:+0100
TZNAME:Europe/Paris CET
END:STANDARD
BEGIN:DAYLIGHT
DTSTART:20180325T030000
RDATE:20181028T020000
TZOFFSETFROM:+0100
TZOFFSETTO:+0200
TZNAME:Europe/Paris CEST
END:DAYLIGHT
BEGIN:DAYLIGHT
DTSTART:20190331T030000
RDATE:20191027T020000
TZOFFSETFROM:+0100
TZOFFSETTO:+0200
TZNAME:Europe/Paris CEST
END:DAYLIGHT
BEGIN:DAYLIGHT
DTSTART:20200329T030000
RDATE:20201025T020000
TZOFFSETFROM:+0100
TZOFFSETTO:+0200
TZNAME:Europe/Paris CEST
END:DAYLIGHT
BEGIN:DAYLIGHT
DTSTART:20210328T030000
RDATE:20211031T020000
TZOFFSETFROM:+0100
TZOFFSETTO:+0200
TZNAME:Europe/Paris CEST
END:DAYLIGHT
BEGIN:DAYLIGHT
DTSTART:20220327T030000
RDATE:20221030T020000
TZOFFSETFROM:+0100
TZOFFSETTO:+0200
TZNAME:Europe/Paris CEST
END:DAYLIGHT
BEGIN:DAYLIGHT
DTSTART:20230326T030000
RDATE:20231029T020000
TZOFFSETFROM:+0100
TZOFFSETTO:+0200
TZNAME:Europe/Paris CEST
END:DAYLIGHT
BEGIN:DAYLIGHT
DTSTART:20240331T030000
RDATE:20241027T020000
TZOFFSETFROM:+0100
TZOFFSETTO:+0200
TZNAME:Europe/Paris CEST
END:DAYLIGHT
BEGIN:DAYLIGHT
DTSTART:20250330T030000
RDATE:20251026T020000
TZOFFSETFROM:+0100
TZOFFSETTO:+0200
TZNAME:Europe/Paris CEST
END:DAYLIGHT
BEGIN:DAYLIGHT
DTSTART:20260329T030000
RDATE:20261025T020000
TZOFFSETFROM:+0100
TZOFFSETTO:+0200
TZNAME:Europe/Paris CEST
END:DAYLIGHT
END:VTIMEZONE
BEGIN:VEVENT
UID:8521f676de9027338c5e589c9139edba
CATEGORIES:Compétition Saut
CREATED:20181114T121859
SUMMARY:Coupe des Vosges
URL;VALUE=URI:https://skivosges.net/agenda/export-synchronisation/detailevenement/1184/-/
 coupe-des-vosges?tmpl=component
DESCRIPTION:<!-- #gskiepreuve code généré par le plugin jevents pour GskiEpreuves. Ne p
 as modifier cette ligne, ni tout le contenu suivant  #gskiepreuve --><div c
 lass="gski-evenement_infos"><div class="gski-evenement-nom">Coupe des Vosge
 s</div><div class="gski-evenement-report"></div><ul class="gski-evenement-l
 iste-infos"><li>Codex évenement TMVT0060</li><li>Station : GERARDMER</li><l
 i>Organisateur : 14469 A.S GERARDMER SKI NORDIQUE</li></ul><div class="gski
 -evenement-infos-2"><div class="gski-evenement-info-inscriptions"><div clas
 s="gski-evenement-inscriptions-periodes">Période d'inscription à l'evènemen
 t du lundi 11 février 2019 à 00:00 au samedi 16 février 2019 à 12:00 <span 
 class="gski-evenement-inscriptions-impossibles">(Inscriptions impossibles).
 </span><div class="gski-evenement-inscriptions-types-titres">Inscriptions o
 uvertes aux detenteurs des titres Fédéraux valides suivants : Licenciés Com
 pétiteurs</div></div></div><div class="gski-evenement-epreuves"><div class=
 "gski-evenement-epreuves-titres">Epreuves :</div><ul class="gski-evenement-
 epreuves-list"><li><div class="gski-epreuve-date">Le lundi 18 février 2019<
 /div><ul class="gski-epreuve-liste-infos"><li>Codex épreuve TMVF0061</li><l
 i>Saut Special</li><li>Catégorie(s) : U7 a U20 (Filles)</li></ul></li><li><
 div class="gski-epreuve-date">Le lundi 18 février 2019</div><ul class="gski
 -epreuve-liste-infos"><li>Codex épreuve TMVM0061</li><li>Saut Special</li><
 li>Catégorie(s) : U7 a U20 (Garçons)</li></ul></li><li><div class="gski-epr
 euve-date">Le lundi 18 février 2019</div><ul class="gski-epreuve-liste-info
 s"><li>Codex épreuve TMVF0062</li><li>Saut Special</li><li>Catégorie(s) : S
 enior (Dames)</li></ul></li><li><div class="gski-epreuve-date">Le lundi 18 
 février 2019</div><ul class="gski-epreuve-liste-infos"><li>Codex épreuve TM
 VM0062</li><li>Saut Special</li><li>Catégorie(s) : Senior (Hommes)</li></ul
 ></li></ul></div><div class="gskiepreuves-links"><ul><li><a href="/index.ph
 p?option=com_jevents&task=icalevent.detail&evid=1179&Itemid=6283">Voir les 
 informations dans l'agenda...</a></li></ul></div></div"><!-- #/gskiepreuve 
 fin du dode généré par le plugin jevents pour GskiEpreuves. . Ne pas modifi
 er cette ligne, ni tout le contenu précedant.  #/gskiepreuve --> <a href="h
 ttps://skivosges.net/agenda/export-synchronisation/detailevenement/1184/-/c
 oupe-des-vosges?tmpl=component">Cet évènement a été importé depuis :https:/
 /skivosges.net/agenda/export-synchronisation/detailevenement/1184/-/coupe-d
 es-vosges?tmpl=component</a>
X-ALT-DESC;FMTTYPE=text/html:<!-- #gskiepreuve code généré par le plugin jevents pour GskiEpreuves. Ne p
 as modifier cette ligne, ni tout le contenu suivant  #gskiepreuve --><div c
 lass="gski-evenement_infos"><div class="gski-evenement-nom">Coupe des Vosge
 s</div><div class="gski-evenement-report"></div><ul class="gski-evenement-l
 iste-infos"><li>Codex évenement TMVT0060</li><li>Station : GERARDMER</li><l
 i>Organisateur : 14469 A.S GERARDMER SKI NORDIQUE</li></ul><div class="gski
 -evenement-infos-2"><div class="gski-evenement-info-inscriptions"><div clas
 s="gski-evenement-inscriptions-periodes">Période d'inscription à l'evènemen
 t du lundi 11 février 2019 à 00:00 au samedi 16 février 2019 à 12:00 <span 
 class="gski-evenement-inscriptions-impossibles">(Inscriptions impossibles).
 </span><div class="gski-evenement-inscriptions-types-titres">Inscriptions o
 uvertes aux detenteurs des titres Fédéraux valides suivants : Licenciés Com
 pétiteurs</div></div></div><div class="gski-evenement-epreuves"><div class=
 "gski-evenement-epreuves-titres">Epreuves :</div><ul class="gski-evenement-
 epreuves-list"><li><div class="gski-epreuve-date">Le lundi 18 février 2019<
 /div><ul class="gski-epreuve-liste-infos"><li>Codex épreuve TMVF0061</li><l
 i>Saut Special</li><li>Catégorie(s) : U7 a U20 (Filles)</li></ul></li><li><
 div class="gski-epreuve-date">Le lundi 18 février 2019</div><ul class="gski
 -epreuve-liste-infos"><li>Codex épreuve TMVM0061</li><li>Saut Special</li><
 li>Catégorie(s) : U7 a U20 (Garçons)</li></ul></li><li><div class="gski-epr
 euve-date">Le lundi 18 février 2019</div><ul class="gski-epreuve-liste-info
 s"><li>Codex épreuve TMVF0062</li><li>Saut Special</li><li>Catégorie(s) : S
 enior (Dames)</li></ul></li><li><div class="gski-epreuve-date">Le lundi 18 
 février 2019</div><ul class="gski-epreuve-liste-infos"><li>Codex épreuve TM
 VM0062</li><li>Saut Special</li><li>Catégorie(s) : Senior (Hommes)</li></ul
 ></li></ul></div><div class="gskiepreuves-links"><ul><li><a href="https://s
 kivosges.net/index.php?option=com_jevents&task=icalevent.detail&evid=1179&I
 temid=6283">Voir les informations dans l'agenda...</a></li></ul></div></div
 "><!-- #/gskiepreuve fin du dode généré par le plugin jevents pour GskiEpre
 uves. . Ne pas modifier cette ligne, ni tout le contenu précedant.  #/gskie
 preuve --> <a href="https://skivosges.net/agenda/export-synchronisation/det
 ailevenement/1184/-/coupe-des-vosges?tmpl=component">Cet évènement a été im
 porté depuis :https://skivosges.net/agenda/export-synchronisation/detaileve
 nement/1184/-/coupe-des-vosges?tmpl=component</a>DTSTAMP:20260420T221523
DTSTART;TZID=Europe/Paris;VALUE=DATE:20190218
DTEND;TZID=Europe/Paris;VALUE=DATE:20190219
SEQUENCE:0
TRANSP:OPAQUE
END:VEVENT
END:VCALENDAR