BEGIN:VCALENDAR
VERSION:2.0
PRODID:-//jEvents 2.0 for Joomla//EN
CALSCALE:GREGORIAN
METHOD:PUBLISH
BEGIN:VTIMEZONE
TZID:Europe/Paris
BEGIN:STANDARD
DTSTART:20180223T000000
RDATE:20180325T030000
TZOFFSETFROM:+0200
TZOFFSETTO:+0100
TZNAME:Europe/Paris CET
END:STANDARD
BEGIN:STANDARD
DTSTART:20181028T020000
RDATE:20190331T030000
TZOFFSETFROM:+0200
TZOFFSETTO:+0100
TZNAME:Europe/Paris CET
END:STANDARD
BEGIN:STANDARD
DTSTART:20191027T020000
RDATE:20200329T030000
TZOFFSETFROM:+0200
TZOFFSETTO:+0100
TZNAME:Europe/Paris CET
END:STANDARD
BEGIN:STANDARD
DTSTART:20201025T020000
RDATE:20210328T030000
TZOFFSETFROM:+0200
TZOFFSETTO:+0100
TZNAME:Europe/Paris CET
END:STANDARD
BEGIN:STANDARD
DTSTART:20211031T020000
RDATE:20220327T030000
TZOFFSETFROM:+0200
TZOFFSETTO:+0100
TZNAME:Europe/Paris CET
END:STANDARD
BEGIN:STANDARD
DTSTART:20221030T020000
RDATE:20230326T030000
TZOFFSETFROM:+0200
TZOFFSETTO:+0100
TZNAME:Europe/Paris CET
END:STANDARD
BEGIN:STANDARD
DTSTART:20231029T020000
RDATE:20240331T030000
TZOFFSETFROM:+0200
TZOFFSETTO:+0100
TZNAME:Europe/Paris CET
END:STANDARD
BEGIN:STANDARD
DTSTART:20241027T020000
RDATE:20250330T030000
TZOFFSETFROM:+0200
TZOFFSETTO:+0100
TZNAME:Europe/Paris CET
END:STANDARD
BEGIN:STANDARD
DTSTART:20251026T020000
RDATE:20260329T030000
TZOFFSETFROM:+0200
TZOFFSETTO:+0100
TZNAME:Europe/Paris CET
END:STANDARD
BEGIN:STANDARD
DTSTART:20261025T020000
RDATE:20270328T030000
TZOFFSETFROM:+0200
TZOFFSETTO:+0100
TZNAME:Europe/Paris CET
END:STANDARD
BEGIN:DAYLIGHT
DTSTART:20180325T030000
RDATE:20181028T020000
TZOFFSETFROM:+0100
TZOFFSETTO:+0200
TZNAME:Europe/Paris CEST
END:DAYLIGHT
BEGIN:DAYLIGHT
DTSTART:20190331T030000
RDATE:20191027T020000
TZOFFSETFROM:+0100
TZOFFSETTO:+0200
TZNAME:Europe/Paris CEST
END:DAYLIGHT
BEGIN:DAYLIGHT
DTSTART:20200329T030000
RDATE:20201025T020000
TZOFFSETFROM:+0100
TZOFFSETTO:+0200
TZNAME:Europe/Paris CEST
END:DAYLIGHT
BEGIN:DAYLIGHT
DTSTART:20210328T030000
RDATE:20211031T020000
TZOFFSETFROM:+0100
TZOFFSETTO:+0200
TZNAME:Europe/Paris CEST
END:DAYLIGHT
BEGIN:DAYLIGHT
DTSTART:20220327T030000
RDATE:20221030T020000
TZOFFSETFROM:+0100
TZOFFSETTO:+0200
TZNAME:Europe/Paris CEST
END:DAYLIGHT
BEGIN:DAYLIGHT
DTSTART:20230326T030000
RDATE:20231029T020000
TZOFFSETFROM:+0100
TZOFFSETTO:+0200
TZNAME:Europe/Paris CEST
END:DAYLIGHT
BEGIN:DAYLIGHT
DTSTART:20240331T030000
RDATE:20241027T020000
TZOFFSETFROM:+0100
TZOFFSETTO:+0200
TZNAME:Europe/Paris CEST
END:DAYLIGHT
BEGIN:DAYLIGHT
DTSTART:20250330T030000
RDATE:20251026T020000
TZOFFSETFROM:+0100
TZOFFSETTO:+0200
TZNAME:Europe/Paris CEST
END:DAYLIGHT
BEGIN:DAYLIGHT
DTSTART:20260329T030000
RDATE:20261025T020000
TZOFFSETFROM:+0100
TZOFFSETTO:+0200
TZNAME:Europe/Paris CEST
END:DAYLIGHT
END:VTIMEZONE
BEGIN:VEVENT
UID:1b1d6e9bce5d394cd905a8866dd96dcb
CATEGORIES:Circuit Lorraine Jeunes (alpin)
CREATED:20181114T121859
SUMMARY:CJL Coupe de Bronze
URL;VALUE=URI:https://skivosges.net/agenda/export-synchronisation/detailevenement/1190/-/
 cjl-coupe-de-bronze?tmpl=component
DESCRIPTION:CJL Coupe de Bronze\n - Codex évenement AMVT0500\n - Lieu : Stade\n - Stati
 on : GERARDMER\n - Organisateur : 14089 GERARDMER SKI ALPIN\n - Courriel : 
 RegularLabs.EmailProtector.unCloak("ep_111f46a7");\n - Téléphone : 03 29 60
  98 04\n - Délégué Technique : MATHIEU MICHELPériode d'inscription à l'evèn
 ement du dimanche 17 février 2019 à 00:00 au vendredi 22 février 2019 à 14:
 00 (Inscriptions impossibles).Inscriptions ouvertes aux detenteurs des titr
 es Fédéraux valides suivants : Licenciés CompétiteursL'épreuve sera chronom
 etrée avec les résultats publiés en direct (live)Epreuves :\n - Le dimanche
  24 février 2019 à 10:00\n - Codex épreuve AMVM0501\n - Slalom Geant\n - Ca
 tégorie(s) : U8/U10 (Garçons)\n - Le dimanche 24 février 2019 à 10:00\n - C
 odex épreuve AMVF0501\n - Slalom Geant\n - Catégorie(s) : U8/U10 (Filles)\n
  - Le dimanche 24 février 2019 à 10:00\n - Codex épreuve AMVM0502\n - Slalo
 m Geant\n - Catégorie(s) : U12 (Garçons)\n - Le dimanche 24 février 2019 à 
 10:00\n - Codex épreuve AMVF0502\n - Slalom Geant\n - Catégorie(s) : U12 (F
 illes)\n - Le dimanche 24 février 2019 à 10:00\n - Codex épreuve AMVM0503\n
  - Slalom Geant\n - Catégorie(s) : U14 (Garçons)\n - Le dimanche 24 février
  2019 à 10:00\n - Codex épreuve AMVF0503\n - Slalom Geant\n - Catégorie(s) 
 : U14 (Filles)\n - Voir les informations dans l'agenda... (/index.php?optio
 n=com_jevents&amp;task=icalevent.detail&amp;evid=1185&amp;Itemid=6283)\n - 
 Vers les résultats... (/index.php?option=com_gskiepreuves&amp;view=afficher
 esultats&amp;format_option=tous&amp;filter[search]=AMVT0500&amp;filter[date
 _debut]=24-02-2019&amp;filter[date_fin]=24-02-2019&amp;code_activite=ALP&am
 p;Itemid=6283)\n - Publications concernant cet évènement :\n - Dimanche 24 
 Février 2019 à 12:47 : Le 24/02/2019 GERARDMER Résultats\n - Vendredi 22 Fé
 vrier 2019 à 15:59 : Le 24/02/2019 GERARDMER Liste de départs Cet évènement
  a été importé depuis :https://skivosges.net/agenda/export-synchronisation/
 detailevenement/1190/-/cjl-coupe-de-bronze?tmpl=component
X-ALT-DESC;FMTTYPE=text/html:<!-- #gskiepreuve code généré par le plugin jevents pour GskiEpreuves. Ne p
 as modifier cette ligne, ni tout le contenu suivant  #gskiepreuve --><div c
 lass="gski-evenement_infos"><div class="gski-evenement-nom">CJL Coupe de Br
 onze</div><div class="gski-evenement-report"></div><ul class="gski-evenemen
 t-liste-infos"><li>Codex évenement AMVT0500</li><li>Lieu : Stade</li><li>St
 ation : GERARDMER</li><li>Organisateur : 14089 GERARDMER SKI ALPIN</li><li>
 Courriel : <!-- Cette adresse électronique est protégée contre les robots s
 pammeurs. --><span class="cloaked_email ep_111f46a7"><span data-ep-a="&#103
 ;&#101;r&#97;r" data-ep-b="&#101;&#46;f&#114;"><span data-ep-b="&#111;&#114
 ;a&#110;&#103;" data-ep-a="&#100;me&#114;&#45;"><span data-ep-a="&#115;&#10
 7;i-a" data-ep-b="l&#112;i&#110;&#64;"></span></span></span></span><script>
 RegularLabs.EmailProtector.unCloak("ep_111f46a7");</script></li><li>Télépho
 ne : 03 29 60 98 04</li><li><span class="gski-evenement-obs">Délégué Techni
 que : MATHIEU MICHEL</span></li></ul><div class="gski-evenement-infos-2"><d
 iv class="gski-evenement-info-inscriptions"><div class="gski-evenement-insc
 riptions-periodes">Période d'inscription à l'evènement du dimanche 17 févri
 er 2019 à 00:00 au vendredi 22 février 2019 à 14:00 <span class="gski-evene
 ment-inscriptions-impossibles">(Inscriptions impossibles).</span><div class
 ="gski-evenement-inscriptions-types-titres">Inscriptions ouvertes aux deten
 teurs des titres Fédéraux valides suivants : Licenciés Compétiteurs</div></
 div></div><div class="gski-evenement-info-live">L'épreuve sera chronometrée
  avec les résultats publiés en direct (live)</div><div class="gski-evenemen
 t-epreuves"><div class="gski-evenement-epreuves-titres">Epreuves :</div><ul
  class="gski-evenement-epreuves-list"><li><div class="gski-epreuve-date">Le
  dimanche 24 février 2019 à 10:00</div><ul class="gski-epreuve-liste-infos"
 ><li>Codex épreuve AMVM0501</li><li>Slalom Geant</li><li>Catégorie(s) : U8/
 U10 (Garçons)</li></ul></li><li><div class="gski-epreuve-date">Le dimanche 
 24 février 2019 à 10:00</div><ul class="gski-epreuve-liste-infos"><li>Codex
  épreuve AMVF0501</li><li>Slalom Geant</li><li>Catégorie(s) : U8/U10 (Fille
 s)</li></ul></li><li><div class="gski-epreuve-date">Le dimanche 24 février 
 2019 à 10:00</div><ul class="gski-epreuve-liste-infos"><li>Codex épreuve AM
 VM0502</li><li>Slalom Geant</li><li>Catégorie(s) : U12 (Garçons)</li></ul><
 /li><li><div class="gski-epreuve-date">Le dimanche 24 février 2019 à 10:00<
 /div><ul class="gski-epreuve-liste-infos"><li>Codex épreuve AMVF0502</li><l
 i>Slalom Geant</li><li>Catégorie(s) : U12 (Filles)</li></ul></li><li><div c
 lass="gski-epreuve-date">Le dimanche 24 février 2019 à 10:00</div><ul class
 ="gski-epreuve-liste-infos"><li>Codex épreuve AMVM0503</li><li>Slalom Geant
 </li><li>Catégorie(s) : U14 (Garçons)</li></ul></li><li><div class="gski-ep
 reuve-date">Le dimanche 24 février 2019 à 10:00</div><ul class="gski-epreuv
 e-liste-infos"><li>Codex épreuve AMVF0503</li><li>Slalom Geant</li><li>Caté
 gorie(s) : U14 (Filles)</li></ul></li></ul></div><div class="gskiepreuves-l
 inks"><ul><li><a href="https://skivosges.net/index.php?option=com_jevents&t
 ask=icalevent.detail&evid=1185&Itemid=6283">Voir les informations dans l'ag
 enda...</a></li><li><a href="https://skivosges.net/index.php?option=com_gsk
 iepreuves&view=afficheresultats&format_option=tous&filter[search]=AMVT0500&
 filter[date_debut]=24-02-2019&filter[date_fin]=24-02-2019&code_activite=ALP
 &Itemid=6283">Vers les résultats...</a></li><li>Publications concernant cet
  évènement :<ul><li><a href="https://skivosges.net/index.php?option=com_con
 tent&view=article&id=6716&Itemid=6283">Dimanche 24 Février 2019 à 12:47 : L
 e 24/02/2019 GERARDMER Résultats</a></li><li><a href="https://skivosges.net
 /index.php?option=com_content&view=article&id=6704&Itemid=6283">Vendredi 22
  Février 2019 à 15:59 : Le 24/02/2019 GERARDMER Liste de départs</a></li></
 ul></li></ul></div></div"><!-- #/gskiepreuve fin du dode généré par le plug
 in jevents pour GskiEpreuves. . Ne pas modifier cette ligne, ni tout le con
 tenu précedant.  #/gskiepreuve --> <a href="https://skivosges.net/agenda/ex
 port-synchronisation/detailevenement/1190/-/cjl-coupe-de-bronze?tmpl=compon
 ent">Cet évènement a été importé depuis :https://skivosges.net/agenda/expor
 t-synchronisation/detailevenement/1190/-/cjl-coupe-de-bronze?tmpl=component
 </a>DTSTAMP:20260421T014347
DTSTART;TZID=Europe/Paris;VALUE=DATE:20190224
DTEND;TZID=Europe/Paris;VALUE=DATE:20190225
SEQUENCE:0
TRANSP:OPAQUE
END:VEVENT
END:VCALENDAR