BEGIN:VCALENDAR
VERSION:2.0
PRODID:-//jEvents 2.0 for Joomla//EN
CALSCALE:GREGORIAN
METHOD:PUBLISH
BEGIN:VTIMEZONE
TZID:Europe/Paris
BEGIN:STANDARD
DTSTART:20130207T080000
RDATE:20130331T030000
TZOFFSETFROM:+0200
TZOFFSETTO:+0100
TZNAME:Europe/Paris CET
END:STANDARD
BEGIN:STANDARD
DTSTART:20131027T020000
RDATE:20140330T030000
TZOFFSETFROM:+0200
TZOFFSETTO:+0100
TZNAME:Europe/Paris CET
END:STANDARD
BEGIN:STANDARD
DTSTART:20141026T020000
RDATE:20150329T030000
TZOFFSETFROM:+0200
TZOFFSETTO:+0100
TZNAME:Europe/Paris CET
END:STANDARD
BEGIN:STANDARD
DTSTART:20151025T020000
RDATE:20160327T030000
TZOFFSETFROM:+0200
TZOFFSETTO:+0100
TZNAME:Europe/Paris CET
END:STANDARD
BEGIN:STANDARD
DTSTART:20161030T020000
RDATE:20170326T030000
TZOFFSETFROM:+0200
TZOFFSETTO:+0100
TZNAME:Europe/Paris CET
END:STANDARD
BEGIN:STANDARD
DTSTART:20171029T020000
RDATE:20180325T030000
TZOFFSETFROM:+0200
TZOFFSETTO:+0100
TZNAME:Europe/Paris CET
END:STANDARD
BEGIN:STANDARD
DTSTART:20181028T020000
RDATE:20190331T030000
TZOFFSETFROM:+0200
TZOFFSETTO:+0100
TZNAME:Europe/Paris CET
END:STANDARD
BEGIN:STANDARD
DTSTART:20191027T020000
RDATE:20200329T030000
TZOFFSETFROM:+0200
TZOFFSETTO:+0100
TZNAME:Europe/Paris CET
END:STANDARD
BEGIN:STANDARD
DTSTART:20201025T020000
RDATE:20210328T030000
TZOFFSETFROM:+0200
TZOFFSETTO:+0100
TZNAME:Europe/Paris CET
END:STANDARD
BEGIN:STANDARD
DTSTART:20211031T020000
RDATE:20220327T030000
TZOFFSETFROM:+0200
TZOFFSETTO:+0100
TZNAME:Europe/Paris CET
END:STANDARD
BEGIN:STANDARD
DTSTART:20221030T020000
RDATE:20230326T030000
TZOFFSETFROM:+0200
TZOFFSETTO:+0100
TZNAME:Europe/Paris CET
END:STANDARD
BEGIN:STANDARD
DTSTART:20231029T020000
RDATE:20240331T030000
TZOFFSETFROM:+0200
TZOFFSETTO:+0100
TZNAME:Europe/Paris CET
END:STANDARD
BEGIN:STANDARD
DTSTART:20241027T020000
RDATE:20250330T030000
TZOFFSETFROM:+0200
TZOFFSETTO:+0100
TZNAME:Europe/Paris CET
END:STANDARD
BEGIN:STANDARD
DTSTART:20251026T020000
RDATE:20260329T030000
TZOFFSETFROM:+0200
TZOFFSETTO:+0100
TZNAME:Europe/Paris CET
END:STANDARD
BEGIN:STANDARD
DTSTART:20261025T020000
RDATE:20270328T030000
TZOFFSETFROM:+0200
TZOFFSETTO:+0100
TZNAME:Europe/Paris CET
END:STANDARD
BEGIN:DAYLIGHT
DTSTART:20130331T030000
RDATE:20131027T020000
TZOFFSETFROM:+0100
TZOFFSETTO:+0200
TZNAME:Europe/Paris CEST
END:DAYLIGHT
BEGIN:DAYLIGHT
DTSTART:20140330T030000
RDATE:20141026T020000
TZOFFSETFROM:+0100
TZOFFSETTO:+0200
TZNAME:Europe/Paris CEST
END:DAYLIGHT
BEGIN:DAYLIGHT
DTSTART:20150329T030000
RDATE:20151025T020000
TZOFFSETFROM:+0100
TZOFFSETTO:+0200
TZNAME:Europe/Paris CEST
END:DAYLIGHT
BEGIN:DAYLIGHT
DTSTART:20160327T030000
RDATE:20161030T020000
TZOFFSETFROM:+0100
TZOFFSETTO:+0200
TZNAME:Europe/Paris CEST
END:DAYLIGHT
BEGIN:DAYLIGHT
DTSTART:20170326T030000
RDATE:20171029T020000
TZOFFSETFROM:+0100
TZOFFSETTO:+0200
TZNAME:Europe/Paris CEST
END:DAYLIGHT
BEGIN:DAYLIGHT
DTSTART:20180325T030000
RDATE:20181028T020000
TZOFFSETFROM:+0100
TZOFFSETTO:+0200
TZNAME:Europe/Paris CEST
END:DAYLIGHT
BEGIN:DAYLIGHT
DTSTART:20190331T030000
RDATE:20191027T020000
TZOFFSETFROM:+0100
TZOFFSETTO:+0200
TZNAME:Europe/Paris CEST
END:DAYLIGHT
BEGIN:DAYLIGHT
DTSTART:20200329T030000
RDATE:20201025T020000
TZOFFSETFROM:+0100
TZOFFSETTO:+0200
TZNAME:Europe/Paris CEST
END:DAYLIGHT
BEGIN:DAYLIGHT
DTSTART:20210328T030000
RDATE:20211031T020000
TZOFFSETFROM:+0100
TZOFFSETTO:+0200
TZNAME:Europe/Paris CEST
END:DAYLIGHT
BEGIN:DAYLIGHT
DTSTART:20220327T030000
RDATE:20221030T020000
TZOFFSETFROM:+0100
TZOFFSETTO:+0200
TZNAME:Europe/Paris CEST
END:DAYLIGHT
BEGIN:DAYLIGHT
DTSTART:20230326T030000
RDATE:20231029T020000
TZOFFSETFROM:+0100
TZOFFSETTO:+0200
TZNAME:Europe/Paris CEST
END:DAYLIGHT
BEGIN:DAYLIGHT
DTSTART:20240331T030000
RDATE:20241027T020000
TZOFFSETFROM:+0100
TZOFFSETTO:+0200
TZNAME:Europe/Paris CEST
END:DAYLIGHT
BEGIN:DAYLIGHT
DTSTART:20250330T030000
RDATE:20251026T020000
TZOFFSETFROM:+0100
TZOFFSETTO:+0200
TZNAME:Europe/Paris CEST
END:DAYLIGHT
BEGIN:DAYLIGHT
DTSTART:20260329T030000
RDATE:20261025T020000
TZOFFSETFROM:+0100
TZOFFSETTO:+0200
TZNAME:Europe/Paris CEST
END:DAYLIGHT
END:VTIMEZONE
BEGIN:VEVENT
UID:568b2483f56a43d0aea3fdb357d30e83
CATEGORIES:Circuit Lorraine Jeunes (alpin)
CREATED:20131203T122100
SUMMARY:CLJ U10 à U14 Prix Groupama / Coupe de Bronze
URL;VALUE=URI:https://skivosges.net/agenda/export-synchronisation/detailevenement/123/-/c
 lj-u10-a-u14-prix-groupama-coupe-de-bronze?tmpl=component
DESCRIPTION:CLJ U10 à U14 Prix Groupama / Coupe de Bronze \n(Coupe de Lorraine Jeunes)\
 n\nLieu : LE VALTIN \nOrganisateur : A.S DU VALTIN  (14409 A.S DU VALTIN)\n
 Email : RegularLabs.EmailProtector.unCloak("ep_33a19ed9");\nTelecopie : 03 
 29 60 98 04\nTelecopie : 03 29 60 98 04\n\nAttention, épreuve en slalom sur
  le haut du tétras à Gérardmer. 1er Départ à 14h\n\nInscriptions closes, le
 s listes de départ sont visualisables sur ce site\n - AMVF0681  Slalom Gean
 t (Coupe de Bronze) U10 Filles\n  CLJ U10 à U14 Prix Groupama / Coupe de Br
 onze\n - AMVM0681  Slalom Geant (Coupe de Bronze) U10 Garçons\n  CLJ U10 à 
 U14 Prix Groupama / Coupe de Bronze\n - AMVF0682  Slalom Geant (Coupe de Br
 onze) de 10 a 13ans au 31/12/2012 (Pou/Ben) Filles\n  CLJ U10 à U14 Prix Gr
 oupama / Coupe de Bronze\n - AMVM0682  Slalom Geant (Coupe de Bronze) de 10
  a 13ans au 31/12/2012 (Pou/Ben) Garçons\n  CLJ U10 à U14 Prix Groupama / C
 oupe de Bronze Cet évènement a été importé depuis :https://skivosges.net/ag
 enda/export-synchronisation/detailevenement/123/-/clj-u10-a-u14-prix-groupa
 ma-coupe-de-bronze?tmpl=component
X-ALT-DESC;FMTTYPE=text/html:<strong>CLJ U10 à U14 Prix Groupama / Coupe de Bronze</strong> <br /><i>(Co
 upe de Lorraine Jeunes)</i><br /><br />Lieu : LE VALTIN <br />Organisateur 
 : A.S DU VALTIN  <small>(14409 A.S DU VALTIN)</small><br />Email : <!-- Cet
 te adresse électronique est protégée contre les robots spammeurs. --><span 
 class="cloaked_email ep_33a19ed9"><span data-ep-b="&#101;&#46;&#102;r" data
 -ep-a="&#103;&#101;&#114;&#97;r"><span data-ep-a="&#100;&#109;e&#114;&#45;"
  data-ep-b="&#111;ra&#110;g"><span data-ep-b="l&#112;&#105;&#110;&#64;" dat
 a-ep-a="&#115;&#107;i&#45;&#97;"></span></span></span></span><script>Regula
 rLabs.EmailProtector.unCloak("ep_33a19ed9");</script><br />Telecopie : 03 2
 9 60 98 04<br />Telecopie : 03 29 60 98 04<br /><br />Attention, épreuve en
  slalom sur le haut du tétras à Gérardmer. 1er Départ à 14h<br /><br />Insc
 riptions closes, les listes de départ sont visualisables sur ce site<ul typ
 e="disc"><li>AMVF0681  Slalom Geant <nobr><i>(Coupe de Bronze)</i></nobr> <
 nobr>U10</nobr> Filles<br />&nbsp;&nbsp;CLJ U10 à U14 Prix Groupama / Coupe
  de Bronze</li><li>AMVM0681  Slalom Geant <nobr><i>(Coupe de Bronze)</i></n
 obr> <nobr>U10</nobr> Garçons<br />&nbsp;&nbsp;CLJ U10 à U14 Prix Groupama 
 / Coupe de Bronze</li><li>AMVF0682  Slalom Geant <nobr><i>(Coupe de Bronze)
 </i></nobr> <nobr>de 10 a 13ans au 31/12/2012 (Pou/Ben)</nobr> Filles<br />
 &nbsp;&nbsp;CLJ U10 à U14 Prix Groupama / Coupe de Bronze</li><li>AMVM0682 
  Slalom Geant <nobr><i>(Coupe de Bronze)</i></nobr> <nobr>de 10 a 13ans au 
 31/12/2012 (Pou/Ben)</nobr> Garçons<br />&nbsp;&nbsp;CLJ U10 à U14 Prix Gro
 upama / Coupe de Bronze</li></ul> <a href="https://skivosges.net/agenda/exp
 ort-synchronisation/detailevenement/123/-/clj-u10-a-u14-prix-groupama-coupe
 -de-bronze?tmpl=component">Cet évènement a été importé depuis :https://skiv
 osges.net/agenda/export-synchronisation/detailevenement/123/-/clj-u10-a-u14
 -prix-groupama-coupe-de-bronze?tmpl=component</a>DTSTAMP:20260421T050737
DTSTART;TZID=Europe/Paris:20140208T080000
DTEND;TZID=Europe/Paris:20140208T170000
SEQUENCE:0
TRANSP:OPAQUE
END:VEVENT
END:VCALENDAR