BEGIN:VCALENDAR
VERSION:2.0
PRODID:-//jEvents 2.0 for Joomla//EN
CALSCALE:GREGORIAN
METHOD:PUBLISH
BEGIN:VTIMEZONE
TZID:Europe/Paris
BEGIN:STANDARD
DTSTART:20180118T000000
RDATE:20180325T030000
TZOFFSETFROM:+0200
TZOFFSETTO:+0100
TZNAME:Europe/Paris CET
END:STANDARD
BEGIN:STANDARD
DTSTART:20181028T020000
RDATE:20190331T030000
TZOFFSETFROM:+0200
TZOFFSETTO:+0100
TZNAME:Europe/Paris CET
END:STANDARD
BEGIN:STANDARD
DTSTART:20191027T020000
RDATE:20200329T030000
TZOFFSETFROM:+0200
TZOFFSETTO:+0100
TZNAME:Europe/Paris CET
END:STANDARD
BEGIN:STANDARD
DTSTART:20201025T020000
RDATE:20210328T030000
TZOFFSETFROM:+0200
TZOFFSETTO:+0100
TZNAME:Europe/Paris CET
END:STANDARD
BEGIN:STANDARD
DTSTART:20211031T020000
RDATE:20220327T030000
TZOFFSETFROM:+0200
TZOFFSETTO:+0100
TZNAME:Europe/Paris CET
END:STANDARD
BEGIN:STANDARD
DTSTART:20221030T020000
RDATE:20230326T030000
TZOFFSETFROM:+0200
TZOFFSETTO:+0100
TZNAME:Europe/Paris CET
END:STANDARD
BEGIN:STANDARD
DTSTART:20231029T020000
RDATE:20240331T030000
TZOFFSETFROM:+0200
TZOFFSETTO:+0100
TZNAME:Europe/Paris CET
END:STANDARD
BEGIN:STANDARD
DTSTART:20241027T020000
RDATE:20250330T030000
TZOFFSETFROM:+0200
TZOFFSETTO:+0100
TZNAME:Europe/Paris CET
END:STANDARD
BEGIN:STANDARD
DTSTART:20251026T020000
RDATE:20260329T030000
TZOFFSETFROM:+0200
TZOFFSETTO:+0100
TZNAME:Europe/Paris CET
END:STANDARD
BEGIN:STANDARD
DTSTART:20261025T020000
RDATE:20270328T030000
TZOFFSETFROM:+0200
TZOFFSETTO:+0100
TZNAME:Europe/Paris CET
END:STANDARD
BEGIN:DAYLIGHT
DTSTART:20180325T030000
RDATE:20181028T020000
TZOFFSETFROM:+0100
TZOFFSETTO:+0200
TZNAME:Europe/Paris CEST
END:DAYLIGHT
BEGIN:DAYLIGHT
DTSTART:20190331T030000
RDATE:20191027T020000
TZOFFSETFROM:+0100
TZOFFSETTO:+0200
TZNAME:Europe/Paris CEST
END:DAYLIGHT
BEGIN:DAYLIGHT
DTSTART:20200329T030000
RDATE:20201025T020000
TZOFFSETFROM:+0100
TZOFFSETTO:+0200
TZNAME:Europe/Paris CEST
END:DAYLIGHT
BEGIN:DAYLIGHT
DTSTART:20210328T030000
RDATE:20211031T020000
TZOFFSETFROM:+0100
TZOFFSETTO:+0200
TZNAME:Europe/Paris CEST
END:DAYLIGHT
BEGIN:DAYLIGHT
DTSTART:20220327T030000
RDATE:20221030T020000
TZOFFSETFROM:+0100
TZOFFSETTO:+0200
TZNAME:Europe/Paris CEST
END:DAYLIGHT
BEGIN:DAYLIGHT
DTSTART:20230326T030000
RDATE:20231029T020000
TZOFFSETFROM:+0100
TZOFFSETTO:+0200
TZNAME:Europe/Paris CEST
END:DAYLIGHT
BEGIN:DAYLIGHT
DTSTART:20240331T030000
RDATE:20241027T020000
TZOFFSETFROM:+0100
TZOFFSETTO:+0200
TZNAME:Europe/Paris CEST
END:DAYLIGHT
BEGIN:DAYLIGHT
DTSTART:20250330T030000
RDATE:20251026T020000
TZOFFSETFROM:+0100
TZOFFSETTO:+0200
TZNAME:Europe/Paris CEST
END:DAYLIGHT
BEGIN:DAYLIGHT
DTSTART:20260329T030000
RDATE:20261025T020000
TZOFFSETFROM:+0100
TZOFFSETTO:+0200
TZNAME:Europe/Paris CEST
END:DAYLIGHT
END:VTIMEZONE
BEGIN:VEVENT
UID:bdb761527e7fffb89a3044399838092d
CATEGORIES:Circuit Massif Jeunes (alpin)
CREATED:20190107T193541
SUMMARY:CJM Coupe d'argent U16 GP Valfleuri Optique Schivy
URL;VALUE=URI:https://skivosges.net/agenda/export-synchronisation/detailevenement/1259/-/
 cjm-coupe-dargent-u16-gp-valfleuri-optique-schivy?tmpl=component
DESCRIPTION:CJM Coupe d'argent U16 GP Valfleuri Optique Schivy (Report de l'épreuve ini
 tialement prévue le 06/01/2019)\n - Codex évenement AMVT0110\n - Station : 
 SCHNEPFENRIED\n - Organisateur : 14140 LES AMIS DE LA NATURE MUNSTER\n - Co
 urriel : RegularLabs.EmailProtector.unCloak("ep_3bf71b4a");Période d'inscri
 ption à l'evènement du samedi 12 janvier 2019 à 00:00 au vendredi 18 janvie
 r 2019 à 18:00 (Inscriptions impossibles).Inscriptions ouvertes aux detente
 urs des titres Fédéraux valides suivants : Licenciés CompétiteursL'épreuve 
 sera chronometrée avec les résultats publiés en direct (live)Epreuves :\n -
  Le samedi 19 janvier 2019 à 09:15\n - Codex épreuve AMVM0111\n - Slalom\n 
 - Catégorie(s) : U16 (Garçons)\n - Le samedi 19 janvier 2019 à 09:15\n - Co
 dex épreuve AMVF0111\n - Slalom\n - Catégorie(s) : U16 (Filles)\n - Voir le
 s informations dans l'agenda... (/index.php?option=com_jevents&amp;task=ica
 levent.detail&amp;evid=1254&amp;Itemid=6283)\n - Vers les résultats... (/in
 dex.php?option=com_gskiepreuves&amp;view=afficheresultats&amp;format_option
 =tous&amp;filter[search]=AMVT0110&amp;filter[date_debut]=19-01-2019&amp;fil
 ter[date_fin]=19-01-2019&amp;code_activite=ALP&amp;Itemid=6283)\n - Publica
 tions concernant cet évènement :\n - Samedi 19 Janvier 2019 à 15:54 : Le 19
 /01/2019 SCHNEPFENRIED Résultats\n - Vendredi 18 Janvier 2019 à 19:21 : Le 
 19/01/2019 SCHNEPFENRIED Liste de départs\n - Lundi 14 Janvier 2019 à 22:38
  : Le 19/01/2019 SCHNEPFENRIED Informations Cet évènement a été importé dep
 uis :https://skivosges.net/agenda/export-synchronisation/detailevenement/12
 59/-/cjm-coupe-dargent-u16-gp-valfleuri-optique-schivy?tmpl=component
X-ALT-DESC;FMTTYPE=text/html:<!-- #gskiepreuve code généré par le plugin jevents pour GskiEpreuves. Ne p
 as modifier cette ligne, ni tout le contenu suivant  #gskiepreuve --><div c
 lass="gski-evenement_infos"><div class="gski-evenement-nom">CJM Coupe d'arg
 ent U16 GP Valfleuri Optique Schivy</div><div class="gski-evenement-report"
 > <font class="gskiattention">(Report de l'épreuve initialement prévue le 0
 6/01/2019)</font></div><ul class="gski-evenement-liste-infos"><li>Codex éve
 nement AMVT0110</li><li>Station : SCHNEPFENRIED</li><li>Organisateur : 1414
 0 LES AMIS DE LA NATURE MUNSTER</li><li>Courriel : <!-- Cette adresse élect
 ronique est protégée contre les robots spammeurs. --><span class="cloaked_e
 mail ep_3bf71b4a"><span data-ep-a="&#112;h&#105;&#108;i" data-ep-b="&#103;&
 #101;&#46;f&#114;"><span data-ep-b="&#64;or&#97;n" data-ep-a="&#112;&#112;e
 &#46;m"><span data-ep-b="&#110;&#100;&#53;&#52;&#55;" data-ep-a="&#97;r&#99
 ;&#104;&#97;"></span></span></span></span><script>RegularLabs.EmailProtecto
 r.unCloak("ep_3bf71b4a");</script></li></ul><div class="gski-evenement-info
 s-2"><div class="gski-evenement-info-inscriptions"><div class="gski-eveneme
 nt-inscriptions-periodes">Période d'inscription à l'evènement du samedi 12 
 janvier 2019 à 00:00 au vendredi 18 janvier 2019 à 18:00 <span class="gski-
 evenement-inscriptions-impossibles">(Inscriptions impossibles).</span><div 
 class="gski-evenement-inscriptions-types-titres">Inscriptions ouvertes aux 
 detenteurs des titres Fédéraux valides suivants : Licenciés Compétiteurs</d
 iv></div></div><div class="gski-evenement-info-live">L'épreuve sera chronom
 etrée avec les résultats publiés en direct (live)</div><div class="gski-eve
 nement-epreuves"><div class="gski-evenement-epreuves-titres">Epreuves :</di
 v><ul class="gski-evenement-epreuves-list"><li><div class="gski-epreuve-dat
 e">Le samedi 19 janvier 2019 à 09:15</div><ul class="gski-epreuve-liste-inf
 os"><li>Codex épreuve AMVM0111</li><li>Slalom</li><li>Catégorie(s) : U16 (G
 arçons)</li></ul></li><li><div class="gski-epreuve-date">Le samedi 19 janvi
 er 2019 à 09:15</div><ul class="gski-epreuve-liste-infos"><li>Codex épreuve
  AMVF0111</li><li>Slalom</li><li>Catégorie(s) : U16 (Filles)</li></ul></li>
 </ul></div><div class="gskiepreuves-links"><ul><li><a href="https://skivosg
 es.net/index.php?option=com_jevents&task=icalevent.detail&evid=1254&Itemid=
 6283">Voir les informations dans l'agenda...</a></li><li><a href="https://s
 kivosges.net/index.php?option=com_gskiepreuves&view=afficheresultats&format
 _option=tous&filter[search]=AMVT0110&filter[date_debut]=19-01-2019&filter[d
 ate_fin]=19-01-2019&code_activite=ALP&Itemid=6283">Vers les résultats...</a
 ></li><li>Publications concernant cet évènement :<ul><li><a href="https://s
 kivosges.net/index.php?option=com_content&view=article&id=6558&Itemid=6283"
 >Samedi 19 Janvier 2019 à 15:54 : Le 19/01/2019 SCHNEPFENRIED Résultats</a>
 </li><li><a href="https://skivosges.net/index.php?option=com_content&view=a
 rticle&id=6553&Itemid=6283">Vendredi 18 Janvier 2019 à 19:21 : Le 19/01/201
 9 SCHNEPFENRIED Liste de départs</a></li><li><a href="https://skivosges.net
 /index.php?option=com_content&view=article&id=6530&Itemid=6283">Lundi 14 Ja
 nvier 2019 à 22:38 : Le 19/01/2019 SCHNEPFENRIED Informations</a></li></ul>
 </li></ul></div></div"><!-- #/gskiepreuve fin du dode généré par le plugin 
 jevents pour GskiEpreuves. . Ne pas modifier cette ligne, ni tout le conten
 u précedant.  #/gskiepreuve --> <a href="https://skivosges.net/agenda/expor
 t-synchronisation/detailevenement/1259/-/cjm-coupe-dargent-u16-gp-valfleuri
 -optique-schivy?tmpl=component">Cet évènement a été importé depuis :https:/
 /skivosges.net/agenda/export-synchronisation/detailevenement/1259/-/cjm-cou
 pe-dargent-u16-gp-valfleuri-optique-schivy?tmpl=component</a>DTSTAMP:20260420T145801
DTSTART;TZID=Europe/Paris;VALUE=DATE:20190119
DTEND;TZID=Europe/Paris;VALUE=DATE:20190120
SEQUENCE:0
TRANSP:OPAQUE
END:VEVENT
END:VCALENDAR