BEGIN:VCALENDAR
VERSION:2.0
PRODID:-//jEvents 2.0 for Joomla//EN
CALSCALE:GREGORIAN
METHOD:PUBLISH
BEGIN:VTIMEZONE
TZID:Europe/Paris
BEGIN:STANDARD
DTSTART:20180222T000000
RDATE:20180325T030000
TZOFFSETFROM:+0200
TZOFFSETTO:+0100
TZNAME:Europe/Paris CET
END:STANDARD
BEGIN:STANDARD
DTSTART:20181028T020000
RDATE:20190331T030000
TZOFFSETFROM:+0200
TZOFFSETTO:+0100
TZNAME:Europe/Paris CET
END:STANDARD
BEGIN:STANDARD
DTSTART:20191027T020000
RDATE:20200329T030000
TZOFFSETFROM:+0200
TZOFFSETTO:+0100
TZNAME:Europe/Paris CET
END:STANDARD
BEGIN:STANDARD
DTSTART:20201025T020000
RDATE:20210328T030000
TZOFFSETFROM:+0200
TZOFFSETTO:+0100
TZNAME:Europe/Paris CET
END:STANDARD
BEGIN:STANDARD
DTSTART:20211031T020000
RDATE:20220327T030000
TZOFFSETFROM:+0200
TZOFFSETTO:+0100
TZNAME:Europe/Paris CET
END:STANDARD
BEGIN:STANDARD
DTSTART:20221030T020000
RDATE:20230326T030000
TZOFFSETFROM:+0200
TZOFFSETTO:+0100
TZNAME:Europe/Paris CET
END:STANDARD
BEGIN:STANDARD
DTSTART:20231029T020000
RDATE:20240331T030000
TZOFFSETFROM:+0200
TZOFFSETTO:+0100
TZNAME:Europe/Paris CET
END:STANDARD
BEGIN:STANDARD
DTSTART:20241027T020000
RDATE:20250330T030000
TZOFFSETFROM:+0200
TZOFFSETTO:+0100
TZNAME:Europe/Paris CET
END:STANDARD
BEGIN:STANDARD
DTSTART:20251026T020000
RDATE:20260329T030000
TZOFFSETFROM:+0200
TZOFFSETTO:+0100
TZNAME:Europe/Paris CET
END:STANDARD
BEGIN:STANDARD
DTSTART:20261025T020000
RDATE:20270328T030000
TZOFFSETFROM:+0200
TZOFFSETTO:+0100
TZNAME:Europe/Paris CET
END:STANDARD
BEGIN:DAYLIGHT
DTSTART:20180325T030000
RDATE:20181028T020000
TZOFFSETFROM:+0100
TZOFFSETTO:+0200
TZNAME:Europe/Paris CEST
END:DAYLIGHT
BEGIN:DAYLIGHT
DTSTART:20190331T030000
RDATE:20191027T020000
TZOFFSETFROM:+0100
TZOFFSETTO:+0200
TZNAME:Europe/Paris CEST
END:DAYLIGHT
BEGIN:DAYLIGHT
DTSTART:20200329T030000
RDATE:20201025T020000
TZOFFSETFROM:+0100
TZOFFSETTO:+0200
TZNAME:Europe/Paris CEST
END:DAYLIGHT
BEGIN:DAYLIGHT
DTSTART:20210328T030000
RDATE:20211031T020000
TZOFFSETFROM:+0100
TZOFFSETTO:+0200
TZNAME:Europe/Paris CEST
END:DAYLIGHT
BEGIN:DAYLIGHT
DTSTART:20220327T030000
RDATE:20221030T020000
TZOFFSETFROM:+0100
TZOFFSETTO:+0200
TZNAME:Europe/Paris CEST
END:DAYLIGHT
BEGIN:DAYLIGHT
DTSTART:20230326T030000
RDATE:20231029T020000
TZOFFSETFROM:+0100
TZOFFSETTO:+0200
TZNAME:Europe/Paris CEST
END:DAYLIGHT
BEGIN:DAYLIGHT
DTSTART:20240331T030000
RDATE:20241027T020000
TZOFFSETFROM:+0100
TZOFFSETTO:+0200
TZNAME:Europe/Paris CEST
END:DAYLIGHT
BEGIN:DAYLIGHT
DTSTART:20250330T030000
RDATE:20251026T020000
TZOFFSETFROM:+0100
TZOFFSETTO:+0200
TZNAME:Europe/Paris CEST
END:DAYLIGHT
BEGIN:DAYLIGHT
DTSTART:20260329T030000
RDATE:20261025T020000
TZOFFSETFROM:+0100
TZOFFSETTO:+0200
TZNAME:Europe/Paris CEST
END:DAYLIGHT
END:VTIMEZONE
BEGIN:VEVENT
UID:25de83fe6e9d6b38844febbeaaa2d4b2
CATEGORIES:Compétition Biathlon
CREATED:20190114T172139
SUMMARY:Promo Biathlon pre Club
URL;VALUE=URI:https://skivosges.net/agenda/export-synchronisation/detailevenement/1261/-/
 promo-biathlon-pre-club?tmpl=component
DESCRIPTION:<!-- #gskiepreuve code généré par le plugin jevents pour GskiEpreuves. Ne p
 as modifier cette ligne, ni tout le contenu suivant  #gskiepreuve --><div c
 lass="gski-evenement_infos"><div class="gski-evenement-nom">Promo Biathlon 
 pre Club</div><div class="gski-evenement-report"></div><ul class="gski-even
 ement-liste-infos"><li>Codex évenement BMVT0060</li><li>Station : GERARDMER
 </li><li>Organisateur : 14469 A.S GERARDMER SKI NORDIQUE</li><li>Courriel :
  <!-- Cette adresse électronique est protégée contre les robots spammeurs. 
 --><span class="cloaked_email ep_2393bc17"><span data-ep-b="&#46;&#102;&#11
 4;" data-ep-a="&#102;r&#97;n"><span data-ep-a="&#99;&#105;&#115;&#46;" data
 -ep-b="&#98;bo&#120;"><span data-ep-b="t&#122;&#121;&#64;" data-ep-a="&#107
 ;&#105;&#101;n"></span></span></span></span><script>RegularLabs.EmailProtec
 tor.unCloak("ep_2393bc17");</script></li></ul><div class="gski-evenement-in
 fos-2"><div class="gski-evenement-info-inscriptions"><div class="gski-evene
 ment-inscriptions-periodes">Période d'inscription à l'evènement du dimanche
  17 février 2019 à 00:00 au jeudi 21 février 2019 à 22:00 <span class="gski
 -evenement-inscriptions-impossibles">(Inscriptions impossibles).</span><div
  class="gski-evenement-inscriptions-types-titres">Inscriptions ouvertes aux
  detenteurs des titres Fédéraux valides suivants : Licenciés Compétiteurs</
 div></div></div><div class="gski-evenement-epreuves"><div class="gski-evene
 ment-epreuves-titres">Epreuves :</div><ul class="gski-evenement-epreuves-li
 st"><li><div class="gski-epreuve-date">Le samedi 23 février 2019</div><ul c
 lass="gski-epreuve-liste-infos"><li>Codex épreuve BMVF0061</li><li>Sprint</
 li><li>Catégorie(s) : U11 (Filles)</li></ul></li><li><div class="gski-epreu
 ve-date">Le samedi 23 février 2019</div><ul class="gski-epreuve-liste-infos
 "><li>Codex épreuve BMVM0061</li><li>Sprint</li><li>Catégorie(s) : U11 (Gar
 çons)</li></ul></li><li><div class="gski-epreuve-date">Le samedi 23 février
  2019</div><ul class="gski-epreuve-liste-infos"><li>Codex épreuve BMVF0062<
 /li><li>Sprint</li><li>Catégorie(s) : U13/U15 (Filles)</li></ul></li><li><d
 iv class="gski-epreuve-date">Le samedi 23 février 2019</div><ul class="gski
 -epreuve-liste-infos"><li>Codex épreuve BMVM0062</li><li>Sprint</li><li>Cat
 égorie(s) : U13/U15 (Garçons)</li></ul></li></ul></div><div class="gskiepre
 uves-links"><ul><li><a href="/index.php?option=com_jevents&task=icalevent.d
 etail&evid=1256&Itemid=6283">Voir les informations dans l'agenda...</a></li
 ></ul></div></div"><!-- #/gskiepreuve fin du dode généré par le plugin jeve
 nts pour GskiEpreuves. . Ne pas modifier cette ligne, ni tout le contenu pr
 écedant.  #/gskiepreuve --> <a href="https://skivosges.net/agenda/export-sy
 nchronisation/detailevenement/1261/-/promo-biathlon-pre-club?tmpl=component
 ">Cet évènement a été importé depuis :https://skivosges.net/agenda/export-s
 ynchronisation/detailevenement/1261/-/promo-biathlon-pre-club?tmpl=componen
 t</a>
X-ALT-DESC;FMTTYPE=text/html:<!-- #gskiepreuve code généré par le plugin jevents pour GskiEpreuves. Ne p
 as modifier cette ligne, ni tout le contenu suivant  #gskiepreuve --><div c
 lass="gski-evenement_infos"><div class="gski-evenement-nom">Promo Biathlon 
 pre Club</div><div class="gski-evenement-report"></div><ul class="gski-even
 ement-liste-infos"><li>Codex évenement BMVT0060</li><li>Station : GERARDMER
 </li><li>Organisateur : 14469 A.S GERARDMER SKI NORDIQUE</li><li>Courriel :
  <!-- Cette adresse électronique est protégée contre les robots spammeurs. 
 --><span class="cloaked_email ep_2393bc17"><span data-ep-b="&#46;&#102;&#11
 4;" data-ep-a="&#102;r&#97;n"><span data-ep-a="&#99;&#105;&#115;&#46;" data
 -ep-b="&#98;bo&#120;"><span data-ep-b="t&#122;&#121;&#64;" data-ep-a="&#107
 ;&#105;&#101;n"></span></span></span></span><script>RegularLabs.EmailProtec
 tor.unCloak("ep_2393bc17");</script></li></ul><div class="gski-evenement-in
 fos-2"><div class="gski-evenement-info-inscriptions"><div class="gski-evene
 ment-inscriptions-periodes">Période d'inscription à l'evènement du dimanche
  17 février 2019 à 00:00 au jeudi 21 février 2019 à 22:00 <span class="gski
 -evenement-inscriptions-impossibles">(Inscriptions impossibles).</span><div
  class="gski-evenement-inscriptions-types-titres">Inscriptions ouvertes aux
  detenteurs des titres Fédéraux valides suivants : Licenciés Compétiteurs</
 div></div></div><div class="gski-evenement-epreuves"><div class="gski-evene
 ment-epreuves-titres">Epreuves :</div><ul class="gski-evenement-epreuves-li
 st"><li><div class="gski-epreuve-date">Le samedi 23 février 2019</div><ul c
 lass="gski-epreuve-liste-infos"><li>Codex épreuve BMVF0061</li><li>Sprint</
 li><li>Catégorie(s) : U11 (Filles)</li></ul></li><li><div class="gski-epreu
 ve-date">Le samedi 23 février 2019</div><ul class="gski-epreuve-liste-infos
 "><li>Codex épreuve BMVM0061</li><li>Sprint</li><li>Catégorie(s) : U11 (Gar
 çons)</li></ul></li><li><div class="gski-epreuve-date">Le samedi 23 février
  2019</div><ul class="gski-epreuve-liste-infos"><li>Codex épreuve BMVF0062<
 /li><li>Sprint</li><li>Catégorie(s) : U13/U15 (Filles)</li></ul></li><li><d
 iv class="gski-epreuve-date">Le samedi 23 février 2019</div><ul class="gski
 -epreuve-liste-infos"><li>Codex épreuve BMVM0062</li><li>Sprint</li><li>Cat
 égorie(s) : U13/U15 (Garçons)</li></ul></li></ul></div><div class="gskiepre
 uves-links"><ul><li><a href="https://skivosges.net/index.php?option=com_jev
 ents&task=icalevent.detail&evid=1256&Itemid=6283">Voir les informations dan
 s l'agenda...</a></li></ul></div></div"><!-- #/gskiepreuve fin du dode géné
 ré par le plugin jevents pour GskiEpreuves. . Ne pas modifier cette ligne, 
 ni tout le contenu précedant.  #/gskiepreuve --> <a href="https://skivosges
 .net/agenda/export-synchronisation/detailevenement/1261/-/promo-biathlon-pr
 e-club?tmpl=component">Cet évènement a été importé depuis :https://skivosge
 s.net/agenda/export-synchronisation/detailevenement/1261/-/promo-biathlon-p
 re-club?tmpl=component</a>DTSTAMP:20260420T131847
DTSTART;TZID=Europe/Paris;VALUE=DATE:20190223
DTEND;TZID=Europe/Paris;VALUE=DATE:20190224
SEQUENCE:0
TRANSP:OPAQUE
END:VEVENT
END:VCALENDAR