BEGIN:VCALENDAR
VERSION:2.0
PRODID:-//jEvents 2.0 for Joomla//EN
CALSCALE:GREGORIAN
METHOD:PUBLISH
BEGIN:VTIMEZONE
TZID:Europe/Paris
BEGIN:STANDARD
DTSTART:20180119T000000
RDATE:20180325T030000
TZOFFSETFROM:+0200
TZOFFSETTO:+0100
TZNAME:Europe/Paris CET
END:STANDARD
BEGIN:STANDARD
DTSTART:20181028T020000
RDATE:20190331T030000
TZOFFSETFROM:+0200
TZOFFSETTO:+0100
TZNAME:Europe/Paris CET
END:STANDARD
BEGIN:STANDARD
DTSTART:20191027T020000
RDATE:20200329T030000
TZOFFSETFROM:+0200
TZOFFSETTO:+0100
TZNAME:Europe/Paris CET
END:STANDARD
BEGIN:STANDARD
DTSTART:20201025T020000
RDATE:20210328T030000
TZOFFSETFROM:+0200
TZOFFSETTO:+0100
TZNAME:Europe/Paris CET
END:STANDARD
BEGIN:STANDARD
DTSTART:20211031T020000
RDATE:20220327T030000
TZOFFSETFROM:+0200
TZOFFSETTO:+0100
TZNAME:Europe/Paris CET
END:STANDARD
BEGIN:STANDARD
DTSTART:20221030T020000
RDATE:20230326T030000
TZOFFSETFROM:+0200
TZOFFSETTO:+0100
TZNAME:Europe/Paris CET
END:STANDARD
BEGIN:STANDARD
DTSTART:20231029T020000
RDATE:20240331T030000
TZOFFSETFROM:+0200
TZOFFSETTO:+0100
TZNAME:Europe/Paris CET
END:STANDARD
BEGIN:STANDARD
DTSTART:20241027T020000
RDATE:20250330T030000
TZOFFSETFROM:+0200
TZOFFSETTO:+0100
TZNAME:Europe/Paris CET
END:STANDARD
BEGIN:STANDARD
DTSTART:20251026T020000
RDATE:20260329T030000
TZOFFSETFROM:+0200
TZOFFSETTO:+0100
TZNAME:Europe/Paris CET
END:STANDARD
BEGIN:STANDARD
DTSTART:20261025T020000
RDATE:20270328T030000
TZOFFSETFROM:+0200
TZOFFSETTO:+0100
TZNAME:Europe/Paris CET
END:STANDARD
BEGIN:DAYLIGHT
DTSTART:20180325T030000
RDATE:20181028T020000
TZOFFSETFROM:+0100
TZOFFSETTO:+0200
TZNAME:Europe/Paris CEST
END:DAYLIGHT
BEGIN:DAYLIGHT
DTSTART:20190331T030000
RDATE:20191027T020000
TZOFFSETFROM:+0100
TZOFFSETTO:+0200
TZNAME:Europe/Paris CEST
END:DAYLIGHT
BEGIN:DAYLIGHT
DTSTART:20200329T030000
RDATE:20201025T020000
TZOFFSETFROM:+0100
TZOFFSETTO:+0200
TZNAME:Europe/Paris CEST
END:DAYLIGHT
BEGIN:DAYLIGHT
DTSTART:20210328T030000
RDATE:20211031T020000
TZOFFSETFROM:+0100
TZOFFSETTO:+0200
TZNAME:Europe/Paris CEST
END:DAYLIGHT
BEGIN:DAYLIGHT
DTSTART:20220327T030000
RDATE:20221030T020000
TZOFFSETFROM:+0100
TZOFFSETTO:+0200
TZNAME:Europe/Paris CEST
END:DAYLIGHT
BEGIN:DAYLIGHT
DTSTART:20230326T030000
RDATE:20231029T020000
TZOFFSETFROM:+0100
TZOFFSETTO:+0200
TZNAME:Europe/Paris CEST
END:DAYLIGHT
BEGIN:DAYLIGHT
DTSTART:20240331T030000
RDATE:20241027T020000
TZOFFSETFROM:+0100
TZOFFSETTO:+0200
TZNAME:Europe/Paris CEST
END:DAYLIGHT
BEGIN:DAYLIGHT
DTSTART:20250330T030000
RDATE:20251026T020000
TZOFFSETFROM:+0100
TZOFFSETTO:+0200
TZNAME:Europe/Paris CEST
END:DAYLIGHT
BEGIN:DAYLIGHT
DTSTART:20260329T030000
RDATE:20261025T020000
TZOFFSETFROM:+0100
TZOFFSETTO:+0200
TZNAME:Europe/Paris CEST
END:DAYLIGHT
END:VTIMEZONE
BEGIN:VEVENT
UID:d1a07eff9e14997bc00935bb82faec97
CATEGORIES:Circuit Massif D2 (alpin)
CREATED:20190116T091032
SUMMARY:CD2 Mémorial Michel Mangel **REPORTE(E) au 17/02/2019**
URL;VALUE=URI:https://skivosges.net/agenda/export-synchronisation/detailevenement/1262/-/
 cd2-memorial-michel-mangel-reporte-e-au-17-02-2019?tmpl=component
DESCRIPTION:CD2 Mémorial Michel Mangel (Report de l'épreuve initialement prévue le 13/0
 1/2019) (Epreuve reportée au 17/02/2019)\n - Codex évenement AMVT0180\n - S
 tation : ROUGE GAZON\n - Organisateur : 14063 SKIEURS DE ST MAURICE/MOSELLE
 \n - Courriel : RegularLabs.EmailProtector.unCloak("ep_a9bad81c");\n - Délé
 gué Technique : CLAUDEL RENEPériode d'inscription à l'evènement du dimanche
  13 janvier 2019 à 00:00 au vendredi 18 janvier 2019 à 19:00 (Inscriptions 
 impossibles).Inscriptions ouvertes aux detenteurs des titres Fédéraux valid
 es suivants : Licenciés CompétiteursEpreuves :\n - Le dimanche 20 janvier 2
 019\n - Codex épreuve AMVM0181\n - Slalom\n - Catégorie(s) : U16 (Garçons)\
 n - Le dimanche 20 janvier 2019\n - Codex épreuve AMVF0181\n - Slalom\n - C
 atégorie(s) : U16 (Filles)\n - Le dimanche 20 janvier 2019\n - Codex épreuv
 e AMVF0182\n - Slalom\n - Catégorie(s) : U18 a Masters (Dames)\n - Le diman
 che 20 janvier 2019\n - Codex épreuve AMVM0182\n - Slalom\n - Catégorie(s) 
 : U18 a Masters (Hommes)\n - Voir les informations dans l'agenda... (/index
 .php?option=com_jevents&amp;task=icalevent.detail&amp;evid=1257&amp;Itemid=
 6283)\n - Vers les résultats... (/index.php?option=com_gskiepreuves&amp;vie
 w=afficheresultats&amp;format_option=tous&amp;filter[search]=AMVT0180&amp;f
 ilter[date_debut]=17-02-2019&amp;filter[date_fin]=17-02-2019&amp;code_activ
 ite=ALP&amp;Itemid=6283)\n - Publications concernant cet évènement :\n - Di
 manche 17 Février 2019 à 18:24 : Le 17/02/2019 ROUGE GAZON Résultats\n - Ve
 ndredi 15 Février 2019 à 18:52 : Le 17/02/2019 ROUGE GAZON Liste de départs
 \n - Jeudi 10 Janvier 2019 à 15:48 : Le 13/01/2019 ROUGE GAZON Informations
  Cet évènement a été importé depuis :https://skivosges.net/agenda/export-sy
 nchronisation/detailevenement/1262/-/cd2-memorial-michel-mangel-reporte-e-a
 u-17-02-2019?tmpl=component
X-ALT-DESC;FMTTYPE=text/html:<!-- #gskiepreuve code généré par le plugin jevents pour GskiEpreuves. Ne p
 as modifier cette ligne, ni tout le contenu suivant  #gskiepreuve --><div c
 lass="gski-evenement_infos"><div class="gski-evenement-nom">CD2 Mémorial Mi
 chel Mangel</div><div class="gski-evenement-report"> <font class="gskiatten
 tion">(Report de l'épreuve initialement prévue le 13/01/2019)</font> <font 
 class="gskiattention">(Epreuve reportée au 17/02/2019)</font></div><ul clas
 s="gski-evenement-liste-infos"><li>Codex évenement AMVT0180</li><li>Station
  : ROUGE GAZON</li><li>Organisateur : 14063 SKIEURS DE ST MAURICE/MOSELLE</
 li><li>Courriel : <!-- Cette adresse électronique est protégée contre les r
 obots spammeurs. --><span class="cloaked_email ep_a9bad81c"><span data-ep-a
 ="d&#97;&#110;&#105;" data-ep-b=""><span data-ep-b="&#114;&#46;f&#114;" dat
 a-ep-a="&#101;&#108;.&#109;"><span data-ep-b="&#53;&#64;&#115;&#102;" data-
 ep-a="&#111;&#114;&#101;&#108;"></span></span></span></span><script>Regular
 Labs.EmailProtector.unCloak("ep_a9bad81c");</script></li><li><span class="g
 ski-evenement-obs">Délégué Technique : CLAUDEL RENE</span></li></ul><div cl
 ass="gski-evenement-infos-2"><div class="gski-evenement-info-inscriptions">
 <div class="gski-evenement-inscriptions-periodes">Période d'inscription à l
 'evènement du dimanche 13 janvier 2019 à 00:00 au vendredi 18 janvier 2019 
 à 19:00 <span class="gski-evenement-inscriptions-impossibles">(Inscriptions
  impossibles).</span><div class="gski-evenement-inscriptions-types-titres">
 Inscriptions ouvertes aux detenteurs des titres Fédéraux valides suivants :
  Licenciés Compétiteurs</div></div></div><div class="gski-evenement-epreuve
 s"><div class="gski-evenement-epreuves-titres">Epreuves :</div><ul class="g
 ski-evenement-epreuves-list"><li><div class="gski-epreuve-date">Le dimanche
  20 janvier 2019</div><ul class="gski-epreuve-liste-infos"><li>Codex épreuv
 e AMVM0181</li><li>Slalom</li><li>Catégorie(s) : U16 (Garçons)</li></ul></l
 i><li><div class="gski-epreuve-date">Le dimanche 20 janvier 2019</div><ul c
 lass="gski-epreuve-liste-infos"><li>Codex épreuve AMVF0181</li><li>Slalom</
 li><li>Catégorie(s) : U16 (Filles)</li></ul></li><li><div class="gski-epreu
 ve-date">Le dimanche 20 janvier 2019</div><ul class="gski-epreuve-liste-inf
 os"><li>Codex épreuve AMVF0182</li><li>Slalom</li><li>Catégorie(s) : U18 a 
 Masters (Dames)</li></ul></li><li><div class="gski-epreuve-date">Le dimanch
 e 20 janvier 2019</div><ul class="gski-epreuve-liste-infos"><li>Codex épreu
 ve AMVM0182</li><li>Slalom</li><li>Catégorie(s) : U18 a Masters (Hommes)</l
 i></ul></li></ul></div><div class="gskiepreuves-links"><ul><li><a href="htt
 ps://skivosges.net/index.php?option=com_jevents&task=icalevent.detail&evid=
 1257&Itemid=6283">Voir les informations dans l'agenda...</a></li><li><a hre
 f="https://skivosges.net/index.php?option=com_gskiepreuves&view=afficheresu
 ltats&format_option=tous&filter[search]=AMVT0180&filter[date_debut]=17-02-2
 019&filter[date_fin]=17-02-2019&code_activite=ALP&Itemid=6283">Vers les rés
 ultats...</a></li><li>Publications concernant cet évènement :<ul><li><a hre
 f="https://skivosges.net/index.php?option=com_content&view=article&id=6693&
 Itemid=6283">Dimanche 17 Février 2019 à 18:24 : Le 17/02/2019 ROUGE GAZON R
 ésultats</a></li><li><a href="https://skivosges.net/index.php?option=com_co
 ntent&view=article&id=6686&Itemid=6283">Vendredi 15 Février 2019 à 18:52 : 
 Le 17/02/2019 ROUGE GAZON Liste de départs</a></li><li><a href="https://ski
 vosges.net/index.php?option=com_content&view=article&id=6501&Itemid=6283">J
 eudi 10 Janvier 2019 à 15:48 : Le 13/01/2019 ROUGE GAZON Informations</a></
 li></ul></li></ul></div></div"><!-- #/gskiepreuve fin du dode généré par le
  plugin jevents pour GskiEpreuves. . Ne pas modifier cette ligne, ni tout l
 e contenu précedant.  #/gskiepreuve --> <a href="https://skivosges.net/agen
 da/export-synchronisation/detailevenement/1262/-/cd2-memorial-michel-mangel
 -reporte-e-au-17-02-2019?tmpl=component">Cet évènement a été importé depuis
  :https://skivosges.net/agenda/export-synchronisation/detailevenement/1262/
 -/cd2-memorial-michel-mangel-reporte-e-au-17-02-2019?tmpl=component</a>DTSTAMP:20260420T145951
DTSTART;TZID=Europe/Paris;VALUE=DATE:20190120
DTEND;TZID=Europe/Paris;VALUE=DATE:20190121
SEQUENCE:0
TRANSP:OPAQUE
END:VEVENT
END:VCALENDAR