BEGIN:VCALENDAR
VERSION:2.0
PRODID:-//jEvents 2.0 for Joomla//EN
CALSCALE:GREGORIAN
METHOD:PUBLISH
BEGIN:VTIMEZONE
TZID:Europe/Paris
BEGIN:STANDARD
DTSTART:20130208T080000
RDATE:20130331T030000
TZOFFSETFROM:+0200
TZOFFSETTO:+0100
TZNAME:Europe/Paris CET
END:STANDARD
BEGIN:STANDARD
DTSTART:20131027T020000
RDATE:20140330T030000
TZOFFSETFROM:+0200
TZOFFSETTO:+0100
TZNAME:Europe/Paris CET
END:STANDARD
BEGIN:STANDARD
DTSTART:20141026T020000
RDATE:20150329T030000
TZOFFSETFROM:+0200
TZOFFSETTO:+0100
TZNAME:Europe/Paris CET
END:STANDARD
BEGIN:STANDARD
DTSTART:20151025T020000
RDATE:20160327T030000
TZOFFSETFROM:+0200
TZOFFSETTO:+0100
TZNAME:Europe/Paris CET
END:STANDARD
BEGIN:STANDARD
DTSTART:20161030T020000
RDATE:20170326T030000
TZOFFSETFROM:+0200
TZOFFSETTO:+0100
TZNAME:Europe/Paris CET
END:STANDARD
BEGIN:STANDARD
DTSTART:20171029T020000
RDATE:20180325T030000
TZOFFSETFROM:+0200
TZOFFSETTO:+0100
TZNAME:Europe/Paris CET
END:STANDARD
BEGIN:STANDARD
DTSTART:20181028T020000
RDATE:20190331T030000
TZOFFSETFROM:+0200
TZOFFSETTO:+0100
TZNAME:Europe/Paris CET
END:STANDARD
BEGIN:STANDARD
DTSTART:20191027T020000
RDATE:20200329T030000
TZOFFSETFROM:+0200
TZOFFSETTO:+0100
TZNAME:Europe/Paris CET
END:STANDARD
BEGIN:STANDARD
DTSTART:20201025T020000
RDATE:20210328T030000
TZOFFSETFROM:+0200
TZOFFSETTO:+0100
TZNAME:Europe/Paris CET
END:STANDARD
BEGIN:STANDARD
DTSTART:20211031T020000
RDATE:20220327T030000
TZOFFSETFROM:+0200
TZOFFSETTO:+0100
TZNAME:Europe/Paris CET
END:STANDARD
BEGIN:STANDARD
DTSTART:20221030T020000
RDATE:20230326T030000
TZOFFSETFROM:+0200
TZOFFSETTO:+0100
TZNAME:Europe/Paris CET
END:STANDARD
BEGIN:STANDARD
DTSTART:20231029T020000
RDATE:20240331T030000
TZOFFSETFROM:+0200
TZOFFSETTO:+0100
TZNAME:Europe/Paris CET
END:STANDARD
BEGIN:STANDARD
DTSTART:20241027T020000
RDATE:20250330T030000
TZOFFSETFROM:+0200
TZOFFSETTO:+0100
TZNAME:Europe/Paris CET
END:STANDARD
BEGIN:STANDARD
DTSTART:20251026T020000
RDATE:20260329T030000
TZOFFSETFROM:+0200
TZOFFSETTO:+0100
TZNAME:Europe/Paris CET
END:STANDARD
BEGIN:STANDARD
DTSTART:20261025T020000
RDATE:20270328T030000
TZOFFSETFROM:+0200
TZOFFSETTO:+0100
TZNAME:Europe/Paris CET
END:STANDARD
BEGIN:DAYLIGHT
DTSTART:20130331T030000
RDATE:20131027T020000
TZOFFSETFROM:+0100
TZOFFSETTO:+0200
TZNAME:Europe/Paris CEST
END:DAYLIGHT
BEGIN:DAYLIGHT
DTSTART:20140330T030000
RDATE:20141026T020000
TZOFFSETFROM:+0100
TZOFFSETTO:+0200
TZNAME:Europe/Paris CEST
END:DAYLIGHT
BEGIN:DAYLIGHT
DTSTART:20150329T030000
RDATE:20151025T020000
TZOFFSETFROM:+0100
TZOFFSETTO:+0200
TZNAME:Europe/Paris CEST
END:DAYLIGHT
BEGIN:DAYLIGHT
DTSTART:20160327T030000
RDATE:20161030T020000
TZOFFSETFROM:+0100
TZOFFSETTO:+0200
TZNAME:Europe/Paris CEST
END:DAYLIGHT
BEGIN:DAYLIGHT
DTSTART:20170326T030000
RDATE:20171029T020000
TZOFFSETFROM:+0100
TZOFFSETTO:+0200
TZNAME:Europe/Paris CEST
END:DAYLIGHT
BEGIN:DAYLIGHT
DTSTART:20180325T030000
RDATE:20181028T020000
TZOFFSETFROM:+0100
TZOFFSETTO:+0200
TZNAME:Europe/Paris CEST
END:DAYLIGHT
BEGIN:DAYLIGHT
DTSTART:20190331T030000
RDATE:20191027T020000
TZOFFSETFROM:+0100
TZOFFSETTO:+0200
TZNAME:Europe/Paris CEST
END:DAYLIGHT
BEGIN:DAYLIGHT
DTSTART:20200329T030000
RDATE:20201025T020000
TZOFFSETFROM:+0100
TZOFFSETTO:+0200
TZNAME:Europe/Paris CEST
END:DAYLIGHT
BEGIN:DAYLIGHT
DTSTART:20210328T030000
RDATE:20211031T020000
TZOFFSETFROM:+0100
TZOFFSETTO:+0200
TZNAME:Europe/Paris CEST
END:DAYLIGHT
BEGIN:DAYLIGHT
DTSTART:20220327T030000
RDATE:20221030T020000
TZOFFSETFROM:+0100
TZOFFSETTO:+0200
TZNAME:Europe/Paris CEST
END:DAYLIGHT
BEGIN:DAYLIGHT
DTSTART:20230326T030000
RDATE:20231029T020000
TZOFFSETFROM:+0100
TZOFFSETTO:+0200
TZNAME:Europe/Paris CEST
END:DAYLIGHT
BEGIN:DAYLIGHT
DTSTART:20240331T030000
RDATE:20241027T020000
TZOFFSETFROM:+0100
TZOFFSETTO:+0200
TZNAME:Europe/Paris CEST
END:DAYLIGHT
BEGIN:DAYLIGHT
DTSTART:20250330T030000
RDATE:20251026T020000
TZOFFSETFROM:+0100
TZOFFSETTO:+0200
TZNAME:Europe/Paris CEST
END:DAYLIGHT
BEGIN:DAYLIGHT
DTSTART:20260329T030000
RDATE:20261025T020000
TZOFFSETFROM:+0100
TZOFFSETTO:+0200
TZNAME:Europe/Paris CEST
END:DAYLIGHT
END:VTIMEZONE
BEGIN:VEVENT
UID:62915bd775ff63ac0d147fd993cd1337
CATEGORIES:Circuit Alsace Jeunes (alpin)
CREATED:20131203T122100
SUMMARY:CAJ U10 à U14 COUPE TANET/AN MUNSTER **REPORTE**
URL;VALUE=URI:https://skivosges.net/agenda/export-synchronisation/detailevenement/127/-/c
 aj-u10-a-u14-coupe-tanet-an-munster-reporte?tmpl=component
DESCRIPTION:CAJ U10 à U14 COUPE TANET/AN MUNSTER (Epreuve reportée) \n(Coupe d'Alsace J
 eunes)\n\nLieu : SCHNEPFENRIED \nOrganisateur : SK TANET / AN MUNSTER  (141
 40 LES AMIS DE LA NATURE MUNSTER)\nEmail : RegularLabs.EmailProtector.unClo
 ak("ep_d0bc0f77");\n  Lieu:BALLON D'ALSACE \n  Organisateur:STE SKI TOURISM
 E MONTAGNE \n - AMVF0471  Slalom (Coupe de Bronze) U10 Filles\n  CAJ U10 à 
 U14 Prix du Conseil Général 90/Mémorial Ruggéri/Cpe de Bronze \n  Lieu:BALL
 ON D'ALSACE \n  Organisateur:STE SKI TOURISME MONTAGNE \n - AMVM0471  Slalo
 m (Coupe de Bronze) U10 Garçons\n  CAJ U10 à U14 Prix du Conseil Général 90
 /Mémorial Ruggéri/Cpe de Bronze \n  Lieu:BALLON D'ALSACE \n  Organisateur:S
 TE SKI TOURISME MONTAGNE \n - AMVF0472  Slalom (Coupe de Bronze) U12 Filles
 \n  CAJ U10 à U14 Prix du Conseil Général 90/Mémorial Ruggéri/Cpe de Bronze
  \n  Lieu:BALLON D'ALSACE \n  Organisateur:STE SKI TOURISME MONTAGNE \n - A
 MVM0472  Slalom (Coupe de Bronze) U12 Garçons\n  CAJ U10 à U14 Prix du Cons
 eil Général 90/Mémorial Ruggéri/Cpe de Bronze \n  Lieu:BALLON D'ALSACE \n  
 Organisateur:STE SKI TOURISME MONTAGNE \n - AMVF0473  Slalom (Coupe de Bron
 ze) U14 Filles\n  CAJ U10 à U14 Prix du Conseil Général 90/Mémorial Ruggéri
 /Cpe de Bronze \n  Lieu:BALLON D'ALSACE \n  Organisateur:STE SKI TOURISME M
 ONTAGNE \n - AMVM0473  Slalom (Coupe de Bronze) U14 Garçons\n  CAJ U10 à U1
 4 Prix du Conseil Général 90/Mémorial Ruggéri/Cpe de Bronze  Cet évènement 
 a été importé depuis :https://skivosges.net/agenda/export-synchronisation/d
 etailevenement/127/-/caj-u10-a-u14-coupe-tanet-an-munster-reporte?tmpl=comp
 onent
X-ALT-DESC;FMTTYPE=text/html:<strong>CAJ U10 à U14 COUPE TANET/AN MUNSTER</strong> <font class="attentio
 n4">(Epreuve reportée)</font> <br /><i>(Coupe d'Alsace Jeunes)</i><br /><br
  />Lieu : SCHNEPFENRIED <br />Organisateur : SK TANET / AN MUNSTER  <small>
 (14140 LES AMIS DE LA NATURE MUNSTER)</small><br />Email : <!-- Cette adres
 se électronique est protégée contre les robots spammeurs. --><span class="c
 loaked_email ep_d0bc0f77"><span data-ep-b="&#111;&#109;" data-ep-a="y&#106;
 &#97;"><span data-ep-a="&#99;o&#98;" data-ep-b="&#115;.c"><span data-ep-b="
 e&#102;&#97;" data-ep-a="&#115;&#64;&#115;"></span></span></span></span><sc
 ript>RegularLabs.EmailProtector.unCloak("ep_d0bc0f77");</script><ul type="d
 isc"><br />&nbsp;&nbsp;Lieu:BALLON D'ALSACE <br />&nbsp;&nbsp;Organisateur:
 STE SKI TOURISME MONTAGNE <li>AMVF0471  Slalom <nobr><i>(Coupe de Bronze)</
 i></nobr> <nobr>U10</nobr> Filles<br />&nbsp;&nbsp;CAJ U10 à U14 Prix du Co
 nseil Général 90/Mémorial Ruggéri/Cpe de Bronze&nbsp;</li><br />&nbsp;&nbsp
 ;Lieu:BALLON D'ALSACE <br />&nbsp;&nbsp;Organisateur:STE SKI TOURISME MONTA
 GNE <li>AMVM0471  Slalom <nobr><i>(Coupe de Bronze)</i></nobr> <nobr>U10</n
 obr> Garçons<br />&nbsp;&nbsp;CAJ U10 à U14 Prix du Conseil Général 90/Mémo
 rial Ruggéri/Cpe de Bronze&nbsp;</li><br />&nbsp;&nbsp;Lieu:BALLON D'ALSACE
  <br />&nbsp;&nbsp;Organisateur:STE SKI TOURISME MONTAGNE <li>AMVF0472  Sla
 lom <nobr><i>(Coupe de Bronze)</i></nobr> <nobr>U12</nobr> Filles<br />&nbs
 p;&nbsp;CAJ U10 à U14 Prix du Conseil Général 90/Mémorial Ruggéri/Cpe de Br
 onze&nbsp;</li><br />&nbsp;&nbsp;Lieu:BALLON D'ALSACE <br />&nbsp;&nbsp;Org
 anisateur:STE SKI TOURISME MONTAGNE <li>AMVM0472  Slalom <nobr><i>(Coupe de
  Bronze)</i></nobr> <nobr>U12</nobr> Garçons<br />&nbsp;&nbsp;CAJ U10 à U14
  Prix du Conseil Général 90/Mémorial Ruggéri/Cpe de Bronze&nbsp;</li><br />
 &nbsp;&nbsp;Lieu:BALLON D'ALSACE <br />&nbsp;&nbsp;Organisateur:STE SKI TOU
 RISME MONTAGNE <li>AMVF0473  Slalom <nobr><i>(Coupe de Bronze)</i></nobr> <
 nobr>U14</nobr> Filles<br />&nbsp;&nbsp;CAJ U10 à U14 Prix du Conseil Génér
 al 90/Mémorial Ruggéri/Cpe de Bronze&nbsp;</li><br />&nbsp;&nbsp;Lieu:BALLO
 N D'ALSACE <br />&nbsp;&nbsp;Organisateur:STE SKI TOURISME MONTAGNE <li>AMV
 M0473  Slalom <nobr><i>(Coupe de Bronze)</i></nobr> <nobr>U14</nobr> Garçon
 s<br />&nbsp;&nbsp;CAJ U10 à U14 Prix du Conseil Général 90/Mémorial Ruggér
 i/Cpe de Bronze&nbsp;</li></ul> <a href="https://skivosges.net/agenda/expor
 t-synchronisation/detailevenement/127/-/caj-u10-a-u14-coupe-tanet-an-munste
 r-reporte?tmpl=component">Cet évènement a été importé depuis :https://skivo
 sges.net/agenda/export-synchronisation/detailevenement/127/-/caj-u10-a-u14-
 coupe-tanet-an-munster-reporte?tmpl=component</a>DTSTAMP:20260421T050650
DTSTART;TZID=Europe/Paris:20140209T080000
DTEND;TZID=Europe/Paris:20140209T170000
SEQUENCE:0
TRANSP:OPAQUE
END:VEVENT
END:VCALENDAR