BEGIN:VCALENDAR
VERSION:2.0
PRODID:-//jEvents 2.0 for Joomla//EN
CALSCALE:GREGORIAN
METHOD:PUBLISH
BEGIN:VTIMEZONE
TZID:Europe/Paris
BEGIN:STANDARD
DTSTART:20181028T020000
RDATE:20190331T030000
TZOFFSETFROM:+0200
TZOFFSETTO:+0100
TZNAME:Europe/Paris CET
END:STANDARD
BEGIN:STANDARD
DTSTART:20191027T020000
RDATE:20200329T030000
TZOFFSETFROM:+0200
TZOFFSETTO:+0100
TZNAME:Europe/Paris CET
END:STANDARD
BEGIN:STANDARD
DTSTART:20201025T020000
RDATE:20210328T030000
TZOFFSETFROM:+0200
TZOFFSETTO:+0100
TZNAME:Europe/Paris CET
END:STANDARD
BEGIN:STANDARD
DTSTART:20211031T020000
RDATE:20220327T030000
TZOFFSETFROM:+0200
TZOFFSETTO:+0100
TZNAME:Europe/Paris CET
END:STANDARD
BEGIN:STANDARD
DTSTART:20221030T020000
RDATE:20230326T030000
TZOFFSETFROM:+0200
TZOFFSETTO:+0100
TZNAME:Europe/Paris CET
END:STANDARD
BEGIN:STANDARD
DTSTART:20231029T020000
RDATE:20240331T030000
TZOFFSETFROM:+0200
TZOFFSETTO:+0100
TZNAME:Europe/Paris CET
END:STANDARD
BEGIN:STANDARD
DTSTART:20241027T020000
RDATE:20250330T030000
TZOFFSETFROM:+0200
TZOFFSETTO:+0100
TZNAME:Europe/Paris CET
END:STANDARD
BEGIN:STANDARD
DTSTART:20251026T020000
RDATE:20260329T030000
TZOFFSETFROM:+0200
TZOFFSETTO:+0100
TZNAME:Europe/Paris CET
END:STANDARD
BEGIN:STANDARD
DTSTART:20261025T020000
RDATE:20270328T030000
TZOFFSETFROM:+0200
TZOFFSETTO:+0100
TZNAME:Europe/Paris CET
END:STANDARD
BEGIN:DAYLIGHT
DTSTART:20180815T000000
RDATE:20181028T020000
TZOFFSETFROM:+0100
TZOFFSETTO:+0200
TZNAME:Europe/Paris CEST
END:DAYLIGHT
BEGIN:DAYLIGHT
DTSTART:20190331T030000
RDATE:20191027T020000
TZOFFSETFROM:+0100
TZOFFSETTO:+0200
TZNAME:Europe/Paris CEST
END:DAYLIGHT
BEGIN:DAYLIGHT
DTSTART:20200329T030000
RDATE:20201025T020000
TZOFFSETFROM:+0100
TZOFFSETTO:+0200
TZNAME:Europe/Paris CEST
END:DAYLIGHT
BEGIN:DAYLIGHT
DTSTART:20210328T030000
RDATE:20211031T020000
TZOFFSETFROM:+0100
TZOFFSETTO:+0200
TZNAME:Europe/Paris CEST
END:DAYLIGHT
BEGIN:DAYLIGHT
DTSTART:20220327T030000
RDATE:20221030T020000
TZOFFSETFROM:+0100
TZOFFSETTO:+0200
TZNAME:Europe/Paris CEST
END:DAYLIGHT
BEGIN:DAYLIGHT
DTSTART:20230326T030000
RDATE:20231029T020000
TZOFFSETFROM:+0100
TZOFFSETTO:+0200
TZNAME:Europe/Paris CEST
END:DAYLIGHT
BEGIN:DAYLIGHT
DTSTART:20240331T030000
RDATE:20241027T020000
TZOFFSETFROM:+0100
TZOFFSETTO:+0200
TZNAME:Europe/Paris CEST
END:DAYLIGHT
BEGIN:DAYLIGHT
DTSTART:20250330T030000
RDATE:20251026T020000
TZOFFSETFROM:+0100
TZOFFSETTO:+0200
TZNAME:Europe/Paris CEST
END:DAYLIGHT
BEGIN:DAYLIGHT
DTSTART:20260329T030000
RDATE:20261025T020000
TZOFFSETFROM:+0100
TZOFFSETTO:+0200
TZNAME:Europe/Paris CEST
END:DAYLIGHT
END:VTIMEZONE
BEGIN:VEVENT
UID:e029fbaf3f1c3736bfbb7f8286091c85
CATEGORIES:Compétition Saut
CREATED:20190702T093042
SUMMARY:SAMSE SUMMER TOUR GERARDMER
URL;VALUE=URI:https://skivosges.net/agenda/export-synchronisation/detailevenement/1305/-/
 samse-summer-tour-gerardmer?tmpl=component
DESCRIPTION:SAMSE SUMMER TOUR GERARDMER\n - Codex évenement TNAT0230\n - Station : GERA
 RDMER\n - Organisateur : 14469 A.S GERARDMER SKI NORDIQUEPériode d'inscript
 ion à l'evènement du vendredi 09 août 2019 à 00:00 au mercredi 14 août 2019
  à 12:00 (Inscriptions impossibles).Inscriptions ouvertes aux detenteurs de
 s titres Fédéraux valides suivants : Licenciés CompétiteursEpreuves :\n - L
 e vendredi 16 août 2019\n - Codex épreuve TNAM0231\n - Saut Special\n - Cat
 égorie(s) : Toutes les Categories (Garçons)\n - Le vendredi 16 août 2019\n 
 - Codex épreuve TNAF0231\n - Saut Special\n - Catégorie(s) : Toutes les Cat
 egories (Filles)\n - Le vendredi 16 août 2019\n - Codex épreuve TNAM0232\n 
 - Saut Special\n - Catégorie(s) : U17 (Garçons)\n - Le vendredi 16 août 201
 9\n - Codex épreuve TNAF0232\n - Saut Special\n - Catégorie(s) : U17 (Fille
 s)\n - Le vendredi 16 août 2019\n - Codex épreuve TNAM0233\n - Saut Special
 \n - Catégorie(s) : U15 (Garçons)\n - Le vendredi 16 août 2019\n - Codex ép
 reuve TNAF0233\n - Saut Special\n - Catégorie(s) : U15 (Filles)\n - Voir le
 s informations dans l'agenda... (/index.php?option=com_jevents&amp;task=ica
 levent.detail&amp;evid=1300&amp;Itemid=6283) Cet évènement a été importé de
 puis :https://skivosges.net/agenda/export-synchronisation/detailevenement/1
 305/-/samse-summer-tour-gerardmer?tmpl=component
X-ALT-DESC;FMTTYPE=text/html:<!-- #gskiepreuve code généré par le plugin jevents pour GskiEpreuves. Ne p
 as modifier cette ligne, ni tout le contenu suivant  #gskiepreuve --><div c
 lass="gski-evenement_infos"><div class="gski-evenement-nom">SAMSE SUMMER TO
 UR GERARDMER</div><div class="gski-evenement-report"></div><ul class="gski-
 evenement-liste-infos"><li>Codex évenement TNAT0230</li><li>Station : GERAR
 DMER</li><li>Organisateur : 14469 A.S GERARDMER SKI NORDIQUE</li></ul><div 
 class="gski-evenement-infos-2"><div class="gski-evenement-info-inscriptions
 "><div class="gski-evenement-inscriptions-periodes">Période d'inscription à
  l'evènement du vendredi 09 août 2019 à 00:00 au mercredi 14 août 2019 à 12
 :00 <span class="gski-evenement-inscriptions-impossibles">(Inscriptions imp
 ossibles).</span><div class="gski-evenement-inscriptions-types-titres">Insc
 riptions ouvertes aux detenteurs des titres Fédéraux valides suivants : Lic
 enciés Compétiteurs</div></div></div><div class="gski-evenement-epreuves"><
 div class="gski-evenement-epreuves-titres">Epreuves :</div><ul class="gski-
 evenement-epreuves-list"><li><div class="gski-epreuve-date">Le vendredi 16 
 août 2019</div><ul class="gski-epreuve-liste-infos"><li>Codex épreuve TNAM0
 231</li><li>Saut Special</li><li>Catégorie(s) : Toutes les Categories (Garç
 ons)</li></ul></li><li><div class="gski-epreuve-date">Le vendredi 16 août 2
 019</div><ul class="gski-epreuve-liste-infos"><li>Codex épreuve TNAF0231</l
 i><li>Saut Special</li><li>Catégorie(s) : Toutes les Categories (Filles)</l
 i></ul></li><li><div class="gski-epreuve-date">Le vendredi 16 août 2019</di
 v><ul class="gski-epreuve-liste-infos"><li>Codex épreuve TNAM0232</li><li>S
 aut Special</li><li>Catégorie(s) : U17 (Garçons)</li></ul></li><li><div cla
 ss="gski-epreuve-date">Le vendredi 16 août 2019</div><ul class="gski-epreuv
 e-liste-infos"><li>Codex épreuve TNAF0232</li><li>Saut Special</li><li>Caté
 gorie(s) : U17 (Filles)</li></ul></li><li><div class="gski-epreuve-date">Le
  vendredi 16 août 2019</div><ul class="gski-epreuve-liste-infos"><li>Codex 
 épreuve TNAM0233</li><li>Saut Special</li><li>Catégorie(s) : U15 (Garçons)<
 /li></ul></li><li><div class="gski-epreuve-date">Le vendredi 16 août 2019</
 div><ul class="gski-epreuve-liste-infos"><li>Codex épreuve TNAF0233</li><li
 >Saut Special</li><li>Catégorie(s) : U15 (Filles)</li></ul></li></ul></div>
 <div class="gskiepreuves-links"><ul><li><a href="https://skivosges.net/inde
 x.php?option=com_jevents&task=icalevent.detail&evid=1300&Itemid=6283">Voir 
 les informations dans l'agenda...</a></li></ul></div></div"><!-- #/gskiepre
 uve fin du dode généré par le plugin jevents pour GskiEpreuves. . Ne pas mo
 difier cette ligne, ni tout le contenu précedant.  #/gskiepreuve --> <a hre
 f="https://skivosges.net/agenda/export-synchronisation/detailevenement/1305
 /-/samse-summer-tour-gerardmer?tmpl=component">Cet évènement a été importé 
 depuis :https://skivosges.net/agenda/export-synchronisation/detailevenement
 /1305/-/samse-summer-tour-gerardmer?tmpl=component</a>DTSTAMP:20260420T111958
DTSTART;TZID=Europe/Paris;VALUE=DATE:20190816
DTEND;TZID=Europe/Paris;VALUE=DATE:20190817
SEQUENCE:0
TRANSP:OPAQUE
END:VEVENT
END:VCALENDAR