BEGIN:VCALENDAR
VERSION:2.0
PRODID:-//jEvents 2.0 for Joomla//EN
CALSCALE:GREGORIAN
METHOD:PUBLISH
BEGIN:VTIMEZONE
TZID:Europe/Paris
BEGIN:STANDARD
DTSTART:20181028T020000
RDATE:20190331T030000
TZOFFSETFROM:+0200
TZOFFSETTO:+0100
TZNAME:Europe/Paris CET
END:STANDARD
BEGIN:STANDARD
DTSTART:20191027T020000
RDATE:20200329T030000
TZOFFSETFROM:+0200
TZOFFSETTO:+0100
TZNAME:Europe/Paris CET
END:STANDARD
BEGIN:STANDARD
DTSTART:20201025T020000
RDATE:20210328T030000
TZOFFSETFROM:+0200
TZOFFSETTO:+0100
TZNAME:Europe/Paris CET
END:STANDARD
BEGIN:STANDARD
DTSTART:20211031T020000
RDATE:20220327T030000
TZOFFSETFROM:+0200
TZOFFSETTO:+0100
TZNAME:Europe/Paris CET
END:STANDARD
BEGIN:STANDARD
DTSTART:20221030T020000
RDATE:20230326T030000
TZOFFSETFROM:+0200
TZOFFSETTO:+0100
TZNAME:Europe/Paris CET
END:STANDARD
BEGIN:STANDARD
DTSTART:20231029T020000
RDATE:20240331T030000
TZOFFSETFROM:+0200
TZOFFSETTO:+0100
TZNAME:Europe/Paris CET
END:STANDARD
BEGIN:STANDARD
DTSTART:20241027T020000
RDATE:20250330T030000
TZOFFSETFROM:+0200
TZOFFSETTO:+0100
TZNAME:Europe/Paris CET
END:STANDARD
BEGIN:STANDARD
DTSTART:20251026T020000
RDATE:20260329T030000
TZOFFSETFROM:+0200
TZOFFSETTO:+0100
TZNAME:Europe/Paris CET
END:STANDARD
BEGIN:STANDARD
DTSTART:20261025T020000
RDATE:20270328T030000
TZOFFSETFROM:+0200
TZOFFSETTO:+0100
TZNAME:Europe/Paris CET
END:STANDARD
BEGIN:DAYLIGHT
DTSTART:20180816T000000
RDATE:20181028T020000
TZOFFSETFROM:+0100
TZOFFSETTO:+0200
TZNAME:Europe/Paris CEST
END:DAYLIGHT
BEGIN:DAYLIGHT
DTSTART:20190331T030000
RDATE:20191027T020000
TZOFFSETFROM:+0100
TZOFFSETTO:+0200
TZNAME:Europe/Paris CEST
END:DAYLIGHT
BEGIN:DAYLIGHT
DTSTART:20200329T030000
RDATE:20201025T020000
TZOFFSETFROM:+0100
TZOFFSETTO:+0200
TZNAME:Europe/Paris CEST
END:DAYLIGHT
BEGIN:DAYLIGHT
DTSTART:20210328T030000
RDATE:20211031T020000
TZOFFSETFROM:+0100
TZOFFSETTO:+0200
TZNAME:Europe/Paris CEST
END:DAYLIGHT
BEGIN:DAYLIGHT
DTSTART:20220327T030000
RDATE:20221030T020000
TZOFFSETFROM:+0100
TZOFFSETTO:+0200
TZNAME:Europe/Paris CEST
END:DAYLIGHT
BEGIN:DAYLIGHT
DTSTART:20230326T030000
RDATE:20231029T020000
TZOFFSETFROM:+0100
TZOFFSETTO:+0200
TZNAME:Europe/Paris CEST
END:DAYLIGHT
BEGIN:DAYLIGHT
DTSTART:20240331T030000
RDATE:20241027T020000
TZOFFSETFROM:+0100
TZOFFSETTO:+0200
TZNAME:Europe/Paris CEST
END:DAYLIGHT
BEGIN:DAYLIGHT
DTSTART:20250330T030000
RDATE:20251026T020000
TZOFFSETFROM:+0100
TZOFFSETTO:+0200
TZNAME:Europe/Paris CEST
END:DAYLIGHT
BEGIN:DAYLIGHT
DTSTART:20260329T030000
RDATE:20261025T020000
TZOFFSETFROM:+0100
TZOFFSETTO:+0200
TZNAME:Europe/Paris CEST
END:DAYLIGHT
END:VTIMEZONE
BEGIN:VEVENT
UID:6b5dcfdf58560069f82120e0fd0af26f
CATEGORIES:Combiné Nordique
CREATED:20190702T093042
SUMMARY:SAMSE SUMMER TOUR GERARDMER
URL;VALUE=URI:https://skivosges.net/agenda/export-synchronisation/detailevenement/1306/-/
 samse-summer-tour-gerardmer?tmpl=component
DESCRIPTION:SAMSE SUMMER TOUR GERARDMER\n - Codex évenement CNAT0150\n - Station : GERA
 RDMER\n - Organisateur : 14469 A.S GERARDMER SKI NORDIQUEPériode d'inscript
 ion à l'evènement du samedi 10 août 2019 à 00:00 au jeudi 15 août 2019 à 12
 :00 (Inscriptions impossibles).Inscriptions ouvertes aux detenteurs des tit
 res Fédéraux valides suivants : Licenciés CompétiteursEpreuves :\n - Le sam
 edi 17 août 2019\n - Codex épreuve CNAM0151\n - Fond POURS du Combine Nordi
 que\n - Catégorie(s) : Toutes les Categories (Garçons)\n - Le samedi 17 aoû
 t 2019\n - Codex épreuve CNAF0151\n - Fond POURS du Combine Nordique\n - Ca
 tégorie(s) : Toutes les Categories (Filles)\n - Le samedi 17 août 2019\n - 
 Codex épreuve CNAM0152\n - Fond POURS du Combine Nordique\n - Catégorie(s) 
 : U17 (Garçons)\n - Le samedi 17 août 2019\n - Codex épreuve CNAF0152\n - F
 ond POURS du Combine Nordique\n - Catégorie(s) : U17 (Filles)\n - Le samedi
  17 août 2019\n - Codex épreuve CNAM0153\n - Fond POURS du Combine Nordique
 \n - Catégorie(s) : U15 (Garçons)\n - Le samedi 17 août 2019\n - Codex épre
 uve CNAF0153\n - Fond POURS du Combine Nordique\n - Catégorie(s) : U15 (Fil
 les)\n - Voir les informations dans l'agenda... (/index.php?option=com_jeve
 nts&amp;task=icalevent.detail&amp;evid=1301&amp;Itemid=6283) Cet évènement 
 a été importé depuis :https://skivosges.net/agenda/export-synchronisation/d
 etailevenement/1306/-/samse-summer-tour-gerardmer?tmpl=component
X-ALT-DESC;FMTTYPE=text/html:<!-- #gskiepreuve code généré par le plugin jevents pour GskiEpreuves. Ne p
 as modifier cette ligne, ni tout le contenu suivant  #gskiepreuve --><div c
 lass="gski-evenement_infos"><div class="gski-evenement-nom">SAMSE SUMMER TO
 UR GERARDMER</div><div class="gski-evenement-report"></div><ul class="gski-
 evenement-liste-infos"><li>Codex évenement CNAT0150</li><li>Station : GERAR
 DMER</li><li>Organisateur : 14469 A.S GERARDMER SKI NORDIQUE</li></ul><div 
 class="gski-evenement-infos-2"><div class="gski-evenement-info-inscriptions
 "><div class="gski-evenement-inscriptions-periodes">Période d'inscription à
  l'evènement du samedi 10 août 2019 à 00:00 au jeudi 15 août 2019 à 12:00 <
 span class="gski-evenement-inscriptions-impossibles">(Inscriptions impossib
 les).</span><div class="gski-evenement-inscriptions-types-titres">Inscripti
 ons ouvertes aux detenteurs des titres Fédéraux valides suivants : Licencié
 s Compétiteurs</div></div></div><div class="gski-evenement-epreuves"><div c
 lass="gski-evenement-epreuves-titres">Epreuves :</div><ul class="gski-evene
 ment-epreuves-list"><li><div class="gski-epreuve-date">Le samedi 17 août 20
 19</div><ul class="gski-epreuve-liste-infos"><li>Codex épreuve CNAM0151</li
 ><li>Fond POURS du Combine Nordique</li><li>Catégorie(s) : Toutes les Categ
 ories (Garçons)</li></ul></li><li><div class="gski-epreuve-date">Le samedi 
 17 août 2019</div><ul class="gski-epreuve-liste-infos"><li>Codex épreuve CN
 AF0151</li><li>Fond POURS du Combine Nordique</li><li>Catégorie(s) : Toutes
  les Categories (Filles)</li></ul></li><li><div class="gski-epreuve-date">L
 e samedi 17 août 2019</div><ul class="gski-epreuve-liste-infos"><li>Codex é
 preuve CNAM0152</li><li>Fond POURS du Combine Nordique</li><li>Catégorie(s)
  : U17 (Garçons)</li></ul></li><li><div class="gski-epreuve-date">Le samedi
  17 août 2019</div><ul class="gski-epreuve-liste-infos"><li>Codex épreuve C
 NAF0152</li><li>Fond POURS du Combine Nordique</li><li>Catégorie(s) : U17 (
 Filles)</li></ul></li><li><div class="gski-epreuve-date">Le samedi 17 août 
 2019</div><ul class="gski-epreuve-liste-infos"><li>Codex épreuve CNAM0153</
 li><li>Fond POURS du Combine Nordique</li><li>Catégorie(s) : U15 (Garçons)<
 /li></ul></li><li><div class="gski-epreuve-date">Le samedi 17 août 2019</di
 v><ul class="gski-epreuve-liste-infos"><li>Codex épreuve CNAF0153</li><li>F
 ond POURS du Combine Nordique</li><li>Catégorie(s) : U15 (Filles)</li></ul>
 </li></ul></div><div class="gskiepreuves-links"><ul><li><a href="https://sk
 ivosges.net/index.php?option=com_jevents&task=icalevent.detail&evid=1301&It
 emid=6283">Voir les informations dans l'agenda...</a></li></ul></div></div"
 ><!-- #/gskiepreuve fin du dode généré par le plugin jevents pour GskiEpreu
 ves. . Ne pas modifier cette ligne, ni tout le contenu précedant.  #/gskiep
 reuve --> <a href="https://skivosges.net/agenda/export-synchronisation/deta
 ilevenement/1306/-/samse-summer-tour-gerardmer?tmpl=component">Cet évènemen
 t a été importé depuis :https://skivosges.net/agenda/export-synchronisation
 /detailevenement/1306/-/samse-summer-tour-gerardmer?tmpl=component</a>DTSTAMP:20260420T183612
DTSTART;TZID=Europe/Paris;VALUE=DATE:20190817
DTEND;TZID=Europe/Paris;VALUE=DATE:20190818
SEQUENCE:0
TRANSP:OPAQUE
END:VEVENT
END:VCALENDAR