BEGIN:VCALENDAR
VERSION:2.0
PRODID:-//jEvents 2.0 for Joomla//EN
CALSCALE:GREGORIAN
METHOD:PUBLISH
BEGIN:VTIMEZONE
TZID:Europe/Paris
BEGIN:STANDARD
DTSTART:20181028T020000
RDATE:20190331T030000
TZOFFSETFROM:+0200
TZOFFSETTO:+0100
TZNAME:Europe/Paris CET
END:STANDARD
BEGIN:STANDARD
DTSTART:20191027T020000
RDATE:20200329T030000
TZOFFSETFROM:+0200
TZOFFSETTO:+0100
TZNAME:Europe/Paris CET
END:STANDARD
BEGIN:STANDARD
DTSTART:20201025T020000
RDATE:20210328T030000
TZOFFSETFROM:+0200
TZOFFSETTO:+0100
TZNAME:Europe/Paris CET
END:STANDARD
BEGIN:STANDARD
DTSTART:20211031T020000
RDATE:20220327T030000
TZOFFSETFROM:+0200
TZOFFSETTO:+0100
TZNAME:Europe/Paris CET
END:STANDARD
BEGIN:STANDARD
DTSTART:20221030T020000
RDATE:20230326T030000
TZOFFSETFROM:+0200
TZOFFSETTO:+0100
TZNAME:Europe/Paris CET
END:STANDARD
BEGIN:STANDARD
DTSTART:20231029T020000
RDATE:20240331T030000
TZOFFSETFROM:+0200
TZOFFSETTO:+0100
TZNAME:Europe/Paris CET
END:STANDARD
BEGIN:STANDARD
DTSTART:20241027T020000
RDATE:20250330T030000
TZOFFSETFROM:+0200
TZOFFSETTO:+0100
TZNAME:Europe/Paris CET
END:STANDARD
BEGIN:STANDARD
DTSTART:20251026T020000
RDATE:20260329T030000
TZOFFSETFROM:+0200
TZOFFSETTO:+0100
TZNAME:Europe/Paris CET
END:STANDARD
BEGIN:STANDARD
DTSTART:20261025T020000
RDATE:20270328T030000
TZOFFSETFROM:+0200
TZOFFSETTO:+0100
TZNAME:Europe/Paris CET
END:STANDARD
BEGIN:DAYLIGHT
DTSTART:20180808T000000
RDATE:20181028T020000
TZOFFSETFROM:+0100
TZOFFSETTO:+0200
TZNAME:Europe/Paris CEST
END:DAYLIGHT
BEGIN:DAYLIGHT
DTSTART:20190331T030000
RDATE:20191027T020000
TZOFFSETFROM:+0100
TZOFFSETTO:+0200
TZNAME:Europe/Paris CEST
END:DAYLIGHT
BEGIN:DAYLIGHT
DTSTART:20200329T030000
RDATE:20201025T020000
TZOFFSETFROM:+0100
TZOFFSETTO:+0200
TZNAME:Europe/Paris CEST
END:DAYLIGHT
BEGIN:DAYLIGHT
DTSTART:20210328T030000
RDATE:20211031T020000
TZOFFSETFROM:+0100
TZOFFSETTO:+0200
TZNAME:Europe/Paris CEST
END:DAYLIGHT
BEGIN:DAYLIGHT
DTSTART:20220327T030000
RDATE:20221030T020000
TZOFFSETFROM:+0100
TZOFFSETTO:+0200
TZNAME:Europe/Paris CEST
END:DAYLIGHT
BEGIN:DAYLIGHT
DTSTART:20230326T030000
RDATE:20231029T020000
TZOFFSETFROM:+0100
TZOFFSETTO:+0200
TZNAME:Europe/Paris CEST
END:DAYLIGHT
BEGIN:DAYLIGHT
DTSTART:20240331T030000
RDATE:20241027T020000
TZOFFSETFROM:+0100
TZOFFSETTO:+0200
TZNAME:Europe/Paris CEST
END:DAYLIGHT
BEGIN:DAYLIGHT
DTSTART:20250330T030000
RDATE:20251026T020000
TZOFFSETFROM:+0100
TZOFFSETTO:+0200
TZNAME:Europe/Paris CEST
END:DAYLIGHT
BEGIN:DAYLIGHT
DTSTART:20260329T030000
RDATE:20261025T020000
TZOFFSETFROM:+0100
TZOFFSETTO:+0200
TZNAME:Europe/Paris CEST
END:DAYLIGHT
END:VTIMEZONE
BEGIN:VEVENT
UID:f83dae9fdc901efe72af8e78fe92d3cc
CATEGORIES:Compétition Saut
CREATED:20190816T090405
SUMMARY:Coupe des Vosges N°4
URL;VALUE=URI:https://skivosges.net/agenda/export-synchronisation/detailevenement/1310/-/
 coupe-des-vosges-n-4?tmpl=component
DESCRIPTION:Coupe des Vosges N°4\n - Codex évenement TMVT0130\n - Lieu : Gérardmer Trem
 plin des Bas Rupts\n - Organisateur : 14469 A.S GERARDMER SKI NORDIQUE\n - 
 Courriel : RegularLabs.EmailProtector.unCloak("ep_2a398748");\n - Délégué T
 echnique : FRANCOIS JEAN PIERREPériode d'inscription à l'evènement du vendr
 edi 02 août 2019 à 00:00 au mercredi 07 août 2019 à 12:00 (Inscriptions imp
 ossibles).Inscriptions ouvertes aux detenteurs des titres Fédéraux valides 
 suivants : Licenciés CompétiteursEpreuves :\n - Le vendredi 09 août 2019\n 
 - Codex épreuve TMVM0131\n - Saut Special\n - Catégorie(s) : U7 a U20 (Garç
 ons)\n - Le vendredi 09 août 2019\n - Codex épreuve TMVF0131\n - Saut Speci
 al\n - Catégorie(s) : U7 a U20 (Filles)\n - Le vendredi 09 août 2019\n - Co
 dex épreuve TMVF0132\n - Saut Special\n - Catégorie(s) : Senior (Dames)\n -
  Le vendredi 09 août 2019\n - Codex épreuve TMVM0132\n - Saut Special\n - C
 atégorie(s) : Senior (Hommes)\n - Voir les informations dans l'agenda... (/
 index.php?option=com_jevents&amp;task=icalevent.detail&amp;evid=1305&amp;It
 emid=6283) Cet évènement a été importé depuis :https://skivosges.net/agenda
 /export-synchronisation/detailevenement/1310/-/coupe-des-vosges-n-4?tmpl=co
 mponent
X-ALT-DESC;FMTTYPE=text/html:<!-- #gskiepreuve code généré par le plugin jevents pour GskiEpreuves. Ne p
 as modifier cette ligne, ni tout le contenu suivant  #gskiepreuve --><div c
 lass="gski-evenement_infos"><div class="gski-evenement-nom">Coupe des Vosge
 s N°4</div><div class="gski-evenement-report"></div><ul class="gski-eveneme
 nt-liste-infos"><li>Codex évenement TMVT0130</li><li>Lieu : G&eacute;rardme
 r Tremplin des Bas Rupts</li><li>Organisateur : 14469 A.S GERARDMER SKI NOR
 DIQUE</li><li>Courriel : <!-- Cette adresse électronique est protégée contr
 e les robots spammeurs. --><span class="cloaked_email ep_2a398748"><span da
 ta-ep-b="&#46;f&#114;" data-ep-a="&#114;eg&#105;"><span data-ep-a="s&#46;&#
 97;&#110;" data-ep-b="&#97;&#100;&#111;o"><span data-ep-a="d&#114;e&#54;" d
 ata-ep-b="&#64;w&#97;&#110;"></span></span></span></span><script>RegularLab
 s.EmailProtector.unCloak("ep_2a398748");</script></li><li><span class="gski
 -evenement-obs">Délégué Technique : FRANCOIS JEAN PIERRE</span></li></ul><d
 iv class="gski-evenement-infos-2"><div class="gski-evenement-info-inscripti
 ons"><div class="gski-evenement-inscriptions-periodes">Période d'inscriptio
 n à l'evènement du vendredi 02 août 2019 à 00:00 au mercredi 07 août 2019 à
  12:00 <span class="gski-evenement-inscriptions-impossibles">(Inscriptions 
 impossibles).</span><div class="gski-evenement-inscriptions-types-titres">I
 nscriptions ouvertes aux detenteurs des titres Fédéraux valides suivants : 
 Licenciés Compétiteurs</div></div></div><div class="gski-evenement-epreuves
 "><div class="gski-evenement-epreuves-titres">Epreuves :</div><ul class="gs
 ki-evenement-epreuves-list"><li><div class="gski-epreuve-date">Le vendredi 
 09 août 2019</div><ul class="gski-epreuve-liste-infos"><li>Codex épreuve TM
 VM0131</li><li>Saut Special</li><li>Catégorie(s) : U7 a U20 (Garçons)</li><
 /ul></li><li><div class="gski-epreuve-date">Le vendredi 09 août 2019</div><
 ul class="gski-epreuve-liste-infos"><li>Codex épreuve TMVF0131</li><li>Saut
  Special</li><li>Catégorie(s) : U7 a U20 (Filles)</li></ul></li><li><div cl
 ass="gski-epreuve-date">Le vendredi 09 août 2019</div><ul class="gski-epreu
 ve-liste-infos"><li>Codex épreuve TMVF0132</li><li>Saut Special</li><li>Cat
 égorie(s) : Senior (Dames)</li></ul></li><li><div class="gski-epreuve-date"
 >Le vendredi 09 août 2019</div><ul class="gski-epreuve-liste-infos"><li>Cod
 ex épreuve TMVM0132</li><li>Saut Special</li><li>Catégorie(s) : Senior (Hom
 mes)</li></ul></li></ul></div><div class="gskiepreuves-links"><ul><li><a hr
 ef="https://skivosges.net/index.php?option=com_jevents&task=icalevent.detai
 l&evid=1305&Itemid=6283">Voir les informations dans l'agenda...</a></li></u
 l></div></div"><!-- #/gskiepreuve fin du dode généré par le plugin jevents 
 pour GskiEpreuves. . Ne pas modifier cette ligne, ni tout le contenu préced
 ant.  #/gskiepreuve --> <a href="https://skivosges.net/agenda/export-synchr
 onisation/detailevenement/1310/-/coupe-des-vosges-n-4?tmpl=component">Cet é
 vènement a été importé depuis :https://skivosges.net/agenda/export-synchron
 isation/detailevenement/1310/-/coupe-des-vosges-n-4?tmpl=component</a>DTSTAMP:20260420T111944
DTSTART;TZID=Europe/Paris;VALUE=DATE:20190809
DTEND;TZID=Europe/Paris;VALUE=DATE:20190810
SEQUENCE:0
TRANSP:OPAQUE
END:VEVENT
END:VCALENDAR