BEGIN:VCALENDAR
VERSION:2.0
PRODID:-//jEvents 2.0 for Joomla//EN
CALSCALE:GREGORIAN
METHOD:PUBLISH
BEGIN:VTIMEZONE
TZID:Europe/Paris
BEGIN:STANDARD
DTSTART:20181028T020000
RDATE:20190331T030000
TZOFFSETFROM:+0200
TZOFFSETTO:+0100
TZNAME:Europe/Paris CET
END:STANDARD
BEGIN:STANDARD
DTSTART:20191027T020000
RDATE:20200329T030000
TZOFFSETFROM:+0200
TZOFFSETTO:+0100
TZNAME:Europe/Paris CET
END:STANDARD
BEGIN:STANDARD
DTSTART:20201025T020000
RDATE:20210328T030000
TZOFFSETFROM:+0200
TZOFFSETTO:+0100
TZNAME:Europe/Paris CET
END:STANDARD
BEGIN:STANDARD
DTSTART:20211031T020000
RDATE:20220327T030000
TZOFFSETFROM:+0200
TZOFFSETTO:+0100
TZNAME:Europe/Paris CET
END:STANDARD
BEGIN:STANDARD
DTSTART:20221030T020000
RDATE:20230326T030000
TZOFFSETFROM:+0200
TZOFFSETTO:+0100
TZNAME:Europe/Paris CET
END:STANDARD
BEGIN:STANDARD
DTSTART:20231029T020000
RDATE:20240331T030000
TZOFFSETFROM:+0200
TZOFFSETTO:+0100
TZNAME:Europe/Paris CET
END:STANDARD
BEGIN:STANDARD
DTSTART:20241027T020000
RDATE:20250330T030000
TZOFFSETFROM:+0200
TZOFFSETTO:+0100
TZNAME:Europe/Paris CET
END:STANDARD
BEGIN:STANDARD
DTSTART:20251026T020000
RDATE:20260329T030000
TZOFFSETFROM:+0200
TZOFFSETTO:+0100
TZNAME:Europe/Paris CET
END:STANDARD
BEGIN:STANDARD
DTSTART:20261025T020000
RDATE:20270328T030000
TZOFFSETFROM:+0200
TZOFFSETTO:+0100
TZNAME:Europe/Paris CET
END:STANDARD
BEGIN:DAYLIGHT
DTSTART:20180906T000000
RDATE:20181028T020000
TZOFFSETFROM:+0100
TZOFFSETTO:+0200
TZNAME:Europe/Paris CEST
END:DAYLIGHT
BEGIN:DAYLIGHT
DTSTART:20190331T030000
RDATE:20191027T020000
TZOFFSETFROM:+0100
TZOFFSETTO:+0200
TZNAME:Europe/Paris CEST
END:DAYLIGHT
BEGIN:DAYLIGHT
DTSTART:20200329T030000
RDATE:20201025T020000
TZOFFSETFROM:+0100
TZOFFSETTO:+0200
TZNAME:Europe/Paris CEST
END:DAYLIGHT
BEGIN:DAYLIGHT
DTSTART:20210328T030000
RDATE:20211031T020000
TZOFFSETFROM:+0100
TZOFFSETTO:+0200
TZNAME:Europe/Paris CEST
END:DAYLIGHT
BEGIN:DAYLIGHT
DTSTART:20220327T030000
RDATE:20221030T020000
TZOFFSETFROM:+0100
TZOFFSETTO:+0200
TZNAME:Europe/Paris CEST
END:DAYLIGHT
BEGIN:DAYLIGHT
DTSTART:20230326T030000
RDATE:20231029T020000
TZOFFSETFROM:+0100
TZOFFSETTO:+0200
TZNAME:Europe/Paris CEST
END:DAYLIGHT
BEGIN:DAYLIGHT
DTSTART:20240331T030000
RDATE:20241027T020000
TZOFFSETFROM:+0100
TZOFFSETTO:+0200
TZNAME:Europe/Paris CEST
END:DAYLIGHT
BEGIN:DAYLIGHT
DTSTART:20250330T030000
RDATE:20251026T020000
TZOFFSETFROM:+0100
TZOFFSETTO:+0200
TZNAME:Europe/Paris CEST
END:DAYLIGHT
BEGIN:DAYLIGHT
DTSTART:20260329T030000
RDATE:20261025T020000
TZOFFSETFROM:+0100
TZOFFSETTO:+0200
TZNAME:Europe/Paris CEST
END:DAYLIGHT
END:VTIMEZONE
BEGIN:VEVENT
UID:df565cf6768ed72a72f4c3d7a61edc05
CATEGORIES:Combiné Nordique
CREATED:20190816T090405
SUMMARY:COUPE DES VOSGES CN N°2
URL;VALUE=URI:https://skivosges.net/agenda/export-synchronisation/detailevenement/1312/-/
 coupe-des-vosges-cn-n-2?tmpl=component
DESCRIPTION:COUPE DES VOSGES CN N°2\n - Codex évenement CMVT0040\n - Lieu : Ventron Tre
 mplin Maurice Bailly HS 28\n - Organisateur : 14083 U.S VENTRON\n - Courrie
 l : RegularLabs.EmailProtector.unCloak("ep_c176d471");\n - Délégué Techniqu
 e : JACOBERGER ARNAUDPériode d'inscription à l'evènement du samedi 31 août 
 2019 à 00:00 au jeudi 05 septembre 2019 à 12:00 (Inscriptions impossibles).
 Inscriptions ouvertes aux detenteurs des titres Fédéraux valides suivants :
  Licenciés CompétiteursEpreuves :\n - Le samedi 07 septembre 2019\n - Codex
  épreuve CMVM0041\n - Saut du Combine Nordique\n - Catégorie(s) : U7 a U20 
 (Garçons)\n - Le samedi 07 septembre 2019\n - Codex épreuve CMVF0041\n - Sa
 ut du Combine Nordique\n - Catégorie(s) : U7 a U20 (Filles)\n - Le samedi 0
 7 septembre 2019\n - Codex épreuve CMVF0042\n - Saut du Combine Nordique\n 
 - Catégorie(s) : Senior (Dames)\n - Le samedi 07 septembre 2019\n - Codex é
 preuve CMVM0042\n - Saut du Combine Nordique\n - Catégorie(s) : Senior (Hom
 mes)\n - Voir les informations dans l'agenda... (/index.php?option=com_jeve
 nts&amp;task=icalevent.detail&amp;evid=1307&amp;Itemid=6283) Cet évènement 
 a été importé depuis :https://skivosges.net/agenda/export-synchronisation/d
 etailevenement/1312/-/coupe-des-vosges-cn-n-2?tmpl=component
X-ALT-DESC;FMTTYPE=text/html:<!-- #gskiepreuve code généré par le plugin jevents pour GskiEpreuves. Ne p
 as modifier cette ligne, ni tout le contenu suivant  #gskiepreuve --><div c
 lass="gski-evenement_infos"><div class="gski-evenement-nom">COUPE DES VOSGE
 S CN N°2</div><div class="gski-evenement-report"></div><ul class="gski-even
 ement-liste-infos"><li>Codex évenement CMVT0040</li><li>Lieu : Ventron Trem
 plin Maurice Bailly HS 28</li><li>Organisateur : 14083 U.S VENTRON</li><li>
 Courriel : <!-- Cette adresse électronique est protégée contre les robots s
 pammeurs. --><span class="cloaked_email ep_c176d471"><span data-ep-a="ch&#1
 14;&#105;&#115;" data-ep-b="&#99;om"><span data-ep-a="&#116;&#105;ne&#46;" 
 data-ep-b="&#109;a&#105;&#108;&#46;"><span data-ep-b="d8&#56;&#64;&#103;" d
 ata-ep-a="gera&#114;"></span></span></span></span><script>RegularLabs.Email
 Protector.unCloak("ep_c176d471");</script></li><li><span class="gski-evenem
 ent-obs">Délégué Technique : JACOBERGER ARNAUD</span></li></ul><div class="
 gski-evenement-infos-2"><div class="gski-evenement-info-inscriptions"><div 
 class="gski-evenement-inscriptions-periodes">Période d'inscription à l'evèn
 ement du samedi 31 août 2019 à 00:00 au jeudi 05 septembre 2019 à 12:00 <sp
 an class="gski-evenement-inscriptions-impossibles">(Inscriptions impossible
 s).</span><div class="gski-evenement-inscriptions-types-titres">Inscription
 s ouvertes aux detenteurs des titres Fédéraux valides suivants : Licenciés 
 Compétiteurs</div></div></div><div class="gski-evenement-epreuves"><div cla
 ss="gski-evenement-epreuves-titres">Epreuves :</div><ul class="gski-eveneme
 nt-epreuves-list"><li><div class="gski-epreuve-date">Le samedi 07 septembre
  2019</div><ul class="gski-epreuve-liste-infos"><li>Codex épreuve CMVM0041<
 /li><li>Saut du Combine Nordique</li><li>Catégorie(s) : U7 a U20 (Garçons)<
 /li></ul></li><li><div class="gski-epreuve-date">Le samedi 07 septembre 201
 9</div><ul class="gski-epreuve-liste-infos"><li>Codex épreuve CMVF0041</li>
 <li>Saut du Combine Nordique</li><li>Catégorie(s) : U7 a U20 (Filles)</li><
 /ul></li><li><div class="gski-epreuve-date">Le samedi 07 septembre 2019</di
 v><ul class="gski-epreuve-liste-infos"><li>Codex épreuve CMVF0042</li><li>S
 aut du Combine Nordique</li><li>Catégorie(s) : Senior (Dames)</li></ul></li
 ><li><div class="gski-epreuve-date">Le samedi 07 septembre 2019</div><ul cl
 ass="gski-epreuve-liste-infos"><li>Codex épreuve CMVM0042</li><li>Saut du C
 ombine Nordique</li><li>Catégorie(s) : Senior (Hommes)</li></ul></li></ul><
 /div><div class="gskiepreuves-links"><ul><li><a href="https://skivosges.net
 /index.php?option=com_jevents&task=icalevent.detail&evid=1307&Itemid=6283">
 Voir les informations dans l'agenda...</a></li></ul></div></div"><!-- #/gsk
 iepreuve fin du dode généré par le plugin jevents pour GskiEpreuves. . Ne p
 as modifier cette ligne, ni tout le contenu précedant.  #/gskiepreuve --> <
 a href="https://skivosges.net/agenda/export-synchronisation/detailevenement
 /1312/-/coupe-des-vosges-cn-n-2?tmpl=component">Cet évènement a été importé
  depuis :https://skivosges.net/agenda/export-synchronisation/detailevenemen
 t/1312/-/coupe-des-vosges-cn-n-2?tmpl=component</a>DTSTAMP:20260421T050818
DTSTART;TZID=Europe/Paris;VALUE=DATE:20190907
DTEND;TZID=Europe/Paris;VALUE=DATE:20190908
SEQUENCE:0
TRANSP:OPAQUE
END:VEVENT
END:VCALENDAR