BEGIN:VCALENDAR
VERSION:2.0
PRODID:-//jEvents 2.0 for Joomla//EN
CALSCALE:GREGORIAN
METHOD:PUBLISH
BEGIN:VTIMEZONE
TZID:Europe/Paris
BEGIN:STANDARD
DTSTART:20181028T020000
RDATE:20190331T030000
TZOFFSETFROM:+0200
TZOFFSETTO:+0100
TZNAME:Europe/Paris CET
END:STANDARD
BEGIN:STANDARD
DTSTART:20191027T020000
RDATE:20200329T030000
TZOFFSETFROM:+0200
TZOFFSETTO:+0100
TZNAME:Europe/Paris CET
END:STANDARD
BEGIN:STANDARD
DTSTART:20201025T020000
RDATE:20210328T030000
TZOFFSETFROM:+0200
TZOFFSETTO:+0100
TZNAME:Europe/Paris CET
END:STANDARD
BEGIN:STANDARD
DTSTART:20211031T020000
RDATE:20220327T030000
TZOFFSETFROM:+0200
TZOFFSETTO:+0100
TZNAME:Europe/Paris CET
END:STANDARD
BEGIN:STANDARD
DTSTART:20221030T020000
RDATE:20230326T030000
TZOFFSETFROM:+0200
TZOFFSETTO:+0100
TZNAME:Europe/Paris CET
END:STANDARD
BEGIN:STANDARD
DTSTART:20231029T020000
RDATE:20240331T030000
TZOFFSETFROM:+0200
TZOFFSETTO:+0100
TZNAME:Europe/Paris CET
END:STANDARD
BEGIN:STANDARD
DTSTART:20241027T020000
RDATE:20250330T030000
TZOFFSETFROM:+0200
TZOFFSETTO:+0100
TZNAME:Europe/Paris CET
END:STANDARD
BEGIN:STANDARD
DTSTART:20251026T020000
RDATE:20260329T030000
TZOFFSETFROM:+0200
TZOFFSETTO:+0100
TZNAME:Europe/Paris CET
END:STANDARD
BEGIN:STANDARD
DTSTART:20261025T020000
RDATE:20270328T030000
TZOFFSETFROM:+0200
TZOFFSETTO:+0100
TZNAME:Europe/Paris CET
END:STANDARD
BEGIN:DAYLIGHT
DTSTART:20181011T000000
RDATE:20181028T020000
TZOFFSETFROM:+0100
TZOFFSETTO:+0200
TZNAME:Europe/Paris CEST
END:DAYLIGHT
BEGIN:DAYLIGHT
DTSTART:20190331T030000
RDATE:20191027T020000
TZOFFSETFROM:+0100
TZOFFSETTO:+0200
TZNAME:Europe/Paris CEST
END:DAYLIGHT
BEGIN:DAYLIGHT
DTSTART:20200329T030000
RDATE:20201025T020000
TZOFFSETFROM:+0100
TZOFFSETTO:+0200
TZNAME:Europe/Paris CEST
END:DAYLIGHT
BEGIN:DAYLIGHT
DTSTART:20210328T030000
RDATE:20211031T020000
TZOFFSETFROM:+0100
TZOFFSETTO:+0200
TZNAME:Europe/Paris CEST
END:DAYLIGHT
BEGIN:DAYLIGHT
DTSTART:20220327T030000
RDATE:20221030T020000
TZOFFSETFROM:+0100
TZOFFSETTO:+0200
TZNAME:Europe/Paris CEST
END:DAYLIGHT
BEGIN:DAYLIGHT
DTSTART:20230326T030000
RDATE:20231029T020000
TZOFFSETFROM:+0100
TZOFFSETTO:+0200
TZNAME:Europe/Paris CEST
END:DAYLIGHT
BEGIN:DAYLIGHT
DTSTART:20240331T030000
RDATE:20241027T020000
TZOFFSETFROM:+0100
TZOFFSETTO:+0200
TZNAME:Europe/Paris CEST
END:DAYLIGHT
BEGIN:DAYLIGHT
DTSTART:20250330T030000
RDATE:20251026T020000
TZOFFSETFROM:+0100
TZOFFSETTO:+0200
TZNAME:Europe/Paris CEST
END:DAYLIGHT
BEGIN:DAYLIGHT
DTSTART:20260329T030000
RDATE:20261025T020000
TZOFFSETFROM:+0100
TZOFFSETTO:+0200
TZNAME:Europe/Paris CEST
END:DAYLIGHT
END:VTIMEZONE
BEGIN:VEVENT
UID:f6511028a9b11e9b04c2c8b83cf8afce
CATEGORIES:Opens et Promos (alpin)
CREATED:20190816T090405
SUMMARY:PROMO
URL;VALUE=URI:https://skivosges.net/agenda/export-synchronisation/detailevenement/1313/-/
 promo?tmpl=component
DESCRIPTION:PROMO\n - Codex évenement AMVT0950\n - Lieu : Noeux les mines (stade de gli
 sse)\n - Organisateur : 14089 GERARDMER SKI ALPIN\n - Courriel : RegularLab
 s.EmailProtector.unCloak("ep_19898597");Période d'inscription à l'evènement
  du samedi 05 octobre 2019 à 00:00 au jeudi 10 octobre 2019 à 12:00 (Inscri
 ptions impossibles).Inscriptions ouvertes aux detenteurs des titres Fédérau
 x valides suivants : Licenciés Compétiteurs et Titres Loisirs et Dirigeants
 Epreuves :\n - Le samedi 12 octobre 2019\n - Codex épreuve AMVM0951\n - Sup
 er G\n - Catégorie(s) : Toutes les Categories (Garçons)\n - Le samedi 12 oc
 tobre 2019\n - Codex épreuve AMVF0951\n - Super G\n - Catégorie(s) : Toutes
  les Categories (Filles)\n - Voir les informations dans l'agenda... (/index
 .php?option=com_jevents&amp;task=icalevent.detail&amp;evid=1308&amp;Itemid=
 6283) Cet évènement a été importé depuis :https://skivosges.net/agenda/expo
 rt-synchronisation/detailevenement/1313/-/promo?tmpl=component
X-ALT-DESC;FMTTYPE=text/html:<!-- #gskiepreuve code généré par le plugin jevents pour GskiEpreuves. Ne p
 as modifier cette ligne, ni tout le contenu suivant  #gskiepreuve --><div c
 lass="gski-evenement_infos"><div class="gski-evenement-nom">PROMO</div><div
  class="gski-evenement-report"></div><ul class="gski-evenement-liste-infos"
 ><li>Codex évenement AMVT0950</li><li>Lieu : Noeux les mines (stade de glis
 se)</li><li>Organisateur : 14089 GERARDMER SKI ALPIN</li><li>Courriel : <!-
 - Cette adresse électronique est protégée contre les robots spammeurs. --><
 span class="cloaked_email ep_19898597"><span data-ep-b="&#114;" data-ep-a="
 &#104;ub&#101;r"><span data-ep-a="t&#46;&#103;&#111;&#117;" data-ep-b="&#11
 4;&#101;e&#46;&#102;"><span data-ep-a="r&#103;&#117;&#105;l" data-ep-b="l&#
 111;&#110;&#64;f"></span></span></span></span><script>RegularLabs.EmailProt
 ector.unCloak("ep_19898597");</script></li></ul><div class="gski-evenement-
 infos-2"><div class="gski-evenement-info-inscriptions"><div class="gski-eve
 nement-inscriptions-periodes">Période d'inscription à l'evènement du samedi
  05 octobre 2019 à 00:00 au jeudi 10 octobre 2019 à 12:00 <span class="gski
 -evenement-inscriptions-impossibles">(Inscriptions impossibles).</span><div
  class="gski-evenement-inscriptions-types-titres">Inscriptions ouvertes aux
  detenteurs des titres Fédéraux valides suivants : Licenciés Compétiteurs e
 t Titres Loisirs et Dirigeants</div></div></div><div class="gski-evenement-
 epreuves"><div class="gski-evenement-epreuves-titres">Epreuves :</div><ul c
 lass="gski-evenement-epreuves-list"><li><div class="gski-epreuve-date">Le s
 amedi 12 octobre 2019</div><ul class="gski-epreuve-liste-infos"><li>Codex é
 preuve AMVM0951</li><li>Super G</li><li>Catégorie(s) : Toutes les Categorie
 s (Garçons)</li></ul></li><li><div class="gski-epreuve-date">Le samedi 12 o
 ctobre 2019</div><ul class="gski-epreuve-liste-infos"><li>Codex épreuve AMV
 F0951</li><li>Super G</li><li>Catégorie(s) : Toutes les Categories (Filles)
 </li></ul></li></ul></div><div class="gskiepreuves-links"><ul><li><a href="
 https://skivosges.net/index.php?option=com_jevents&task=icalevent.detail&ev
 id=1308&Itemid=6283">Voir les informations dans l'agenda...</a></li></ul></
 div></div"><!-- #/gskiepreuve fin du dode généré par le plugin jevents pour
  GskiEpreuves. . Ne pas modifier cette ligne, ni tout le contenu précedant.
   #/gskiepreuve --> <a href="https://skivosges.net/agenda/export-synchronis
 ation/detailevenement/1313/-/promo?tmpl=component">Cet évènement a été impo
 rté depuis :https://skivosges.net/agenda/export-synchronisation/detailevene
 ment/1313/-/promo?tmpl=component</a>DTSTAMP:20260421T050831
DTSTART;TZID=Europe/Paris;VALUE=DATE:20191012
DTEND;TZID=Europe/Paris;VALUE=DATE:20191013
SEQUENCE:0
TRANSP:OPAQUE
END:VEVENT
END:VCALENDAR