BEGIN:VCALENDAR
VERSION:2.0
PRODID:-//jEvents 2.0 for Joomla//EN
CALSCALE:GREGORIAN
METHOD:PUBLISH
BEGIN:VTIMEZONE
TZID:Europe/Paris
BEGIN:STANDARD
DTSTART:20181028T020000
RDATE:20190331T030000
TZOFFSETFROM:+0200
TZOFFSETTO:+0100
TZNAME:Europe/Paris CET
END:STANDARD
BEGIN:STANDARD
DTSTART:20191027T020000
RDATE:20200329T030000
TZOFFSETFROM:+0200
TZOFFSETTO:+0100
TZNAME:Europe/Paris CET
END:STANDARD
BEGIN:STANDARD
DTSTART:20201025T020000
RDATE:20210328T030000
TZOFFSETFROM:+0200
TZOFFSETTO:+0100
TZNAME:Europe/Paris CET
END:STANDARD
BEGIN:STANDARD
DTSTART:20211031T020000
RDATE:20220327T030000
TZOFFSETFROM:+0200
TZOFFSETTO:+0100
TZNAME:Europe/Paris CET
END:STANDARD
BEGIN:STANDARD
DTSTART:20221030T020000
RDATE:20230326T030000
TZOFFSETFROM:+0200
TZOFFSETTO:+0100
TZNAME:Europe/Paris CET
END:STANDARD
BEGIN:STANDARD
DTSTART:20231029T020000
RDATE:20240331T030000
TZOFFSETFROM:+0200
TZOFFSETTO:+0100
TZNAME:Europe/Paris CET
END:STANDARD
BEGIN:STANDARD
DTSTART:20241027T020000
RDATE:20250330T030000
TZOFFSETFROM:+0200
TZOFFSETTO:+0100
TZNAME:Europe/Paris CET
END:STANDARD
BEGIN:STANDARD
DTSTART:20251026T020000
RDATE:20260329T030000
TZOFFSETFROM:+0200
TZOFFSETTO:+0100
TZNAME:Europe/Paris CET
END:STANDARD
BEGIN:STANDARD
DTSTART:20261025T020000
RDATE:20270328T030000
TZOFFSETFROM:+0200
TZOFFSETTO:+0100
TZNAME:Europe/Paris CET
END:STANDARD
BEGIN:DAYLIGHT
DTSTART:20180824T000000
RDATE:20181028T020000
TZOFFSETFROM:+0100
TZOFFSETTO:+0200
TZNAME:Europe/Paris CEST
END:DAYLIGHT
BEGIN:DAYLIGHT
DTSTART:20190331T030000
RDATE:20191027T020000
TZOFFSETFROM:+0100
TZOFFSETTO:+0200
TZNAME:Europe/Paris CEST
END:DAYLIGHT
BEGIN:DAYLIGHT
DTSTART:20200329T030000
RDATE:20201025T020000
TZOFFSETFROM:+0100
TZOFFSETTO:+0200
TZNAME:Europe/Paris CEST
END:DAYLIGHT
BEGIN:DAYLIGHT
DTSTART:20210328T030000
RDATE:20211031T020000
TZOFFSETFROM:+0100
TZOFFSETTO:+0200
TZNAME:Europe/Paris CEST
END:DAYLIGHT
BEGIN:DAYLIGHT
DTSTART:20220327T030000
RDATE:20221030T020000
TZOFFSETFROM:+0100
TZOFFSETTO:+0200
TZNAME:Europe/Paris CEST
END:DAYLIGHT
BEGIN:DAYLIGHT
DTSTART:20230326T030000
RDATE:20231029T020000
TZOFFSETFROM:+0100
TZOFFSETTO:+0200
TZNAME:Europe/Paris CEST
END:DAYLIGHT
BEGIN:DAYLIGHT
DTSTART:20240331T030000
RDATE:20241027T020000
TZOFFSETFROM:+0100
TZOFFSETTO:+0200
TZNAME:Europe/Paris CEST
END:DAYLIGHT
BEGIN:DAYLIGHT
DTSTART:20250330T030000
RDATE:20251026T020000
TZOFFSETFROM:+0100
TZOFFSETTO:+0200
TZNAME:Europe/Paris CEST
END:DAYLIGHT
BEGIN:DAYLIGHT
DTSTART:20260329T030000
RDATE:20261025T020000
TZOFFSETFROM:+0100
TZOFFSETTO:+0200
TZNAME:Europe/Paris CEST
END:DAYLIGHT
END:VTIMEZONE
BEGIN:VEVENT
UID:0a5023fc45e7abd1ea58c4dc8f2b6ad8
CATEGORIES:Compétition Biathlon
CREATED:20190822T222824
SUMMARY:TROPHEE ANDROS XONRUPT Challenge crédit mutuel TGL
URL;VALUE=URI:https://skivosges.net/agenda/export-synchronisation/detailevenement/1317/-/
 trophee-andros-xonrupt-challenge-credit-mutuel-tgl?tmpl=component
DESCRIPTION:<!-- #gskiepreuve code généré par le plugin jevents pour GskiEpreuves. Ne p
 as modifier cette ligne, ni tout le contenu suivant  #gskiepreuve --><div c
 lass="gski-evenement_infos"><div class="gski-evenement-nom">TROPHEE ANDROS 
 XONRUPT Challenge crédit mutuel TGL</div><div class="gski-evenement-report"
 ></div><ul class="gski-evenement-liste-infos"><li>Codex évenement BMVT0080<
 /li><li>Station : XONRUPT</li><li>Organisateur : 14102 SKI CLUB XONRUPT</li
 ><li><span class="gski-evenement-obs">Délégué Technique : CLAUDE CHRISTINE<
 /span></li></ul><div class="gski-evenement-infos-2"><div class="gski-evenem
 ent-info-inscriptions"><div class="gski-evenement-inscriptions-periodes">Pé
 riode d'inscription à l'evènement du dimanche 18 août 2019 à 00:00 au vendr
 edi 23 août 2019 à 12:00 <span class="gski-evenement-inscriptions-impossibl
 es">(Inscriptions impossibles).</span><div class="gski-evenement-inscriptio
 ns-types-titres">Inscriptions ouvertes aux detenteurs des titres Fédéraux v
 alides suivants : Licenciés Compétiteurs</div></div></div><div class="gski-
 evenement-epreuves"><div class="gski-evenement-epreuves-titres">Epreuves :<
 /div><ul class="gski-evenement-epreuves-list"><li><div class="gski-epreuve-
 date">Le dimanche 25 août 2019</div><ul class="gski-epreuve-liste-infos"><l
 i>Codex épreuve BMVF0081</li><li>Sprint</li><li>Catégorie(s) : U9 (Filles)<
 /li></ul></li><li><div class="gski-epreuve-date">Le dimanche 25 août 2019</
 div><ul class="gski-epreuve-liste-infos"><li>Codex épreuve BMVF0082</li><li
 >Sprint</li><li>Catégorie(s) : U11 (Filles)</li></ul></li><li><div class="g
 ski-epreuve-date">Le dimanche 25 août 2019</div><ul class="gski-epreuve-lis
 te-infos"><li>Codex épreuve BMVF0083</li><li>Sprint</li><li>Catégorie(s) : 
 U13 (Filles)</li></ul></li><li><div class="gski-epreuve-date">Le dimanche 2
 5 août 2019</div><ul class="gski-epreuve-liste-infos"><li>Codex épreuve BMV
 F0084</li><li>Sprint</li><li>Catégorie(s) : U15 (Filles)</li></ul></li><li>
 <div class="gski-epreuve-date">Le dimanche 25 août 2019</div><ul class="gsk
 i-epreuve-liste-infos"><li>Codex épreuve BMVM0081</li><li>Sprint</li><li>Ca
 tégorie(s) : U9 (Garçons)</li></ul></li><li><div class="gski-epreuve-date">
 Le dimanche 25 août 2019</div><ul class="gski-epreuve-liste-infos"><li>Code
 x épreuve BMVM0082</li><li>Sprint</li><li>Catégorie(s) : U11 (Garçons)</li>
 </ul></li><li><div class="gski-epreuve-date">Le dimanche 25 août 2019</div>
 <ul class="gski-epreuve-liste-infos"><li>Codex épreuve BMVM0083</li><li>Spr
 int</li><li>Catégorie(s) : U13 (Garçons)</li></ul></li><li><div class="gski
 -epreuve-date">Le dimanche 25 août 2019</div><ul class="gski-epreuve-liste-
 infos"><li>Codex épreuve BMVM0084</li><li>Sprint</li><li>Catégorie(s) : U15
  (Garçons)</li></ul></li></ul></div><div class="gskiepreuves-links"><ul><li
 ><a href="/index.php?option=com_jevents&task=icalevent.detail&evid=1312&Ite
 mid=6283">Voir les informations dans l'agenda...</a></li></ul></div></div">
 <!-- #/gskiepreuve fin du dode généré par le plugin jevents pour GskiEpreuv
 es. . Ne pas modifier cette ligne, ni tout le contenu précedant.  #/gskiepr
 euve --> <a href="https://skivosges.net/agenda/export-synchronisation/detai
 levenement/1317/-/trophee-andros-xonrupt-challenge-credit-mutuel-tgl?tmpl=c
 omponent">Cet évènement a été importé depuis :https://skivosges.net/agenda/
 export-synchronisation/detailevenement/1317/-/trophee-andros-xonrupt-challe
 nge-credit-mutuel-tgl?tmpl=component</a>
X-ALT-DESC;FMTTYPE=text/html:<!-- #gskiepreuve code généré par le plugin jevents pour GskiEpreuves. Ne p
 as modifier cette ligne, ni tout le contenu suivant  #gskiepreuve --><div c
 lass="gski-evenement_infos"><div class="gski-evenement-nom">TROPHEE ANDROS 
 XONRUPT Challenge crédit mutuel TGL</div><div class="gski-evenement-report"
 ></div><ul class="gski-evenement-liste-infos"><li>Codex évenement BMVT0080<
 /li><li>Station : XONRUPT</li><li>Organisateur : 14102 SKI CLUB XONRUPT</li
 ><li><span class="gski-evenement-obs">Délégué Technique : CLAUDE CHRISTINE<
 /span></li></ul><div class="gski-evenement-infos-2"><div class="gski-evenem
 ent-info-inscriptions"><div class="gski-evenement-inscriptions-periodes">Pé
 riode d'inscription à l'evènement du dimanche 18 août 2019 à 00:00 au vendr
 edi 23 août 2019 à 12:00 <span class="gski-evenement-inscriptions-impossibl
 es">(Inscriptions impossibles).</span><div class="gski-evenement-inscriptio
 ns-types-titres">Inscriptions ouvertes aux detenteurs des titres Fédéraux v
 alides suivants : Licenciés Compétiteurs</div></div></div><div class="gski-
 evenement-epreuves"><div class="gski-evenement-epreuves-titres">Epreuves :<
 /div><ul class="gski-evenement-epreuves-list"><li><div class="gski-epreuve-
 date">Le dimanche 25 août 2019</div><ul class="gski-epreuve-liste-infos"><l
 i>Codex épreuve BMVF0081</li><li>Sprint</li><li>Catégorie(s) : U9 (Filles)<
 /li></ul></li><li><div class="gski-epreuve-date">Le dimanche 25 août 2019</
 div><ul class="gski-epreuve-liste-infos"><li>Codex épreuve BMVF0082</li><li
 >Sprint</li><li>Catégorie(s) : U11 (Filles)</li></ul></li><li><div class="g
 ski-epreuve-date">Le dimanche 25 août 2019</div><ul class="gski-epreuve-lis
 te-infos"><li>Codex épreuve BMVF0083</li><li>Sprint</li><li>Catégorie(s) : 
 U13 (Filles)</li></ul></li><li><div class="gski-epreuve-date">Le dimanche 2
 5 août 2019</div><ul class="gski-epreuve-liste-infos"><li>Codex épreuve BMV
 F0084</li><li>Sprint</li><li>Catégorie(s) : U15 (Filles)</li></ul></li><li>
 <div class="gski-epreuve-date">Le dimanche 25 août 2019</div><ul class="gsk
 i-epreuve-liste-infos"><li>Codex épreuve BMVM0081</li><li>Sprint</li><li>Ca
 tégorie(s) : U9 (Garçons)</li></ul></li><li><div class="gski-epreuve-date">
 Le dimanche 25 août 2019</div><ul class="gski-epreuve-liste-infos"><li>Code
 x épreuve BMVM0082</li><li>Sprint</li><li>Catégorie(s) : U11 (Garçons)</li>
 </ul></li><li><div class="gski-epreuve-date">Le dimanche 25 août 2019</div>
 <ul class="gski-epreuve-liste-infos"><li>Codex épreuve BMVM0083</li><li>Spr
 int</li><li>Catégorie(s) : U13 (Garçons)</li></ul></li><li><div class="gski
 -epreuve-date">Le dimanche 25 août 2019</div><ul class="gski-epreuve-liste-
 infos"><li>Codex épreuve BMVM0084</li><li>Sprint</li><li>Catégorie(s) : U15
  (Garçons)</li></ul></li></ul></div><div class="gskiepreuves-links"><ul><li
 ><a href="https://skivosges.net/index.php?option=com_jevents&task=icalevent
 .detail&evid=1312&Itemid=6283">Voir les informations dans l'agenda...</a></
 li></ul></div></div"><!-- #/gskiepreuve fin du dode généré par le plugin je
 vents pour GskiEpreuves. . Ne pas modifier cette ligne, ni tout le contenu 
 précedant.  #/gskiepreuve --> <a href="https://skivosges.net/agenda/export-
 synchronisation/detailevenement/1317/-/trophee-andros-xonrupt-challenge-cre
 dit-mutuel-tgl?tmpl=component">Cet évènement a été importé depuis :https://
 skivosges.net/agenda/export-synchronisation/detailevenement/1317/-/trophee-
 andros-xonrupt-challenge-credit-mutuel-tgl?tmpl=component</a>DTSTAMP:20260420T112555
DTSTART;TZID=Europe/Paris;VALUE=DATE:20190825
DTEND;TZID=Europe/Paris;VALUE=DATE:20190826
SEQUENCE:0
TRANSP:OPAQUE
END:VEVENT
END:VCALENDAR