BEGIN:VCALENDAR
VERSION:2.0
PRODID:-//jEvents 2.0 for Joomla//EN
CALSCALE:GREGORIAN
METHOD:PUBLISH
BEGIN:VTIMEZONE
TZID:Europe/Paris
BEGIN:STANDARD
DTSTART:20181028T020000
RDATE:20190331T030000
TZOFFSETFROM:+0200
TZOFFSETTO:+0100
TZNAME:Europe/Paris CET
END:STANDARD
BEGIN:STANDARD
DTSTART:20191027T020000
RDATE:20200329T030000
TZOFFSETFROM:+0200
TZOFFSETTO:+0100
TZNAME:Europe/Paris CET
END:STANDARD
BEGIN:STANDARD
DTSTART:20201025T020000
RDATE:20210328T030000
TZOFFSETFROM:+0200
TZOFFSETTO:+0100
TZNAME:Europe/Paris CET
END:STANDARD
BEGIN:STANDARD
DTSTART:20211031T020000
RDATE:20220327T030000
TZOFFSETFROM:+0200
TZOFFSETTO:+0100
TZNAME:Europe/Paris CET
END:STANDARD
BEGIN:STANDARD
DTSTART:20221030T020000
RDATE:20230326T030000
TZOFFSETFROM:+0200
TZOFFSETTO:+0100
TZNAME:Europe/Paris CET
END:STANDARD
BEGIN:STANDARD
DTSTART:20231029T020000
RDATE:20240331T030000
TZOFFSETFROM:+0200
TZOFFSETTO:+0100
TZNAME:Europe/Paris CET
END:STANDARD
BEGIN:STANDARD
DTSTART:20241027T020000
RDATE:20250330T030000
TZOFFSETFROM:+0200
TZOFFSETTO:+0100
TZNAME:Europe/Paris CET
END:STANDARD
BEGIN:STANDARD
DTSTART:20251026T020000
RDATE:20260329T030000
TZOFFSETFROM:+0200
TZOFFSETTO:+0100
TZNAME:Europe/Paris CET
END:STANDARD
BEGIN:STANDARD
DTSTART:20261025T020000
RDATE:20270328T030000
TZOFFSETFROM:+0200
TZOFFSETTO:+0100
TZNAME:Europe/Paris CET
END:STANDARD
BEGIN:DAYLIGHT
DTSTART:20180906T000000
RDATE:20181028T020000
TZOFFSETFROM:+0100
TZOFFSETTO:+0200
TZNAME:Europe/Paris CEST
END:DAYLIGHT
BEGIN:DAYLIGHT
DTSTART:20190331T030000
RDATE:20191027T020000
TZOFFSETFROM:+0100
TZOFFSETTO:+0200
TZNAME:Europe/Paris CEST
END:DAYLIGHT
BEGIN:DAYLIGHT
DTSTART:20200329T030000
RDATE:20201025T020000
TZOFFSETFROM:+0100
TZOFFSETTO:+0200
TZNAME:Europe/Paris CEST
END:DAYLIGHT
BEGIN:DAYLIGHT
DTSTART:20210328T030000
RDATE:20211031T020000
TZOFFSETFROM:+0100
TZOFFSETTO:+0200
TZNAME:Europe/Paris CEST
END:DAYLIGHT
BEGIN:DAYLIGHT
DTSTART:20220327T030000
RDATE:20221030T020000
TZOFFSETFROM:+0100
TZOFFSETTO:+0200
TZNAME:Europe/Paris CEST
END:DAYLIGHT
BEGIN:DAYLIGHT
DTSTART:20230326T030000
RDATE:20231029T020000
TZOFFSETFROM:+0100
TZOFFSETTO:+0200
TZNAME:Europe/Paris CEST
END:DAYLIGHT
BEGIN:DAYLIGHT
DTSTART:20240331T030000
RDATE:20241027T020000
TZOFFSETFROM:+0100
TZOFFSETTO:+0200
TZNAME:Europe/Paris CEST
END:DAYLIGHT
BEGIN:DAYLIGHT
DTSTART:20250330T030000
RDATE:20251026T020000
TZOFFSETFROM:+0100
TZOFFSETTO:+0200
TZNAME:Europe/Paris CEST
END:DAYLIGHT
BEGIN:DAYLIGHT
DTSTART:20260329T030000
RDATE:20261025T020000
TZOFFSETFROM:+0100
TZOFFSETTO:+0200
TZNAME:Europe/Paris CEST
END:DAYLIGHT
END:VTIMEZONE
BEGIN:VEVENT
UID:e94f6e6b7562dbf7ba17306404280f55
CATEGORIES:Compétition Biathlon
CREATED:20190830T154936
SUMMARY:CHALLENGE CREDIT MUTUEL TGL
URL;VALUE=URI:https://skivosges.net/agenda/export-synchronisation/detailevenement/1318/-/
 challenge-credit-mutuel-tgl?tmpl=component
DESCRIPTION:CHALLENGE CREDIT MUTUEL TGL\n - Codex évenement BMVT0090\n - Station : LA B
 RESSE\n - Organisateur : 14024 LA BRESSAUDE SECTION SKI\n - Courriel : Regu
 larLabs.EmailProtector.unCloak("ep_2ef85313");\n - Délégué Technique : LEJE
 UNE DAMIENPériode d'inscription à l'evènement du samedi 31 août 2019 à 00:0
 0 au vendredi 06 septembre 2019 à 18:00 (Inscriptions impossibles).Inscript
 ions ouvertes aux detenteurs des titres Fédéraux valides suivants : Licenci
 és CompétiteursEpreuves :\n - Le samedi 07 septembre 2019\n - Codex épreuve
  BMVF0091\n - Mass start\n - Catégorie(s) : U15 (Filles)\n - Le samedi 07 s
 eptembre 2019\n - Codex épreuve BMVM0091\n - Mass start\n - Catégorie(s) : 
 U15 (Garçons)\n - Le samedi 07 septembre 2019\n - Codex épreuve BMVF0092\n 
 - Mass start\n - Catégorie(s) : U17 (Filles)\n - Le samedi 07 septembre 201
 9\n - Codex épreuve BMVM0092\n - Mass start\n - Catégorie(s) : U17 (Garçons
 )\n - Le samedi 07 septembre 2019\n - Codex épreuve BMVF0093\n - Mass start
 \n - Catégorie(s) : U19 (Dames)\n - Le samedi 07 septembre 2019\n - Codex é
 preuve BMVM0093\n - Mass start\n - Catégorie(s) : U19 (Hommes)\n - Le samed
 i 07 septembre 2019\n - Codex épreuve BMVF0094\n - Mass start\n - Catégorie
 (s) : U21 (Dames)\n - Le samedi 07 septembre 2019\n - Codex épreuve BMVM009
 4\n - Mass start\n - Catégorie(s) : U21 (Hommes)\n - Le samedi 07 septembre
  2019\n - Codex épreuve BMVF0095\n - Mass start\n - Catégorie(s) : Senior (
 Dames)\n - Le samedi 07 septembre 2019\n - Codex épreuve BMVM0095\n - Mass 
 start\n - Catégorie(s) : Senior (Hommes)\n - Voir les informations dans l'a
 genda... (/index.php?option=com_jevents&amp;task=icalevent.detail&amp;evid=
 1313&amp;Itemid=6283)\n - Vers les résultats... (/index.php?option=com_gski
 epreuves&amp;view=afficheresultats&amp;format_option=tous&amp;filter[search
 ]=BMVT0090&amp;filter[date_debut]=07-09-2019&amp;filter[date_fin]=07-09-201
 9&amp;code_activite=BIATH&amp;Itemid=6283)\n - Publications concernant cet 
 évènement :\n - Samedi 7 Septembre 2019 à 09:39 : Le 07/09/2019 LA BRESSE L
 iste de départs Cet évènement a été importé depuis :https://skivosges.net/a
 genda/export-synchronisation/detailevenement/1318/-/challenge-credit-mutuel
 -tgl?tmpl=component
X-ALT-DESC;FMTTYPE=text/html:<!-- #gskiepreuve code généré par le plugin jevents pour GskiEpreuves. Ne p
 as modifier cette ligne, ni tout le contenu suivant  #gskiepreuve --><div c
 lass="gski-evenement_infos"><div class="gski-evenement-nom">CHALLENGE CREDI
 T MUTUEL TGL</div><div class="gski-evenement-report"></div><ul class="gski-
 evenement-liste-infos"><li>Codex évenement BMVT0090</li><li>Station : LA BR
 ESSE</li><li>Organisateur : 14024 LA BRESSAUDE SECTION SKI</li><li>Courriel
  : <!-- Cette adresse électronique est protégée contre les robots spammeurs
 . --><span class="cloaked_email ep_2ef85313"><span data-ep-a="o&#100;&#105;
 &#108;&#101;" data-ep-b="f&#114;"><span data-ep-b="a&#110;&#103;&#101;&#46;
 " data-ep-a="&#46;&#109;&#117;&#110;s"><span data-ep-b="&#108;b&#64;o&#114;
 " data-ep-a="&#99;&#104;.sc"></span></span></span></span><script>RegularLab
 s.EmailProtector.unCloak("ep_2ef85313");</script></li><li><span class="gski
 -evenement-obs">Délégué Technique : LEJEUNE DAMIEN</span></li></ul><div cla
 ss="gski-evenement-infos-2"><div class="gski-evenement-info-inscriptions"><
 div class="gski-evenement-inscriptions-periodes">Période d'inscription à l'
 evènement du samedi 31 août 2019 à 00:00 au vendredi 06 septembre 2019 à 18
 :00 <span class="gski-evenement-inscriptions-impossibles">(Inscriptions imp
 ossibles).</span><div class="gski-evenement-inscriptions-types-titres">Insc
 riptions ouvertes aux detenteurs des titres Fédéraux valides suivants : Lic
 enciés Compétiteurs</div></div></div><div class="gski-evenement-epreuves"><
 div class="gski-evenement-epreuves-titres">Epreuves :</div><ul class="gski-
 evenement-epreuves-list"><li><div class="gski-epreuve-date">Le samedi 07 se
 ptembre 2019</div><ul class="gski-epreuve-liste-infos"><li>Codex épreuve BM
 VF0091</li><li>Mass start</li><li>Catégorie(s) : U15 (Filles)</li></ul></li
 ><li><div class="gski-epreuve-date">Le samedi 07 septembre 2019</div><ul cl
 ass="gski-epreuve-liste-infos"><li>Codex épreuve BMVM0091</li><li>Mass star
 t</li><li>Catégorie(s) : U15 (Garçons)</li></ul></li><li><div class="gski-e
 preuve-date">Le samedi 07 septembre 2019</div><ul class="gski-epreuve-liste
 -infos"><li>Codex épreuve BMVF0092</li><li>Mass start</li><li>Catégorie(s) 
 : U17 (Filles)</li></ul></li><li><div class="gski-epreuve-date">Le samedi 0
 7 septembre 2019</div><ul class="gski-epreuve-liste-infos"><li>Codex épreuv
 e BMVM0092</li><li>Mass start</li><li>Catégorie(s) : U17 (Garçons)</li></ul
 ></li><li><div class="gski-epreuve-date">Le samedi 07 septembre 2019</div><
 ul class="gski-epreuve-liste-infos"><li>Codex épreuve BMVF0093</li><li>Mass
  start</li><li>Catégorie(s) : U19 (Dames)</li></ul></li><li><div class="gsk
 i-epreuve-date">Le samedi 07 septembre 2019</div><ul class="gski-epreuve-li
 ste-infos"><li>Codex épreuve BMVM0093</li><li>Mass start</li><li>Catégorie(
 s) : U19 (Hommes)</li></ul></li><li><div class="gski-epreuve-date">Le samed
 i 07 septembre 2019</div><ul class="gski-epreuve-liste-infos"><li>Codex épr
 euve BMVF0094</li><li>Mass start</li><li>Catégorie(s) : U21 (Dames)</li></u
 l></li><li><div class="gski-epreuve-date">Le samedi 07 septembre 2019</div>
 <ul class="gski-epreuve-liste-infos"><li>Codex épreuve BMVM0094</li><li>Mas
 s start</li><li>Catégorie(s) : U21 (Hommes)</li></ul></li><li><div class="g
 ski-epreuve-date">Le samedi 07 septembre 2019</div><ul class="gski-epreuve-
 liste-infos"><li>Codex épreuve BMVF0095</li><li>Mass start</li><li>Catégori
 e(s) : Senior (Dames)</li></ul></li><li><div class="gski-epreuve-date">Le s
 amedi 07 septembre 2019</div><ul class="gski-epreuve-liste-infos"><li>Codex
  épreuve BMVM0095</li><li>Mass start</li><li>Catégorie(s) : Senior (Hommes)
 </li></ul></li></ul></div><div class="gskiepreuves-links"><ul><li><a href="
 https://skivosges.net/index.php?option=com_jevents&task=icalevent.detail&ev
 id=1313&Itemid=6283">Voir les informations dans l'agenda...</a></li><li><a 
 href="https://skivosges.net/index.php?option=com_gskiepreuves&view=afficher
 esultats&format_option=tous&filter[search]=BMVT0090&filter[date_debut]=07-0
 9-2019&filter[date_fin]=07-09-2019&code_activite=BIATH&Itemid=6283">Vers le
 s résultats...</a></li><li>Publications concernant cet évènement :<ul><li><
 a href="https://skivosges.net/index.php?option=com_content&view=article&id=
 6911&Itemid=6283">Samedi 7 Septembre 2019 à 09:39 : Le 07/09/2019 LA BRESSE
  Liste de départs</a></li></ul></li></ul></div></div"><!-- #/gskiepreuve fi
 n du dode généré par le plugin jevents pour GskiEpreuves. . Ne pas modifier
  cette ligne, ni tout le contenu précedant.  #/gskiepreuve --> <a href="htt
 ps://skivosges.net/agenda/export-synchronisation/detailevenement/1318/-/cha
 llenge-credit-mutuel-tgl?tmpl=component">Cet évènement a été importé depuis
  :https://skivosges.net/agenda/export-synchronisation/detailevenement/1318/
 -/challenge-credit-mutuel-tgl?tmpl=component</a>DTSTAMP:20260421T014348
DTSTART;TZID=Europe/Paris;VALUE=DATE:20190907
DTEND;TZID=Europe/Paris;VALUE=DATE:20190908
SEQUENCE:0
TRANSP:OPAQUE
END:VEVENT
END:VCALENDAR