BEGIN:VCALENDAR
VERSION:2.0
PRODID:-//jEvents 2.0 for Joomla//EN
CALSCALE:GREGORIAN
METHOD:PUBLISH
BEGIN:VTIMEZONE
TZID:Europe/Paris
BEGIN:STANDARD
DTSTART:20181028T020000
RDATE:20190331T030000
TZOFFSETFROM:+0200
TZOFFSETTO:+0100
TZNAME:Europe/Paris CET
END:STANDARD
BEGIN:STANDARD
DTSTART:20191027T020000
RDATE:20200329T030000
TZOFFSETFROM:+0200
TZOFFSETTO:+0100
TZNAME:Europe/Paris CET
END:STANDARD
BEGIN:STANDARD
DTSTART:20201025T020000
RDATE:20210328T030000
TZOFFSETFROM:+0200
TZOFFSETTO:+0100
TZNAME:Europe/Paris CET
END:STANDARD
BEGIN:STANDARD
DTSTART:20211031T020000
RDATE:20220327T030000
TZOFFSETFROM:+0200
TZOFFSETTO:+0100
TZNAME:Europe/Paris CET
END:STANDARD
BEGIN:STANDARD
DTSTART:20221030T020000
RDATE:20230326T030000
TZOFFSETFROM:+0200
TZOFFSETTO:+0100
TZNAME:Europe/Paris CET
END:STANDARD
BEGIN:STANDARD
DTSTART:20231029T020000
RDATE:20240331T030000
TZOFFSETFROM:+0200
TZOFFSETTO:+0100
TZNAME:Europe/Paris CET
END:STANDARD
BEGIN:STANDARD
DTSTART:20241027T020000
RDATE:20250330T030000
TZOFFSETFROM:+0200
TZOFFSETTO:+0100
TZNAME:Europe/Paris CET
END:STANDARD
BEGIN:STANDARD
DTSTART:20251026T020000
RDATE:20260329T030000
TZOFFSETFROM:+0200
TZOFFSETTO:+0100
TZNAME:Europe/Paris CET
END:STANDARD
BEGIN:STANDARD
DTSTART:20261025T020000
RDATE:20270328T030000
TZOFFSETFROM:+0200
TZOFFSETTO:+0100
TZNAME:Europe/Paris CET
END:STANDARD
BEGIN:DAYLIGHT
DTSTART:20180928T000000
RDATE:20181028T020000
TZOFFSETFROM:+0100
TZOFFSETTO:+0200
TZNAME:Europe/Paris CEST
END:DAYLIGHT
BEGIN:DAYLIGHT
DTSTART:20190331T030000
RDATE:20191027T020000
TZOFFSETFROM:+0100
TZOFFSETTO:+0200
TZNAME:Europe/Paris CEST
END:DAYLIGHT
BEGIN:DAYLIGHT
DTSTART:20200329T030000
RDATE:20201025T020000
TZOFFSETFROM:+0100
TZOFFSETTO:+0200
TZNAME:Europe/Paris CEST
END:DAYLIGHT
BEGIN:DAYLIGHT
DTSTART:20210328T030000
RDATE:20211031T020000
TZOFFSETFROM:+0100
TZOFFSETTO:+0200
TZNAME:Europe/Paris CEST
END:DAYLIGHT
BEGIN:DAYLIGHT
DTSTART:20220327T030000
RDATE:20221030T020000
TZOFFSETFROM:+0100
TZOFFSETTO:+0200
TZNAME:Europe/Paris CEST
END:DAYLIGHT
BEGIN:DAYLIGHT
DTSTART:20230326T030000
RDATE:20231029T020000
TZOFFSETFROM:+0100
TZOFFSETTO:+0200
TZNAME:Europe/Paris CEST
END:DAYLIGHT
BEGIN:DAYLIGHT
DTSTART:20240331T030000
RDATE:20241027T020000
TZOFFSETFROM:+0100
TZOFFSETTO:+0200
TZNAME:Europe/Paris CEST
END:DAYLIGHT
BEGIN:DAYLIGHT
DTSTART:20250330T030000
RDATE:20251026T020000
TZOFFSETFROM:+0100
TZOFFSETTO:+0200
TZNAME:Europe/Paris CEST
END:DAYLIGHT
BEGIN:DAYLIGHT
DTSTART:20260329T030000
RDATE:20261025T020000
TZOFFSETFROM:+0100
TZOFFSETTO:+0200
TZNAME:Europe/Paris CEST
END:DAYLIGHT
END:VTIMEZONE
BEGIN:VEVENT
UID:32ca20302333a1d5d4dbfeeaac8d7d4c
CATEGORIES:Roller Ski
CREATED:20190919T224141
SUMMARY:SPRINT SKI ROUE LA BRESSE
URL;VALUE=URI:https://skivosges.net/agenda/export-synchronisation/detailevenement/1320/-/
 sprint-ski-roue-la-bresse?tmpl=component
DESCRIPTION:SPRINT SKI ROUE LA BRESSE\n - Codex évenement OMVT0020\n - Lieu : STADE LA 
 TENINE\n - Station : LA BRESSE\n - Organisateur : 14024 LA BRESSAUDE SECTIO
 N SKI\n - Courriel : RegularLabs.EmailProtector.unCloak("ep_9251bca4");\n -
  Téléphone : 06 08 85 52 52\n - Délégué Technique : VAXELAIRE ANNICKPériode
  d'inscription à l'evènement du dimanche 22 septembre 2019 à 00:00 au vendr
 edi 27 septembre 2019 à 12:00 (Inscriptions impossibles).Inscriptions ouver
 tes aux detenteurs des titres Fédéraux valides suivants : Licenciés Compéti
 teursEpreuves :\n - Le dimanche 29 septembre 2019\n - Codex épreuve OMVF002
 1\n - Individuel\n - Catégorie(s) : U15 (Filles)\n - Le dimanche 29 septemb
 re 2019\n - Codex épreuve OMVM0021\n - Individuel\n - Catégorie(s) : U15 (G
 arçons)\n - Le dimanche 29 septembre 2019\n - Codex épreuve OMVM0022\n - In
 dividuel\n - Catégorie(s) : U17 (Garçons)\n - Le dimanche 29 septembre 2019
 \n - Codex épreuve OMVF0022\n - Individuel\n - Catégorie(s) : U17 (Filles)\
 n - Le dimanche 29 septembre 2019\n - Codex épreuve OMVF0023\n - Individuel
 \n - Catégorie(s) : U20 a SEN (Dames)\n - Le dimanche 29 septembre 2019\n -
  Codex épreuve OMVM0023\n - Individuel\n - Catégorie(s) : U20 a SEN (Hommes
 )\n - Voir les informations dans l'agenda... (/index.php?option=com_jevents
 &amp;task=icalevent.detail&amp;evid=1315&amp;Itemid=6283)\n - Vers les résu
 ltats... (/index.php?option=com_gskiepreuves&amp;view=afficheresultats&amp;
 format_option=tous&amp;filter[search]=OMVT0020&amp;filter[date_debut]=29-09
 -2019&amp;filter[date_fin]=29-09-2019&amp;code_activite=ROL&amp;Itemid=6283
 ) Cet évènement a été importé depuis :https://skivosges.net/agenda/export-s
 ynchronisation/detailevenement/1320/-/sprint-ski-roue-la-bresse?tmpl=compon
 ent
X-ALT-DESC;FMTTYPE=text/html:<!-- #gskiepreuve code généré par le plugin jevents pour GskiEpreuves. Ne p
 as modifier cette ligne, ni tout le contenu suivant  #gskiepreuve --><div c
 lass="gski-evenement_infos"><div class="gski-evenement-nom">SPRINT SKI ROUE
  LA BRESSE</div><div class="gski-evenement-report"></div><ul class="gski-ev
 enement-liste-infos"><li>Codex évenement OMVT0020</li><li>Lieu : STADE LA T
 ENINE</li><li>Station : LA BRESSE</li><li>Organisateur : 14024 LA BRESSAUDE
  SECTION SKI</li><li>Courriel : <!-- Cette adresse électronique est protégé
 e contre les robots spammeurs. --><span class="cloaked_email ep_9251bca4"><
 span data-ep-b="&#102;&#114;" data-ep-a="&#121;&#100;&#111;"><span data-ep-
 b="oo." data-ep-a="&#100;&#105;n"><span data-ep-b="&#110;a&#100;" data-ep-a
 ="&#64;&#119;&#97;"></span></span></span></span><script>RegularLabs.EmailPr
 otector.unCloak("ep_9251bca4");</script></li><li>Téléphone : 06 08 85 52 52
 </li><li><span class="gski-evenement-obs">Délégué Technique : VAXELAIRE ANN
 ICK</span></li></ul><div class="gski-evenement-infos-2"><div class="gski-ev
 enement-info-inscriptions"><div class="gski-evenement-inscriptions-periodes
 ">Période d'inscription à l'evènement du dimanche 22 septembre 2019 à 00:00
  au vendredi 27 septembre 2019 à 12:00 <span class="gski-evenement-inscript
 ions-impossibles">(Inscriptions impossibles).</span><div class="gski-evenem
 ent-inscriptions-types-titres">Inscriptions ouvertes aux detenteurs des tit
 res Fédéraux valides suivants : Licenciés Compétiteurs</div></div></div><di
 v class="gski-evenement-epreuves"><div class="gski-evenement-epreuves-titre
 s">Epreuves :</div><ul class="gski-evenement-epreuves-list"><li><div class=
 "gski-epreuve-date">Le dimanche 29 septembre 2019</div><ul class="gski-epre
 uve-liste-infos"><li>Codex épreuve OMVF0021</li><li>Individuel</li><li>Caté
 gorie(s) : U15 (Filles)</li></ul></li><li><div class="gski-epreuve-date">Le
  dimanche 29 septembre 2019</div><ul class="gski-epreuve-liste-infos"><li>C
 odex épreuve OMVM0021</li><li>Individuel</li><li>Catégorie(s) : U15 (Garçon
 s)</li></ul></li><li><div class="gski-epreuve-date">Le dimanche 29 septembr
 e 2019</div><ul class="gski-epreuve-liste-infos"><li>Codex épreuve OMVM0022
 </li><li>Individuel</li><li>Catégorie(s) : U17 (Garçons)</li></ul></li><li>
 <div class="gski-epreuve-date">Le dimanche 29 septembre 2019</div><ul class
 ="gski-epreuve-liste-infos"><li>Codex épreuve OMVF0022</li><li>Individuel</
 li><li>Catégorie(s) : U17 (Filles)</li></ul></li><li><div class="gski-epreu
 ve-date">Le dimanche 29 septembre 2019</div><ul class="gski-epreuve-liste-i
 nfos"><li>Codex épreuve OMVF0023</li><li>Individuel</li><li>Catégorie(s) : 
 U20 a SEN (Dames)</li></ul></li><li><div class="gski-epreuve-date">Le diman
 che 29 septembre 2019</div><ul class="gski-epreuve-liste-infos"><li>Codex é
 preuve OMVM0023</li><li>Individuel</li><li>Catégorie(s) : U20 a SEN (Hommes
 )</li></ul></li></ul></div><div class="gskiepreuves-links"><ul><li><a href=
 "https://skivosges.net/index.php?option=com_jevents&task=icalevent.detail&e
 vid=1315&Itemid=6283">Voir les informations dans l'agenda...</a></li><li><a
  href="https://skivosges.net/index.php?option=com_gskiepreuves&view=affiche
 resultats&format_option=tous&filter[search]=OMVT0020&filter[date_debut]=29-
 09-2019&filter[date_fin]=29-09-2019&code_activite=ROL&Itemid=6283">Vers les
  résultats...</a></li></ul></div></div"><!-- #/gskiepreuve fin du dode géné
 ré par le plugin jevents pour GskiEpreuves. . Ne pas modifier cette ligne, 
 ni tout le contenu précedant.  #/gskiepreuve --> <a href="https://skivosges
 .net/agenda/export-synchronisation/detailevenement/1320/-/sprint-ski-roue-l
 a-bresse?tmpl=component">Cet évènement a été importé depuis :https://skivos
 ges.net/agenda/export-synchronisation/detailevenement/1320/-/sprint-ski-rou
 e-la-bresse?tmpl=component</a>DTSTAMP:20260421T014453
DTSTART;TZID=Europe/Paris;VALUE=DATE:20190929
DTEND;TZID=Europe/Paris;VALUE=DATE:20190930
SEQUENCE:0
TRANSP:OPAQUE
END:VEVENT
END:VCALENDAR