BEGIN:VCALENDAR
VERSION:2.0
PRODID:-//jEvents 2.0 for Joomla//EN
CALSCALE:GREGORIAN
METHOD:PUBLISH
BEGIN:VTIMEZONE
TZID:Europe/Paris
BEGIN:STANDARD
DTSTART:20181028T020000
RDATE:20190331T030000
TZOFFSETFROM:+0200
TZOFFSETTO:+0100
TZNAME:Europe/Paris CET
END:STANDARD
BEGIN:STANDARD
DTSTART:20191027T020000
RDATE:20200329T030000
TZOFFSETFROM:+0200
TZOFFSETTO:+0100
TZNAME:Europe/Paris CET
END:STANDARD
BEGIN:STANDARD
DTSTART:20201025T020000
RDATE:20210328T030000
TZOFFSETFROM:+0200
TZOFFSETTO:+0100
TZNAME:Europe/Paris CET
END:STANDARD
BEGIN:STANDARD
DTSTART:20211031T020000
RDATE:20220327T030000
TZOFFSETFROM:+0200
TZOFFSETTO:+0100
TZNAME:Europe/Paris CET
END:STANDARD
BEGIN:STANDARD
DTSTART:20221030T020000
RDATE:20230326T030000
TZOFFSETFROM:+0200
TZOFFSETTO:+0100
TZNAME:Europe/Paris CET
END:STANDARD
BEGIN:STANDARD
DTSTART:20231029T020000
RDATE:20240331T030000
TZOFFSETFROM:+0200
TZOFFSETTO:+0100
TZNAME:Europe/Paris CET
END:STANDARD
BEGIN:STANDARD
DTSTART:20241027T020000
RDATE:20250330T030000
TZOFFSETFROM:+0200
TZOFFSETTO:+0100
TZNAME:Europe/Paris CET
END:STANDARD
BEGIN:STANDARD
DTSTART:20251026T020000
RDATE:20260329T030000
TZOFFSETFROM:+0200
TZOFFSETTO:+0100
TZNAME:Europe/Paris CET
END:STANDARD
BEGIN:STANDARD
DTSTART:20261025T020000
RDATE:20270328T030000
TZOFFSETFROM:+0200
TZOFFSETTO:+0100
TZNAME:Europe/Paris CET
END:STANDARD
BEGIN:DAYLIGHT
DTSTART:20181011T000000
RDATE:20181028T020000
TZOFFSETFROM:+0100
TZOFFSETTO:+0200
TZNAME:Europe/Paris CEST
END:DAYLIGHT
BEGIN:DAYLIGHT
DTSTART:20190331T030000
RDATE:20191027T020000
TZOFFSETFROM:+0100
TZOFFSETTO:+0200
TZNAME:Europe/Paris CEST
END:DAYLIGHT
BEGIN:DAYLIGHT
DTSTART:20200329T030000
RDATE:20201025T020000
TZOFFSETFROM:+0100
TZOFFSETTO:+0200
TZNAME:Europe/Paris CEST
END:DAYLIGHT
BEGIN:DAYLIGHT
DTSTART:20210328T030000
RDATE:20211031T020000
TZOFFSETFROM:+0100
TZOFFSETTO:+0200
TZNAME:Europe/Paris CEST
END:DAYLIGHT
BEGIN:DAYLIGHT
DTSTART:20220327T030000
RDATE:20221030T020000
TZOFFSETFROM:+0100
TZOFFSETTO:+0200
TZNAME:Europe/Paris CEST
END:DAYLIGHT
BEGIN:DAYLIGHT
DTSTART:20230326T030000
RDATE:20231029T020000
TZOFFSETFROM:+0100
TZOFFSETTO:+0200
TZNAME:Europe/Paris CEST
END:DAYLIGHT
BEGIN:DAYLIGHT
DTSTART:20240331T030000
RDATE:20241027T020000
TZOFFSETFROM:+0100
TZOFFSETTO:+0200
TZNAME:Europe/Paris CEST
END:DAYLIGHT
BEGIN:DAYLIGHT
DTSTART:20250330T030000
RDATE:20251026T020000
TZOFFSETFROM:+0100
TZOFFSETTO:+0200
TZNAME:Europe/Paris CEST
END:DAYLIGHT
BEGIN:DAYLIGHT
DTSTART:20260329T030000
RDATE:20261025T020000
TZOFFSETFROM:+0100
TZOFFSETTO:+0200
TZNAME:Europe/Paris CEST
END:DAYLIGHT
END:VTIMEZONE
BEGIN:VEVENT
UID:f088a0b0dfad334c8215b5343e78cc08
CATEGORIES:Roller Ski
CREATED:20190919T224141
SUMMARY:SKI ROUE - PROLOGUE + POURSUITE - GERARDMER
URL;VALUE=URI:https://skivosges.net/agenda/export-synchronisation/detailevenement/1321/-/
 ski-roue-prologue-poursuite-gerardmer?tmpl=component
DESCRIPTION:SKI ROUE - PROLOGUE + POURSUITE - GERARDMER\n - Codex évenement OMVT0030\n 
 - Station : GERARDMER\n - Organisateur : 14469 A.S GERARDMER SKI NORDIQUE\n
  - Courriel : RegularLabs.EmailProtector.unCloak("ep_003b886b");\n - Délégu
 é Technique : CUNY BERNARDPériode d'inscription à l'evènement du samedi 05 
 octobre 2019 à 00:00 au jeudi 10 octobre 2019 à 22:00Inscriptions ouvertes 
 aux detenteurs des titres Fédéraux valides suivants : Licenciés Compétiteur
 sEpreuves :\n - Le samedi 12 octobre 2019\n - Codex épreuve OMVF0031\n - In
 dividuel\n - Catégorie(s) : U13 (Filles)\n - Le samedi 12 octobre 2019\n - 
 Codex épreuve OMVM0031\n - Individuel\n - Catégorie(s) : U13 (Garçons)\n - 
 Le samedi 12 octobre 2019\n - Codex épreuve OMVF0032\n - Individuel\n - Cat
 égorie(s) : U15/U17 (Filles)\n - Le samedi 12 octobre 2019\n - Codex épreuv
 e OMVM0032\n - Individuel\n - Catégorie(s) : U15/U17 (Garçons)\n - Le samed
 i 12 octobre 2019\n - Codex épreuve OMVF0033\n - Individuel\n - Catégorie(s
 ) : U20 a SEN (Dames)\n - Le samedi 12 octobre 2019\n - Codex épreuve OMVM0
 033\n - Individuel\n - Catégorie(s) : U20 a SEN (Hommes)\n - Voir les infor
 mations dans l'agenda... (/index.php?option=com_jevents&amp;task=icalevent.
 detail&amp;evid=1316&amp;Itemid=6283)\n - Vers les résultats... (/index.php
 ?option=com_gskiepreuves&amp;view=afficheresultats&amp;format_option=tous&a
 mp;filter[search]=OMVT0030&amp;filter[date_debut]=12-10-2019&amp;filter[dat
 e_fin]=12-10-2019&amp;code_activite=ROL&amp;Itemid=6283)\n - Publications c
 oncernant cet évènement :\n - Dimanche 13 Octobre 2019 à 10:23 : Le 12/10/2
 019 GERARDMER Résultats\n - Dimanche 13 Octobre 2019 à 10:23 : Le 12/10/201
 9 GERARDMER Résultats\n - Dimanche 13 Octobre 2019 à 10:21 : Le 12/10/2019 
 GERARDMER Résultats\n - Vendredi 11 Octobre 2019 à 20:44 : Le 12/10/2019 GE
 RARDMER Liste de départs\n - Dimanche 6 Octobre 2019 à 22:12 : Le 12/10/201
 9 GERARDMER Informations Cet évènement a été importé depuis :https://skivos
 ges.net/agenda/export-synchronisation/detailevenement/1321/-/ski-roue-prolo
 gue-poursuite-gerardmer?tmpl=component
X-ALT-DESC;FMTTYPE=text/html:<!-- #gskiepreuve code généré par le plugin jevents pour GskiEpreuves. Ne p
 as modifier cette ligne, ni tout le contenu suivant  #gskiepreuve --><div c
 lass="gski-evenement_infos"><div class="gski-evenement-nom">SKI ROUE - PROL
 OGUE + POURSUITE - GERARDMER</div><div class="gski-evenement-report"></div>
 <ul class="gski-evenement-liste-infos"><li>Codex évenement OMVT0030</li><li
 >Station : GERARDMER</li><li>Organisateur : 14469 A.S GERARDMER SKI NORDIQU
 E</li><li>Courriel : <!-- Cette adresse électronique est protégée contre le
 s robots spammeurs. --><span class="cloaked_email ep_003b886b"><span data-e
 p-b=".f&#114;" data-ep-a="&#102;r&#97;n"><span data-ep-a="c&#105;s." data-e
 p-b="&#98;&#98;&#111;x"><span data-ep-b="t&#122;y&#64;" data-ep-a="k&#105;&
 #101;&#110;"></span></span></span></span><script>RegularLabs.EmailProtector
 .unCloak("ep_003b886b");</script></li><li><span class="gski-evenement-obs">
 Délégué Technique : CUNY BERNARD</span></li></ul><div class="gski-evenement
 -infos-2"><div class="gski-evenement-info-inscriptions"><div class="gski-ev
 enement-inscriptions-periodes">Période d'inscription à l'evènement du samed
 i 05 octobre 2019 à 00:00 au jeudi 10 octobre 2019 à 22:00<div class="gski-
 evenement-inscriptions-types-titres">Inscriptions ouvertes aux detenteurs d
 es titres Fédéraux valides suivants : Licenciés Compétiteurs</div></div></d
 iv><div class="gski-evenement-epreuves"><div class="gski-evenement-epreuves
 -titres">Epreuves :</div><ul class="gski-evenement-epreuves-list"><li><div 
 class="gski-epreuve-date">Le samedi 12 octobre 2019</div><ul class="gski-ep
 reuve-liste-infos"><li>Codex épreuve OMVF0031</li><li>Individuel</li><li>Ca
 tégorie(s) : U13 (Filles)</li></ul></li><li><div class="gski-epreuve-date">
 Le samedi 12 octobre 2019</div><ul class="gski-epreuve-liste-infos"><li>Cod
 ex épreuve OMVM0031</li><li>Individuel</li><li>Catégorie(s) : U13 (Garçons)
 </li></ul></li><li><div class="gski-epreuve-date">Le samedi 12 octobre 2019
 </div><ul class="gski-epreuve-liste-infos"><li>Codex épreuve OMVF0032</li><
 li>Individuel</li><li>Catégorie(s) : U15/U17 (Filles)</li></ul></li><li><di
 v class="gski-epreuve-date">Le samedi 12 octobre 2019</div><ul class="gski-
 epreuve-liste-infos"><li>Codex épreuve OMVM0032</li><li>Individuel</li><li>
 Catégorie(s) : U15/U17 (Garçons)</li></ul></li><li><div class="gski-epreuve
 -date">Le samedi 12 octobre 2019</div><ul class="gski-epreuve-liste-infos">
 <li>Codex épreuve OMVF0033</li><li>Individuel</li><li>Catégorie(s) : U20 a 
 SEN (Dames)</li></ul></li><li><div class="gski-epreuve-date">Le samedi 12 o
 ctobre 2019</div><ul class="gski-epreuve-liste-infos"><li>Codex épreuve OMV
 M0033</li><li>Individuel</li><li>Catégorie(s) : U20 a SEN (Hommes)</li></ul
 ></li></ul></div><div class="gskiepreuves-links"><ul><li><a href="https://s
 kivosges.net/index.php?option=com_jevents&task=icalevent.detail&evid=1316&I
 temid=6283">Voir les informations dans l'agenda...</a></li><li><a href="htt
 ps://skivosges.net/index.php?option=com_gskiepreuves&view=afficheresultats&
 format_option=tous&filter[search]=OMVT0030&filter[date_debut]=12-10-2019&fi
 lter[date_fin]=12-10-2019&code_activite=ROL&Itemid=6283">Vers les résultats
 ...</a></li><li>Publications concernant cet évènement :<ul><li><a href="htt
 ps://skivosges.net/index.php?option=com_content&view=article&id=6931&Itemid
 =6283">Dimanche 13 Octobre 2019 à 10:23 : Le 12/10/2019 GERARDMER Résultats
 </a></li><li><a href="https://skivosges.net/index.php?option=com_content&vi
 ew=article&id=6930&Itemid=6283">Dimanche 13 Octobre 2019 à 10:23 : Le 12/10
 /2019 GERARDMER Résultats</a></li><li><a href="https://skivosges.net/index.
 php?option=com_content&view=article&id=6929&Itemid=6283">Dimanche 13 Octobr
 e 2019 à 10:21 : Le 12/10/2019 GERARDMER Résultats</a></li><li><a href="htt
 ps://skivosges.net/index.php?option=com_content&view=article&id=6928&Itemid
 =6283">Vendredi 11 Octobre 2019 à 20:44 : Le 12/10/2019 GERARDMER Liste de 
 départs</a></li><li><a href="https://skivosges.net/index.php?option=com_con
 tent&view=article&id=6924&Itemid=6283">Dimanche 6 Octobre 2019 à 22:12 : Le
  12/10/2019 GERARDMER Informations</a></li></ul></li></ul></div></div"><!--
  #/gskiepreuve fin du dode généré par le plugin jevents pour GskiEpreuves. 
 . Ne pas modifier cette ligne, ni tout le contenu précedant.  #/gskiepreuve
  --> <a href="https://skivosges.net/agenda/export-synchronisation/detaileve
 nement/1321/-/ski-roue-prologue-poursuite-gerardmer?tmpl=component">Cet évè
 nement a été importé depuis :https://skivosges.net/agenda/export-synchronis
 ation/detailevenement/1321/-/ski-roue-prologue-poursuite-gerardmer?tmpl=com
 ponent</a>DTSTAMP:20260421T014523
DTSTART;TZID=Europe/Paris;VALUE=DATE:20191012
DTEND;TZID=Europe/Paris;VALUE=DATE:20191013
SEQUENCE:0
TRANSP:OPAQUE
END:VEVENT
END:VCALENDAR