BEGIN:VCALENDAR
VERSION:2.0
PRODID:-//jEvents 2.0 for Joomla//EN
CALSCALE:GREGORIAN
METHOD:PUBLISH
BEGIN:VTIMEZONE
TZID:Europe/Paris
BEGIN:STANDARD
DTSTART:20181028T020000
RDATE:20190331T030000
TZOFFSETFROM:+0200
TZOFFSETTO:+0100
TZNAME:Europe/Paris CET
END:STANDARD
BEGIN:STANDARD
DTSTART:20191027T020000
RDATE:20200329T030000
TZOFFSETFROM:+0200
TZOFFSETTO:+0100
TZNAME:Europe/Paris CET
END:STANDARD
BEGIN:STANDARD
DTSTART:20201025T020000
RDATE:20210328T030000
TZOFFSETFROM:+0200
TZOFFSETTO:+0100
TZNAME:Europe/Paris CET
END:STANDARD
BEGIN:STANDARD
DTSTART:20211031T020000
RDATE:20220327T030000
TZOFFSETFROM:+0200
TZOFFSETTO:+0100
TZNAME:Europe/Paris CET
END:STANDARD
BEGIN:STANDARD
DTSTART:20221030T020000
RDATE:20230326T030000
TZOFFSETFROM:+0200
TZOFFSETTO:+0100
TZNAME:Europe/Paris CET
END:STANDARD
BEGIN:STANDARD
DTSTART:20231029T020000
RDATE:20240331T030000
TZOFFSETFROM:+0200
TZOFFSETTO:+0100
TZNAME:Europe/Paris CET
END:STANDARD
BEGIN:STANDARD
DTSTART:20241027T020000
RDATE:20250330T030000
TZOFFSETFROM:+0200
TZOFFSETTO:+0100
TZNAME:Europe/Paris CET
END:STANDARD
BEGIN:STANDARD
DTSTART:20251026T020000
RDATE:20260329T030000
TZOFFSETFROM:+0200
TZOFFSETTO:+0100
TZNAME:Europe/Paris CET
END:STANDARD
BEGIN:STANDARD
DTSTART:20261025T020000
RDATE:20270328T030000
TZOFFSETFROM:+0200
TZOFFSETTO:+0100
TZNAME:Europe/Paris CET
END:STANDARD
BEGIN:DAYLIGHT
DTSTART:20181012T000000
RDATE:20181028T020000
TZOFFSETFROM:+0100
TZOFFSETTO:+0200
TZNAME:Europe/Paris CEST
END:DAYLIGHT
BEGIN:DAYLIGHT
DTSTART:20190331T030000
RDATE:20191027T020000
TZOFFSETFROM:+0100
TZOFFSETTO:+0200
TZNAME:Europe/Paris CEST
END:DAYLIGHT
BEGIN:DAYLIGHT
DTSTART:20200329T030000
RDATE:20201025T020000
TZOFFSETFROM:+0100
TZOFFSETTO:+0200
TZNAME:Europe/Paris CEST
END:DAYLIGHT
BEGIN:DAYLIGHT
DTSTART:20210328T030000
RDATE:20211031T020000
TZOFFSETFROM:+0100
TZOFFSETTO:+0200
TZNAME:Europe/Paris CEST
END:DAYLIGHT
BEGIN:DAYLIGHT
DTSTART:20220327T030000
RDATE:20221030T020000
TZOFFSETFROM:+0100
TZOFFSETTO:+0200
TZNAME:Europe/Paris CEST
END:DAYLIGHT
BEGIN:DAYLIGHT
DTSTART:20230326T030000
RDATE:20231029T020000
TZOFFSETFROM:+0100
TZOFFSETTO:+0200
TZNAME:Europe/Paris CEST
END:DAYLIGHT
BEGIN:DAYLIGHT
DTSTART:20240331T030000
RDATE:20241027T020000
TZOFFSETFROM:+0100
TZOFFSETTO:+0200
TZNAME:Europe/Paris CEST
END:DAYLIGHT
BEGIN:DAYLIGHT
DTSTART:20250330T030000
RDATE:20251026T020000
TZOFFSETFROM:+0100
TZOFFSETTO:+0200
TZNAME:Europe/Paris CEST
END:DAYLIGHT
BEGIN:DAYLIGHT
DTSTART:20260329T030000
RDATE:20261025T020000
TZOFFSETFROM:+0100
TZOFFSETTO:+0200
TZNAME:Europe/Paris CEST
END:DAYLIGHT
END:VTIMEZONE
BEGIN:VEVENT
UID:5d1e2a8088c84f1a47003ed4c786c455
CATEGORIES:Compétition Biathlon
CREATED:20190929T191452
SUMMARY:CHALLENGE CREDIT MUTUEL TGL - SPRINT OPEN
URL;VALUE=URI:https://skivosges.net/agenda/export-synchronisation/detailevenement/1322/-/
 challenge-credit-mutuel-tgl-sprint-open?tmpl=component
DESCRIPTION:<!-- #gskiepreuve code généré par le plugin jevents pour GskiEpreuves. Ne p
 as modifier cette ligne, ni tout le contenu suivant  #gskiepreuve --><div c
 lass="gski-evenement_infos"><div class="gski-evenement-nom">CHALLENGE CREDI
 T MUTUEL TGL - SPRINT OPEN</div><div class="gski-evenement-report"></div><u
 l class="gski-evenement-liste-infos"><li>Codex évenement BMVT0100</li><li>S
 tation : CHAMP DU FEU</li><li>Organisateur : 14448 MOLSHEIM SKI NORDIQUE</l
 i><li>Courriel : <!-- Cette adresse électronique est protégée contre les ro
 bots spammeurs. --><span class="cloaked_email ep_20ca7a74"><span data-ep-a=
 "&#112;&#105;e&#114;&#114;&#101;" data-ep-b="&#46;f&#114;"><span data-ep-a=
 "&#45;&#99;ha&#114;&#98;" data-ep-b="&#105;&#99;a&#98;&#108;&#101;"><span d
 ata-ep-a="&#111;n&#110;i&#101;r" data-ep-b="&#64;&#110;&#117;&#109;e&#114;"
 ></span></span></span></span><script>RegularLabs.EmailProtector.unCloak("ep
 _20ca7a74");</script></li><li>Téléphone : 0673436409</li><li><span class="g
 ski-evenement-obs">Délégué Technique : HABRAN THIERRY</span></li></ul><div 
 class="gski-evenement-infos-2"><div class="gski-evenement-info-inscriptions
 "><div class="gski-evenement-inscriptions-periodes">Période d'inscription à
  l'evènement du dimanche 06 octobre 2019 à 00:00 au vendredi 11 octobre 201
 9 à 12:00 <span class="gski-evenement-inscriptions-impossibles">(Inscriptio
 ns impossibles).</span><div class="gski-evenement-inscriptions-types-titres
 ">Inscriptions ouvertes aux detenteurs des titres Fédéraux valides suivants
  : Licenciés Compétiteurs et Titres Loisirs et Dirigeants</div></div></div>
 <div class="gski-evenement-epreuves"><div class="gski-evenement-epreuves-ti
 tres">Epreuves :</div><ul class="gski-evenement-epreuves-list"><li><div cla
 ss="gski-epreuve-date">Le dimanche 13 octobre 2019</div><ul class="gski-epr
 euve-liste-infos"><li>Codex épreuve BMVF0101</li><li>Individuel</li><li>Cat
 égorie(s) : U13/U15 (Filles)</li></ul></li><li><div class="gski-epreuve-dat
 e">Le dimanche 13 octobre 2019</div><ul class="gski-epreuve-liste-infos"><l
 i>Codex épreuve BMVM0101</li><li>Individuel</li><li>Catégorie(s) : U13/U15 
 (Garçons)</li></ul></li></ul></div><div class="gskiepreuves-links"><ul><li>
 <a href="/index.php?option=com_jevents&task=icalevent.detail&evid=1317&Item
 id=6283">Voir les informations dans l'agenda...</a></li><li><a href="/index
 .php?option=com_gskiepreuves&view=afficheresultats&format_option=tous&filte
 r[search]=BMVT0100&filter[date_debut]=13-10-2019&filter[date_fin]=13-10-201
 9&code_activite=BIATH&Itemid=6283">Vers les résultats...</a></li></ul></div
 ></div"><!-- #/gskiepreuve fin du dode généré par le plugin jevents pour Gs
 kiEpreuves. . Ne pas modifier cette ligne, ni tout le contenu précedant.  #
 /gskiepreuve --> <a href="https://skivosges.net/agenda/export-synchronisati
 on/detailevenement/1322/-/challenge-credit-mutuel-tgl-sprint-open?tmpl=comp
 onent">Cet évènement a été importé depuis :https://skivosges.net/agenda/exp
 ort-synchronisation/detailevenement/1322/-/challenge-credit-mutuel-tgl-spri
 nt-open?tmpl=component</a>
X-ALT-DESC;FMTTYPE=text/html:<!-- #gskiepreuve code généré par le plugin jevents pour GskiEpreuves. Ne p
 as modifier cette ligne, ni tout le contenu suivant  #gskiepreuve --><div c
 lass="gski-evenement_infos"><div class="gski-evenement-nom">CHALLENGE CREDI
 T MUTUEL TGL - SPRINT OPEN</div><div class="gski-evenement-report"></div><u
 l class="gski-evenement-liste-infos"><li>Codex évenement BMVT0100</li><li>S
 tation : CHAMP DU FEU</li><li>Organisateur : 14448 MOLSHEIM SKI NORDIQUE</l
 i><li>Courriel : <!-- Cette adresse électronique est protégée contre les ro
 bots spammeurs. --><span class="cloaked_email ep_20ca7a74"><span data-ep-a=
 "&#112;&#105;e&#114;&#114;&#101;" data-ep-b="&#46;f&#114;"><span data-ep-a=
 "&#45;&#99;ha&#114;&#98;" data-ep-b="&#105;&#99;a&#98;&#108;&#101;"><span d
 ata-ep-a="&#111;n&#110;i&#101;r" data-ep-b="&#64;&#110;&#117;&#109;e&#114;"
 ></span></span></span></span><script>RegularLabs.EmailProtector.unCloak("ep
 _20ca7a74");</script></li><li>Téléphone : 0673436409</li><li><span class="g
 ski-evenement-obs">Délégué Technique : HABRAN THIERRY</span></li></ul><div 
 class="gski-evenement-infos-2"><div class="gski-evenement-info-inscriptions
 "><div class="gski-evenement-inscriptions-periodes">Période d'inscription à
  l'evènement du dimanche 06 octobre 2019 à 00:00 au vendredi 11 octobre 201
 9 à 12:00 <span class="gski-evenement-inscriptions-impossibles">(Inscriptio
 ns impossibles).</span><div class="gski-evenement-inscriptions-types-titres
 ">Inscriptions ouvertes aux detenteurs des titres Fédéraux valides suivants
  : Licenciés Compétiteurs et Titres Loisirs et Dirigeants</div></div></div>
 <div class="gski-evenement-epreuves"><div class="gski-evenement-epreuves-ti
 tres">Epreuves :</div><ul class="gski-evenement-epreuves-list"><li><div cla
 ss="gski-epreuve-date">Le dimanche 13 octobre 2019</div><ul class="gski-epr
 euve-liste-infos"><li>Codex épreuve BMVF0101</li><li>Individuel</li><li>Cat
 égorie(s) : U13/U15 (Filles)</li></ul></li><li><div class="gski-epreuve-dat
 e">Le dimanche 13 octobre 2019</div><ul class="gski-epreuve-liste-infos"><l
 i>Codex épreuve BMVM0101</li><li>Individuel</li><li>Catégorie(s) : U13/U15 
 (Garçons)</li></ul></li></ul></div><div class="gskiepreuves-links"><ul><li>
 <a href="https://skivosges.net/index.php?option=com_jevents&task=icalevent.
 detail&evid=1317&Itemid=6283">Voir les informations dans l'agenda...</a></l
 i><li><a href="https://skivosges.net/index.php?option=com_gskiepreuves&view
 =afficheresultats&format_option=tous&filter[search]=BMVT0100&filter[date_de
 but]=13-10-2019&filter[date_fin]=13-10-2019&code_activite=BIATH&Itemid=6283
 ">Vers les résultats...</a></li></ul></div></div"><!-- #/gskiepreuve fin du
  dode généré par le plugin jevents pour GskiEpreuves. . Ne pas modifier cet
 te ligne, ni tout le contenu précedant.  #/gskiepreuve --> <a href="https:/
 /skivosges.net/agenda/export-synchronisation/detailevenement/1322/-/challen
 ge-credit-mutuel-tgl-sprint-open?tmpl=component">Cet évènement a été import
 é depuis :https://skivosges.net/agenda/export-synchronisation/detaileveneme
 nt/1322/-/challenge-credit-mutuel-tgl-sprint-open?tmpl=component</a>DTSTAMP:20260421T051236
DTSTART;TZID=Europe/Paris;VALUE=DATE:20191013
DTEND;TZID=Europe/Paris;VALUE=DATE:20191014
SEQUENCE:0
TRANSP:OPAQUE
END:VEVENT
END:VCALENDAR