BEGIN:VCALENDAR
VERSION:2.0
PRODID:-//jEvents 2.0 for Joomla//EN
CALSCALE:GREGORIAN
METHOD:PUBLISH
BEGIN:VTIMEZONE
TZID:Europe/Paris
BEGIN:STANDARD
DTSTART:20181220T000000
RDATE:20190331T030000
TZOFFSETFROM:+0200
TZOFFSETTO:+0100
TZNAME:Europe/Paris CET
END:STANDARD
BEGIN:STANDARD
DTSTART:20191027T020000
RDATE:20200329T030000
TZOFFSETFROM:+0200
TZOFFSETTO:+0100
TZNAME:Europe/Paris CET
END:STANDARD
BEGIN:STANDARD
DTSTART:20201025T020000
RDATE:20210328T030000
TZOFFSETFROM:+0200
TZOFFSETTO:+0100
TZNAME:Europe/Paris CET
END:STANDARD
BEGIN:STANDARD
DTSTART:20211031T020000
RDATE:20220327T030000
TZOFFSETFROM:+0200
TZOFFSETTO:+0100
TZNAME:Europe/Paris CET
END:STANDARD
BEGIN:STANDARD
DTSTART:20221030T020000
RDATE:20230326T030000
TZOFFSETFROM:+0200
TZOFFSETTO:+0100
TZNAME:Europe/Paris CET
END:STANDARD
BEGIN:STANDARD
DTSTART:20231029T020000
RDATE:20240331T030000
TZOFFSETFROM:+0200
TZOFFSETTO:+0100
TZNAME:Europe/Paris CET
END:STANDARD
BEGIN:STANDARD
DTSTART:20241027T020000
RDATE:20250330T030000
TZOFFSETFROM:+0200
TZOFFSETTO:+0100
TZNAME:Europe/Paris CET
END:STANDARD
BEGIN:STANDARD
DTSTART:20251026T020000
RDATE:20260329T030000
TZOFFSETFROM:+0200
TZOFFSETTO:+0100
TZNAME:Europe/Paris CET
END:STANDARD
BEGIN:STANDARD
DTSTART:20261025T020000
RDATE:20270328T030000
TZOFFSETFROM:+0200
TZOFFSETTO:+0100
TZNAME:Europe/Paris CET
END:STANDARD
BEGIN:DAYLIGHT
DTSTART:20190331T030000
RDATE:20191027T020000
TZOFFSETFROM:+0100
TZOFFSETTO:+0200
TZNAME:Europe/Paris CEST
END:DAYLIGHT
BEGIN:DAYLIGHT
DTSTART:20200329T030000
RDATE:20201025T020000
TZOFFSETFROM:+0100
TZOFFSETTO:+0200
TZNAME:Europe/Paris CEST
END:DAYLIGHT
BEGIN:DAYLIGHT
DTSTART:20210328T030000
RDATE:20211031T020000
TZOFFSETFROM:+0100
TZOFFSETTO:+0200
TZNAME:Europe/Paris CEST
END:DAYLIGHT
BEGIN:DAYLIGHT
DTSTART:20220327T030000
RDATE:20221030T020000
TZOFFSETFROM:+0100
TZOFFSETTO:+0200
TZNAME:Europe/Paris CEST
END:DAYLIGHT
BEGIN:DAYLIGHT
DTSTART:20230326T030000
RDATE:20231029T020000
TZOFFSETFROM:+0100
TZOFFSETTO:+0200
TZNAME:Europe/Paris CEST
END:DAYLIGHT
BEGIN:DAYLIGHT
DTSTART:20240331T030000
RDATE:20241027T020000
TZOFFSETFROM:+0100
TZOFFSETTO:+0200
TZNAME:Europe/Paris CEST
END:DAYLIGHT
BEGIN:DAYLIGHT
DTSTART:20250330T030000
RDATE:20251026T020000
TZOFFSETFROM:+0100
TZOFFSETTO:+0200
TZNAME:Europe/Paris CEST
END:DAYLIGHT
BEGIN:DAYLIGHT
DTSTART:20260329T030000
RDATE:20261025T020000
TZOFFSETFROM:+0100
TZOFFSETTO:+0200
TZNAME:Europe/Paris CEST
END:DAYLIGHT
END:VTIMEZONE
BEGIN:VEVENT
UID:8c3543c92d8707f3c272eff48e03552f
CATEGORIES:Compétition Ski de Fond
CREATED:20191111T130349
SUMMARY:PROMO PRE CLUBS SPRINTS
URL;VALUE=URI:https://skivosges.net/agenda/export-synchronisation/detailevenement/1334/-/
 promo-pre-clubs-sprints?tmpl=component
DESCRIPTION:PROMO PRE CLUBS SPRINTS\n - Codex évenement FMVT0030\n - Lieu : Nordic Park
 \n - Station : LA BRESSE LISPACH\n - Organisateur : 14024 LA BRESSAUDE SECT
 ION SKI\n - Courriel : RegularLabs.EmailProtector.unCloak("ep_1261942c");\n
  - Délégué Technique : COLIN FREDERICPériode d'inscription à l'evènement du
  samedi 14 décembre 2019 à 00:00 au jeudi 19 décembre 2019 à 12:00 (Inscrip
 tions impossibles).Inscriptions ouvertes aux detenteurs des titres Fédéraux
  valides suivants : Licenciés Compétiteurs et Titres Loisirs et DirigeantsE
 preuves :\n - Le samedi 21 décembre 2019\n - Codex épreuve FMVF0031\n - KO 
 - Sprint QUALIFICATION\n - Catégorie(s) : U9 (Filles)\n - Le samedi 21 déce
 mbre 2019\n - Codex épreuve FMVM0031\n - KO - Sprint QUALIFICATION\n - Caté
 gorie(s) : U9 (Garçons)\n - Le samedi 21 décembre 2019\n - Codex épreuve FM
 VF0032\n - KO - Sprint QUALIFICATION\n - Catégorie(s) : U11 (Filles)\n - Le
  samedi 21 décembre 2019\n - Codex épreuve FMVM0032\n - KO - Sprint QUALIFI
 CATION\n - Catégorie(s) : U11 (Garçons)\n - Le samedi 21 décembre 2019\n - 
 Codex épreuve FMVF0033\n - KO - Sprint QUALIFICATION\n - Catégorie(s) : U13
  (Filles)\n - Le samedi 21 décembre 2019\n - Codex épreuve FMVM0033\n - KO 
 - Sprint QUALIFICATION\n - Catégorie(s) : U13 (Garçons)\n - Le samedi 21 dé
 cembre 2019\n - Codex épreuve FMVF0034\n - KO - Sprint FINAL\n - Catégorie(
 s) : U9 (Filles)\n - Le samedi 21 décembre 2019\n - Codex épreuve FMVM0034\
 n - KO - Sprint FINAL\n - Catégorie(s) : U9 (Garçons)\n - Le samedi 21 déce
 mbre 2019\n - Codex épreuve FMVF0035\n - KO - Sprint FINAL\n - Catégorie(s)
  : U11 (Filles)\n - Le samedi 21 décembre 2019\n - Codex épreuve FMVM0035\n
  - KO - Sprint FINAL\n - Catégorie(s) : U11 (Garçons)\n - Le samedi 21 déce
 mbre 2019\n - Codex épreuve FMVF0036\n - KO - Sprint FINAL\n - Catégorie(s)
  : U13 (Filles)\n - Le samedi 21 décembre 2019\n - Codex épreuve FMVM0036\n
  - KO - Sprint FINAL\n - Catégorie(s) : U13 (Garçons)\n - Voir les informat
 ions dans l'agenda... (/index.php?option=com_jevents&amp;task=icalevent.det
 ail&amp;evid=1329&amp;Itemid=6283)\n - Vers les résultats... (/index.php?op
 tion=com_gskiepreuves&amp;view=afficheresultats&amp;format_option=tous&amp;
 filter[search]=FMVT0030&amp;filter[date_debut]=21-12-2019&amp;filter[date_f
 in]=21-12-2019&amp;code_activite=FOND&amp;Itemid=6283)\n - Publications con
 cernant cet évènement :\n - Lundi 23 Décembre 2019 à 22:09 : Le 21/12/2019 
 LA BRESSE LISPACH Résultats Cet évènement a été importé depuis :https://ski
 vosges.net/agenda/export-synchronisation/detailevenement/1334/-/promo-pre-c
 lubs-sprints?tmpl=component
X-ALT-DESC;FMTTYPE=text/html:<!-- #gskiepreuve code généré par le plugin jevents pour GskiEpreuves. Ne p
 as modifier cette ligne, ni tout le contenu suivant  #gskiepreuve --><div c
 lass="gski-evenement_infos"><div class="gski-evenement-nom">PROMO PRE CLUBS
  SPRINTS</div><div class="gski-evenement-report"></div><ul class="gski-even
 ement-liste-infos"><li>Codex évenement FMVT0030</li><li>Lieu : Nordic Park<
 /li><li>Station : LA BRESSE LISPACH</li><li>Organisateur : 14024 LA BRESSAU
 DE SECTION SKI</li><li>Courriel : <!-- Cette adresse électronique est proté
 gée contre les robots spammeurs. --><span class="cloaked_email ep_1261942c"
 ><span data-ep-b="f&#114;" data-ep-a="&#111;d&#105;le"><span data-ep-a=".&#
 109;un&#115;" data-ep-b="&#97;&#110;&#103;e&#46;"><span data-ep-b="&#108;&#
 98;&#64;&#111;&#114;" data-ep-a="&#99;h&#46;&#115;&#99;"></span></span></sp
 an></span><script>RegularLabs.EmailProtector.unCloak("ep_1261942c");</scrip
 t></li><li><span class="gski-evenement-obs">Délégué Technique : COLIN FREDE
 RIC</span></li></ul><div class="gski-evenement-infos-2"><div class="gski-ev
 enement-info-inscriptions"><div class="gski-evenement-inscriptions-periodes
 ">Période d'inscription à l'evènement du samedi 14 décembre 2019 à 00:00 au
  jeudi 19 décembre 2019 à 12:00 <span class="gski-evenement-inscriptions-im
 possibles">(Inscriptions impossibles).</span><div class="gski-evenement-ins
 criptions-types-titres">Inscriptions ouvertes aux detenteurs des titres Féd
 éraux valides suivants : Licenciés Compétiteurs et Titres Loisirs et Dirige
 ants</div></div></div><div class="gski-evenement-epreuves"><div class="gski
 -evenement-epreuves-titres">Epreuves :</div><ul class="gski-evenement-epreu
 ves-list"><li><div class="gski-epreuve-date">Le samedi 21 décembre 2019</di
 v><ul class="gski-epreuve-liste-infos"><li>Codex épreuve FMVF0031</li><li>K
 O - Sprint QUALIFICATION</li><li>Catégorie(s) : U9 (Filles)</li></ul></li><
 li><div class="gski-epreuve-date">Le samedi 21 décembre 2019</div><ul class
 ="gski-epreuve-liste-infos"><li>Codex épreuve FMVM0031</li><li>KO - Sprint 
 QUALIFICATION</li><li>Catégorie(s) : U9 (Garçons)</li></ul></li><li><div cl
 ass="gski-epreuve-date">Le samedi 21 décembre 2019</div><ul class="gski-epr
 euve-liste-infos"><li>Codex épreuve FMVF0032</li><li>KO - Sprint QUALIFICAT
 ION</li><li>Catégorie(s) : U11 (Filles)</li></ul></li><li><div class="gski-
 epreuve-date">Le samedi 21 décembre 2019</div><ul class="gski-epreuve-liste
 -infos"><li>Codex épreuve FMVM0032</li><li>KO - Sprint QUALIFICATION</li><l
 i>Catégorie(s) : U11 (Garçons)</li></ul></li><li><div class="gski-epreuve-d
 ate">Le samedi 21 décembre 2019</div><ul class="gski-epreuve-liste-infos"><
 li>Codex épreuve FMVF0033</li><li>KO - Sprint QUALIFICATION</li><li>Catégor
 ie(s) : U13 (Filles)</li></ul></li><li><div class="gski-epreuve-date">Le sa
 medi 21 décembre 2019</div><ul class="gski-epreuve-liste-infos"><li>Codex é
 preuve FMVM0033</li><li>KO - Sprint QUALIFICATION</li><li>Catégorie(s) : U1
 3 (Garçons)</li></ul></li><li><div class="gski-epreuve-date">Le samedi 21 d
 écembre 2019</div><ul class="gski-epreuve-liste-infos"><li>Codex épreuve FM
 VF0034</li><li>KO - Sprint FINAL</li><li>Catégorie(s) : U9 (Filles)</li></u
 l></li><li><div class="gski-epreuve-date">Le samedi 21 décembre 2019</div><
 ul class="gski-epreuve-liste-infos"><li>Codex épreuve FMVM0034</li><li>KO -
  Sprint FINAL</li><li>Catégorie(s) : U9 (Garçons)</li></ul></li><li><div cl
 ass="gski-epreuve-date">Le samedi 21 décembre 2019</div><ul class="gski-epr
 euve-liste-infos"><li>Codex épreuve FMVF0035</li><li>KO - Sprint FINAL</li>
 <li>Catégorie(s) : U11 (Filles)</li></ul></li><li><div class="gski-epreuve-
 date">Le samedi 21 décembre 2019</div><ul class="gski-epreuve-liste-infos">
 <li>Codex épreuve FMVM0035</li><li>KO - Sprint FINAL</li><li>Catégorie(s) :
  U11 (Garçons)</li></ul></li><li><div class="gski-epreuve-date">Le samedi 2
 1 décembre 2019</div><ul class="gski-epreuve-liste-infos"><li>Codex épreuve
  FMVF0036</li><li>KO - Sprint FINAL</li><li>Catégorie(s) : U13 (Filles)</li
 ></ul></li><li><div class="gski-epreuve-date">Le samedi 21 décembre 2019</d
 iv><ul class="gski-epreuve-liste-infos"><li>Codex épreuve FMVM0036</li><li>
 KO - Sprint FINAL</li><li>Catégorie(s) : U13 (Garçons)</li></ul></li></ul><
 /div><div class="gskiepreuves-links"><ul><li><a href="https://skivosges.net
 /index.php?option=com_jevents&task=icalevent.detail&evid=1329&Itemid=6283">
 Voir les informations dans l'agenda...</a></li><li><a href="https://skivosg
 es.net/index.php?option=com_gskiepreuves&view=afficheresultats&format_optio
 n=tous&filter[search]=FMVT0030&filter[date_debut]=21-12-2019&filter[date_fi
 n]=21-12-2019&code_activite=FOND&Itemid=6283">Vers les résultats...</a></li
 ><li>Publications concernant cet évènement :<ul><li><a href="https://skivos
 ges.net/index.php?option=com_content&view=article&id=7010&Itemid=6283">Lund
 i 23 Décembre 2019 à 22:09 : Le 21/12/2019 LA BRESSE LISPACH Résultats</a><
 /li></ul></li></ul></div></div"><!-- #/gskiepreuve fin du dode généré par l
 e plugin jevents pour GskiEpreuves. . Ne pas modifier cette ligne, ni tout 
 le contenu précedant.  #/gskiepreuve --> <a href="https://skivosges.net/age
 nda/export-synchronisation/detailevenement/1334/-/promo-pre-clubs-sprints?t
 mpl=component">Cet évènement a été importé depuis :https://skivosges.net/ag
 enda/export-synchronisation/detailevenement/1334/-/promo-pre-clubs-sprints?
 tmpl=component</a>DTSTAMP:20260421T050644
DTSTART;TZID=Europe/Paris;VALUE=DATE:20191221
DTEND;TZID=Europe/Paris;VALUE=DATE:20191222
SEQUENCE:0
TRANSP:OPAQUE
END:VEVENT
END:VCALENDAR