BEGIN:VCALENDAR
VERSION:2.0
PRODID:-//jEvents 2.0 for Joomla//EN
CALSCALE:GREGORIAN
METHOD:PUBLISH
BEGIN:VTIMEZONE
TZID:Europe/Paris
BEGIN:STANDARD
DTSTART:20190101T000000
RDATE:20190331T030000
TZOFFSETFROM:+0200
TZOFFSETTO:+0100
TZNAME:Europe/Paris CET
END:STANDARD
BEGIN:STANDARD
DTSTART:20191027T020000
RDATE:20200329T030000
TZOFFSETFROM:+0200
TZOFFSETTO:+0100
TZNAME:Europe/Paris CET
END:STANDARD
BEGIN:STANDARD
DTSTART:20201025T020000
RDATE:20210328T030000
TZOFFSETFROM:+0200
TZOFFSETTO:+0100
TZNAME:Europe/Paris CET
END:STANDARD
BEGIN:STANDARD
DTSTART:20211031T020000
RDATE:20220327T030000
TZOFFSETFROM:+0200
TZOFFSETTO:+0100
TZNAME:Europe/Paris CET
END:STANDARD
BEGIN:STANDARD
DTSTART:20221030T020000
RDATE:20230326T030000
TZOFFSETFROM:+0200
TZOFFSETTO:+0100
TZNAME:Europe/Paris CET
END:STANDARD
BEGIN:STANDARD
DTSTART:20231029T020000
RDATE:20240331T030000
TZOFFSETFROM:+0200
TZOFFSETTO:+0100
TZNAME:Europe/Paris CET
END:STANDARD
BEGIN:STANDARD
DTSTART:20241027T020000
RDATE:20250330T030000
TZOFFSETFROM:+0200
TZOFFSETTO:+0100
TZNAME:Europe/Paris CET
END:STANDARD
BEGIN:STANDARD
DTSTART:20251026T020000
RDATE:20260329T030000
TZOFFSETFROM:+0200
TZOFFSETTO:+0100
TZNAME:Europe/Paris CET
END:STANDARD
BEGIN:STANDARD
DTSTART:20261025T020000
RDATE:20270328T030000
TZOFFSETFROM:+0200
TZOFFSETTO:+0100
TZNAME:Europe/Paris CET
END:STANDARD
BEGIN:DAYLIGHT
DTSTART:20190331T030000
RDATE:20191027T020000
TZOFFSETFROM:+0100
TZOFFSETTO:+0200
TZNAME:Europe/Paris CEST
END:DAYLIGHT
BEGIN:DAYLIGHT
DTSTART:20200329T030000
RDATE:20201025T020000
TZOFFSETFROM:+0100
TZOFFSETTO:+0200
TZNAME:Europe/Paris CEST
END:DAYLIGHT
BEGIN:DAYLIGHT
DTSTART:20210328T030000
RDATE:20211031T020000
TZOFFSETFROM:+0100
TZOFFSETTO:+0200
TZNAME:Europe/Paris CEST
END:DAYLIGHT
BEGIN:DAYLIGHT
DTSTART:20220327T030000
RDATE:20221030T020000
TZOFFSETFROM:+0100
TZOFFSETTO:+0200
TZNAME:Europe/Paris CEST
END:DAYLIGHT
BEGIN:DAYLIGHT
DTSTART:20230326T030000
RDATE:20231029T020000
TZOFFSETFROM:+0100
TZOFFSETTO:+0200
TZNAME:Europe/Paris CEST
END:DAYLIGHT
BEGIN:DAYLIGHT
DTSTART:20240331T030000
RDATE:20241027T020000
TZOFFSETFROM:+0100
TZOFFSETTO:+0200
TZNAME:Europe/Paris CEST
END:DAYLIGHT
BEGIN:DAYLIGHT
DTSTART:20250330T030000
RDATE:20251026T020000
TZOFFSETFROM:+0100
TZOFFSETTO:+0200
TZNAME:Europe/Paris CEST
END:DAYLIGHT
BEGIN:DAYLIGHT
DTSTART:20260329T030000
RDATE:20261025T020000
TZOFFSETFROM:+0100
TZOFFSETTO:+0200
TZNAME:Europe/Paris CEST
END:DAYLIGHT
END:VTIMEZONE
BEGIN:VEVENT
UID:994537db8f48197da945e0f3efc66ae8
CATEGORIES:Compétition Ski de Fond
CREATED:20191111T130349
SUMMARY:JEUX NORDIC SKIERCROSS - ESF *** ANNULE(E) ***
URL;VALUE=URI:https://skivosges.net/agenda/export-synchronisation/detailevenement/1341/-/
 jeux-nordic-skiercross-esf-annule-e?tmpl=component
DESCRIPTION:<!-- #gskiepreuve code généré par le plugin jevents pour GskiEpreuves. Ne p
 as modifier cette ligne, ni tout le contenu suivant  #gskiepreuve --><div c
 lass="gski-evenement_infos"><div class="gski-evenement-nom">JEUX NORDIC SKI
 ERCROSS - ESF</div><div class="gski-evenement-report"> <font class="gskiatt
 ention">(Epreuve annulée)</font></div><ul class="gski-evenement-liste-infos
 "><li>Codex évenement FMVT0050</li><li>Station : LAC BLANC</li><li>Organisa
 teur : 14379 LAC BLANC SKI NORDIQUE CV ORBEY</li></ul><div class="gski-even
 ement-infos-2"><div class="gski-evenement-info-inscriptions"><div class="gs
 ki-evenement-inscriptions-periodes">Période d'inscription à l'evènement du 
 jeudi 26 décembre 2019 à 00:00 au mardi 31 décembre 2019 à 12:00 <span clas
 s="gski-evenement-inscriptions-impossibles">(Inscriptions impossibles).</sp
 an><div class="gski-evenement-inscriptions-types-titres">Inscriptions ouver
 tes aux detenteurs des titres Fédéraux valides suivants : Licenciés Compéti
 teurs et Titres Loisirs et Dirigeants</div></div></div><div class="gski-eve
 nement-epreuves"><div class="gski-evenement-epreuves-titres">Epreuves :</di
 v><ul class="gski-evenement-epreuves-list"><li><div class="gski-epreuve-dat
 e">Le jeudi 02 janvier 2020</div><ul class="gski-epreuve-liste-infos"><li>C
 odex épreuve FMVF0051</li><li>Depart Individuel</li><li>Catégorie(s) : U9 (
 Filles)</li></ul></li><li><div class="gski-epreuve-date">Le jeudi 02 janvie
 r 2020</div><ul class="gski-epreuve-liste-infos"><li>Codex épreuve FMVM0051
 </li><li>Depart Individuel</li><li>Catégorie(s) : U9 (Garçons)</li></ul></l
 i><li><div class="gski-epreuve-date">Le jeudi 02 janvier 2020</div><ul clas
 s="gski-epreuve-liste-infos"><li>Codex épreuve FMVF0052</li><li>Depart Indi
 viduel</li><li>Catégorie(s) : U11 (Filles)</li></ul></li><li><div class="gs
 ki-epreuve-date">Le jeudi 02 janvier 2020</div><ul class="gski-epreuve-list
 e-infos"><li>Codex épreuve FMVM0052</li><li>Depart Individuel</li><li>Catég
 orie(s) : U11 (Garçons)</li></ul></li><li><div class="gski-epreuve-date">Le
  jeudi 02 janvier 2020</div><ul class="gski-epreuve-liste-infos"><li>Codex 
 épreuve FMVF0053</li><li>Depart Individuel</li><li>Catégorie(s) : U13 (Fill
 es)</li></ul></li><li><div class="gski-epreuve-date">Le jeudi 02 janvier 20
 20</div><ul class="gski-epreuve-liste-infos"><li>Codex épreuve FMVM0053</li
 ><li>Depart Individuel</li><li>Catégorie(s) : U13 (Garçons)</li></ul></li><
 /ul></div><div class="gskiepreuves-links"><ul><li><a href="/index.php?optio
 n=com_jevents&task=icalevent.detail&evid=1336&Itemid=6283">Voir les informa
 tions dans l'agenda...</a></li></ul></div></div"><!-- #/gskiepreuve fin du 
 dode généré par le plugin jevents pour GskiEpreuves. . Ne pas modifier cett
 e ligne, ni tout le contenu précedant.  #/gskiepreuve --> <a href="https://
 skivosges.net/agenda/export-synchronisation/detailevenement/1341/-/jeux-nor
 dic-skiercross-esf-annule-e?tmpl=component">Cet évènement a été importé dep
 uis :https://skivosges.net/agenda/export-synchronisation/detailevenement/13
 41/-/jeux-nordic-skiercross-esf-annule-e?tmpl=component</a>
X-ALT-DESC;FMTTYPE=text/html:<!-- #gskiepreuve code généré par le plugin jevents pour GskiEpreuves. Ne p
 as modifier cette ligne, ni tout le contenu suivant  #gskiepreuve --><div c
 lass="gski-evenement_infos"><div class="gski-evenement-nom">JEUX NORDIC SKI
 ERCROSS - ESF</div><div class="gski-evenement-report"> <font class="gskiatt
 ention">(Epreuve annulée)</font></div><ul class="gski-evenement-liste-infos
 "><li>Codex évenement FMVT0050</li><li>Station : LAC BLANC</li><li>Organisa
 teur : 14379 LAC BLANC SKI NORDIQUE CV ORBEY</li></ul><div class="gski-even
 ement-infos-2"><div class="gski-evenement-info-inscriptions"><div class="gs
 ki-evenement-inscriptions-periodes">Période d'inscription à l'evènement du 
 jeudi 26 décembre 2019 à 00:00 au mardi 31 décembre 2019 à 12:00 <span clas
 s="gski-evenement-inscriptions-impossibles">(Inscriptions impossibles).</sp
 an><div class="gski-evenement-inscriptions-types-titres">Inscriptions ouver
 tes aux detenteurs des titres Fédéraux valides suivants : Licenciés Compéti
 teurs et Titres Loisirs et Dirigeants</div></div></div><div class="gski-eve
 nement-epreuves"><div class="gski-evenement-epreuves-titres">Epreuves :</di
 v><ul class="gski-evenement-epreuves-list"><li><div class="gski-epreuve-dat
 e">Le jeudi 02 janvier 2020</div><ul class="gski-epreuve-liste-infos"><li>C
 odex épreuve FMVF0051</li><li>Depart Individuel</li><li>Catégorie(s) : U9 (
 Filles)</li></ul></li><li><div class="gski-epreuve-date">Le jeudi 02 janvie
 r 2020</div><ul class="gski-epreuve-liste-infos"><li>Codex épreuve FMVM0051
 </li><li>Depart Individuel</li><li>Catégorie(s) : U9 (Garçons)</li></ul></l
 i><li><div class="gski-epreuve-date">Le jeudi 02 janvier 2020</div><ul clas
 s="gski-epreuve-liste-infos"><li>Codex épreuve FMVF0052</li><li>Depart Indi
 viduel</li><li>Catégorie(s) : U11 (Filles)</li></ul></li><li><div class="gs
 ki-epreuve-date">Le jeudi 02 janvier 2020</div><ul class="gski-epreuve-list
 e-infos"><li>Codex épreuve FMVM0052</li><li>Depart Individuel</li><li>Catég
 orie(s) : U11 (Garçons)</li></ul></li><li><div class="gski-epreuve-date">Le
  jeudi 02 janvier 2020</div><ul class="gski-epreuve-liste-infos"><li>Codex 
 épreuve FMVF0053</li><li>Depart Individuel</li><li>Catégorie(s) : U13 (Fill
 es)</li></ul></li><li><div class="gski-epreuve-date">Le jeudi 02 janvier 20
 20</div><ul class="gski-epreuve-liste-infos"><li>Codex épreuve FMVM0053</li
 ><li>Depart Individuel</li><li>Catégorie(s) : U13 (Garçons)</li></ul></li><
 /ul></div><div class="gskiepreuves-links"><ul><li><a href="https://skivosge
 s.net/index.php?option=com_jevents&task=icalevent.detail&evid=1336&Itemid=6
 283">Voir les informations dans l'agenda...</a></li></ul></div></div"><!-- 
 #/gskiepreuve fin du dode généré par le plugin jevents pour GskiEpreuves. .
  Ne pas modifier cette ligne, ni tout le contenu précedant.  #/gskiepreuve 
 --> <a href="https://skivosges.net/agenda/export-synchronisation/detaileven
 ement/1341/-/jeux-nordic-skiercross-esf-annule-e?tmpl=component">Cet évènem
 ent a été importé depuis :https://skivosges.net/agenda/export-synchronisati
 on/detailevenement/1341/-/jeux-nordic-skiercross-esf-annule-e?tmpl=componen
 t</a>DTSTAMP:20260420T184626
DTSTART;TZID=Europe/Paris;VALUE=DATE:20200102
DTEND;TZID=Europe/Paris;VALUE=DATE:20200103
SEQUENCE:0
TRANSP:OPAQUE
END:VEVENT
END:VCALENDAR