BEGIN:VCALENDAR
VERSION:2.0
PRODID:-//jEvents 2.0 for Joomla//EN
CALSCALE:GREGORIAN
METHOD:PUBLISH
BEGIN:VTIMEZONE
TZID:Europe/Paris
BEGIN:STANDARD
DTSTART:20190117T000000
RDATE:20190331T030000
TZOFFSETFROM:+0200
TZOFFSETTO:+0100
TZNAME:Europe/Paris CET
END:STANDARD
BEGIN:STANDARD
DTSTART:20191027T020000
RDATE:20200329T030000
TZOFFSETFROM:+0200
TZOFFSETTO:+0100
TZNAME:Europe/Paris CET
END:STANDARD
BEGIN:STANDARD
DTSTART:20201025T020000
RDATE:20210328T030000
TZOFFSETFROM:+0200
TZOFFSETTO:+0100
TZNAME:Europe/Paris CET
END:STANDARD
BEGIN:STANDARD
DTSTART:20211031T020000
RDATE:20220327T030000
TZOFFSETFROM:+0200
TZOFFSETTO:+0100
TZNAME:Europe/Paris CET
END:STANDARD
BEGIN:STANDARD
DTSTART:20221030T020000
RDATE:20230326T030000
TZOFFSETFROM:+0200
TZOFFSETTO:+0100
TZNAME:Europe/Paris CET
END:STANDARD
BEGIN:STANDARD
DTSTART:20231029T020000
RDATE:20240331T030000
TZOFFSETFROM:+0200
TZOFFSETTO:+0100
TZNAME:Europe/Paris CET
END:STANDARD
BEGIN:STANDARD
DTSTART:20241027T020000
RDATE:20250330T030000
TZOFFSETFROM:+0200
TZOFFSETTO:+0100
TZNAME:Europe/Paris CET
END:STANDARD
BEGIN:STANDARD
DTSTART:20251026T020000
RDATE:20260329T030000
TZOFFSETFROM:+0200
TZOFFSETTO:+0100
TZNAME:Europe/Paris CET
END:STANDARD
BEGIN:STANDARD
DTSTART:20261025T020000
RDATE:20270328T030000
TZOFFSETFROM:+0200
TZOFFSETTO:+0100
TZNAME:Europe/Paris CET
END:STANDARD
BEGIN:DAYLIGHT
DTSTART:20190331T030000
RDATE:20191027T020000
TZOFFSETFROM:+0100
TZOFFSETTO:+0200
TZNAME:Europe/Paris CEST
END:DAYLIGHT
BEGIN:DAYLIGHT
DTSTART:20200329T030000
RDATE:20201025T020000
TZOFFSETFROM:+0100
TZOFFSETTO:+0200
TZNAME:Europe/Paris CEST
END:DAYLIGHT
BEGIN:DAYLIGHT
DTSTART:20210328T030000
RDATE:20211031T020000
TZOFFSETFROM:+0100
TZOFFSETTO:+0200
TZNAME:Europe/Paris CEST
END:DAYLIGHT
BEGIN:DAYLIGHT
DTSTART:20220327T030000
RDATE:20221030T020000
TZOFFSETFROM:+0100
TZOFFSETTO:+0200
TZNAME:Europe/Paris CEST
END:DAYLIGHT
BEGIN:DAYLIGHT
DTSTART:20230326T030000
RDATE:20231029T020000
TZOFFSETFROM:+0100
TZOFFSETTO:+0200
TZNAME:Europe/Paris CEST
END:DAYLIGHT
BEGIN:DAYLIGHT
DTSTART:20240331T030000
RDATE:20241027T020000
TZOFFSETFROM:+0100
TZOFFSETTO:+0200
TZNAME:Europe/Paris CEST
END:DAYLIGHT
BEGIN:DAYLIGHT
DTSTART:20250330T030000
RDATE:20251026T020000
TZOFFSETFROM:+0100
TZOFFSETTO:+0200
TZNAME:Europe/Paris CEST
END:DAYLIGHT
BEGIN:DAYLIGHT
DTSTART:20260329T030000
RDATE:20261025T020000
TZOFFSETFROM:+0100
TZOFFSETTO:+0200
TZNAME:Europe/Paris CEST
END:DAYLIGHT
END:VTIMEZONE
BEGIN:VEVENT
UID:1563063044e55fdd443687f84a5f14e4
CATEGORIES:Compétition Saut
CREATED:20191111T130349
SUMMARY:Coupe des Vosges Bussang
URL;VALUE=URI:https://skivosges.net/agenda/export-synchronisation/detailevenement/1360/-/
 coupe-des-vosges-bussang?tmpl=component
DESCRIPTION:<!-- #gskiepreuve code généré par le plugin jevents pour GskiEpreuves. Ne p
 as modifier cette ligne, ni tout le contenu suivant  #gskiepreuve --><div c
 lass="gski-evenement_infos"><div class="gski-evenement-nom">Coupe des Vosge
 s Bussang</div><div class="gski-evenement-report"></div><ul class="gski-eve
 nement-liste-infos"><li>Codex évenement TMVT0020</li><li>Station : BUSSANG 
 LARCENAIRE</li><li>Organisateur : 14007 UNION SPORTIVE BUSSANG</li><li>Cour
 riel : <!-- Cette adresse électronique est protégée contre les robots spamm
 eurs. --><span class="cloaked_email ep_489e34d3"><span data-ep-a="m&#97;xim
 " data-ep-b="&#114;"><span data-ep-a="e.&#108;&#97;u" data-ep-b="&#100;o&#1
 11;.&#102;"><span data-ep-a="&#114;e&#110;&#116;&#51;" data-ep-b="&#64;&#11
 9;&#97;&#110;a"></span></span></span></span><script>RegularLabs.EmailProtec
 tor.unCloak("ep_489e34d3");</script></li><li><span class="gski-evenement-ob
 s">Délégué Technique : PIERRAT BERNARD</span></li></ul><div class="gski-eve
 nement-infos-2"><div class="gski-evenement-info-inscriptions"><div class="g
 ski-evenement-inscriptions-periodes">Période d'inscription à l'evènement du
  samedi 11 janvier 2020 à 00:00 au jeudi 16 janvier 2020 à 12:00 <span clas
 s="gski-evenement-inscriptions-impossibles">(Inscriptions impossibles).</sp
 an><div class="gski-evenement-inscriptions-types-titres">Inscriptions ouver
 tes aux detenteurs des titres Fédéraux valides suivants : Licenciés Compéti
 teurs</div></div></div><div class="gski-evenement-epreuves"><div class="gsk
 i-evenement-epreuves-titres">Epreuves :</div><ul class="gski-evenement-epre
 uves-list"><li><div class="gski-epreuve-date">Le samedi 18 janvier 2020</di
 v><ul class="gski-epreuve-liste-infos"><li>Codex épreuve TMVM0021</li><li>S
 aut Special</li><li>Catégorie(s) : Toutes les Categories (Garçons)</li></ul
 ></li><li><div class="gski-epreuve-date">Le samedi 18 janvier 2020</div><ul
  class="gski-epreuve-liste-infos"><li>Codex épreuve TMVF0021</li><li>Saut S
 pecial</li><li>Catégorie(s) : Toutes les Categories (Filles)</li></ul></li>
 </ul></div><div class="gskiepreuves-links"><ul><li><a href="/index.php?opti
 on=com_jevents&task=icalevent.detail&evid=1355&Itemid=6283">Voir les inform
 ations dans l'agenda...</a></li></ul></div></div"><!-- #/gskiepreuve fin du
  dode généré par le plugin jevents pour GskiEpreuves. . Ne pas modifier cet
 te ligne, ni tout le contenu précedant.  #/gskiepreuve --> <a href="https:/
 /skivosges.net/agenda/export-synchronisation/detailevenement/1360/-/coupe-d
 es-vosges-bussang?tmpl=component">Cet évènement a été importé depuis :https
 ://skivosges.net/agenda/export-synchronisation/detailevenement/1360/-/coupe
 -des-vosges-bussang?tmpl=component</a>
X-ALT-DESC;FMTTYPE=text/html:<!-- #gskiepreuve code généré par le plugin jevents pour GskiEpreuves. Ne p
 as modifier cette ligne, ni tout le contenu suivant  #gskiepreuve --><div c
 lass="gski-evenement_infos"><div class="gski-evenement-nom">Coupe des Vosge
 s Bussang</div><div class="gski-evenement-report"></div><ul class="gski-eve
 nement-liste-infos"><li>Codex évenement TMVT0020</li><li>Station : BUSSANG 
 LARCENAIRE</li><li>Organisateur : 14007 UNION SPORTIVE BUSSANG</li><li>Cour
 riel : <!-- Cette adresse électronique est protégée contre les robots spamm
 eurs. --><span class="cloaked_email ep_489e34d3"><span data-ep-a="m&#97;xim
 " data-ep-b="&#114;"><span data-ep-a="e.&#108;&#97;u" data-ep-b="&#100;o&#1
 11;.&#102;"><span data-ep-a="&#114;e&#110;&#116;&#51;" data-ep-b="&#64;&#11
 9;&#97;&#110;a"></span></span></span></span><script>RegularLabs.EmailProtec
 tor.unCloak("ep_489e34d3");</script></li><li><span class="gski-evenement-ob
 s">Délégué Technique : PIERRAT BERNARD</span></li></ul><div class="gski-eve
 nement-infos-2"><div class="gski-evenement-info-inscriptions"><div class="g
 ski-evenement-inscriptions-periodes">Période d'inscription à l'evènement du
  samedi 11 janvier 2020 à 00:00 au jeudi 16 janvier 2020 à 12:00 <span clas
 s="gski-evenement-inscriptions-impossibles">(Inscriptions impossibles).</sp
 an><div class="gski-evenement-inscriptions-types-titres">Inscriptions ouver
 tes aux detenteurs des titres Fédéraux valides suivants : Licenciés Compéti
 teurs</div></div></div><div class="gski-evenement-epreuves"><div class="gsk
 i-evenement-epreuves-titres">Epreuves :</div><ul class="gski-evenement-epre
 uves-list"><li><div class="gski-epreuve-date">Le samedi 18 janvier 2020</di
 v><ul class="gski-epreuve-liste-infos"><li>Codex épreuve TMVM0021</li><li>S
 aut Special</li><li>Catégorie(s) : Toutes les Categories (Garçons)</li></ul
 ></li><li><div class="gski-epreuve-date">Le samedi 18 janvier 2020</div><ul
  class="gski-epreuve-liste-infos"><li>Codex épreuve TMVF0021</li><li>Saut S
 pecial</li><li>Catégorie(s) : Toutes les Categories (Filles)</li></ul></li>
 </ul></div><div class="gskiepreuves-links"><ul><li><a href="https://skivosg
 es.net/index.php?option=com_jevents&task=icalevent.detail&evid=1355&Itemid=
 6283">Voir les informations dans l'agenda...</a></li></ul></div></div"><!--
  #/gskiepreuve fin du dode généré par le plugin jevents pour GskiEpreuves. 
 . Ne pas modifier cette ligne, ni tout le contenu précedant.  #/gskiepreuve
  --> <a href="https://skivosges.net/agenda/export-synchronisation/detaileve
 nement/1360/-/coupe-des-vosges-bussang?tmpl=component">Cet évènement a été 
 importé depuis :https://skivosges.net/agenda/export-synchronisation/detaile
 venement/1360/-/coupe-des-vosges-bussang?tmpl=component</a>DTSTAMP:20260420T184853
DTSTART;TZID=Europe/Paris;VALUE=DATE:20200118
DTEND;TZID=Europe/Paris;VALUE=DATE:20200119
SEQUENCE:0
TRANSP:OPAQUE
END:VEVENT
END:VCALENDAR