BEGIN:VCALENDAR
VERSION:2.0
PRODID:-//jEvents 2.0 for Joomla//EN
CALSCALE:GREGORIAN
METHOD:PUBLISH
BEGIN:VTIMEZONE
TZID:Europe/Paris
BEGIN:STANDARD
DTSTART:20190118T000000
RDATE:20190331T030000
TZOFFSETFROM:+0200
TZOFFSETTO:+0100
TZNAME:Europe/Paris CET
END:STANDARD
BEGIN:STANDARD
DTSTART:20191027T020000
RDATE:20200329T030000
TZOFFSETFROM:+0200
TZOFFSETTO:+0100
TZNAME:Europe/Paris CET
END:STANDARD
BEGIN:STANDARD
DTSTART:20201025T020000
RDATE:20210328T030000
TZOFFSETFROM:+0200
TZOFFSETTO:+0100
TZNAME:Europe/Paris CET
END:STANDARD
BEGIN:STANDARD
DTSTART:20211031T020000
RDATE:20220327T030000
TZOFFSETFROM:+0200
TZOFFSETTO:+0100
TZNAME:Europe/Paris CET
END:STANDARD
BEGIN:STANDARD
DTSTART:20221030T020000
RDATE:20230326T030000
TZOFFSETFROM:+0200
TZOFFSETTO:+0100
TZNAME:Europe/Paris CET
END:STANDARD
BEGIN:STANDARD
DTSTART:20231029T020000
RDATE:20240331T030000
TZOFFSETFROM:+0200
TZOFFSETTO:+0100
TZNAME:Europe/Paris CET
END:STANDARD
BEGIN:STANDARD
DTSTART:20241027T020000
RDATE:20250330T030000
TZOFFSETFROM:+0200
TZOFFSETTO:+0100
TZNAME:Europe/Paris CET
END:STANDARD
BEGIN:STANDARD
DTSTART:20251026T020000
RDATE:20260329T030000
TZOFFSETFROM:+0200
TZOFFSETTO:+0100
TZNAME:Europe/Paris CET
END:STANDARD
BEGIN:STANDARD
DTSTART:20261025T020000
RDATE:20270328T030000
TZOFFSETFROM:+0200
TZOFFSETTO:+0100
TZNAME:Europe/Paris CET
END:STANDARD
BEGIN:DAYLIGHT
DTSTART:20190331T030000
RDATE:20191027T020000
TZOFFSETFROM:+0100
TZOFFSETTO:+0200
TZNAME:Europe/Paris CEST
END:DAYLIGHT
BEGIN:DAYLIGHT
DTSTART:20200329T030000
RDATE:20201025T020000
TZOFFSETFROM:+0100
TZOFFSETTO:+0200
TZNAME:Europe/Paris CEST
END:DAYLIGHT
BEGIN:DAYLIGHT
DTSTART:20210328T030000
RDATE:20211031T020000
TZOFFSETFROM:+0100
TZOFFSETTO:+0200
TZNAME:Europe/Paris CEST
END:DAYLIGHT
BEGIN:DAYLIGHT
DTSTART:20220327T030000
RDATE:20221030T020000
TZOFFSETFROM:+0100
TZOFFSETTO:+0200
TZNAME:Europe/Paris CEST
END:DAYLIGHT
BEGIN:DAYLIGHT
DTSTART:20230326T030000
RDATE:20231029T020000
TZOFFSETFROM:+0100
TZOFFSETTO:+0200
TZNAME:Europe/Paris CEST
END:DAYLIGHT
BEGIN:DAYLIGHT
DTSTART:20240331T030000
RDATE:20241027T020000
TZOFFSETFROM:+0100
TZOFFSETTO:+0200
TZNAME:Europe/Paris CEST
END:DAYLIGHT
BEGIN:DAYLIGHT
DTSTART:20250330T030000
RDATE:20251026T020000
TZOFFSETFROM:+0100
TZOFFSETTO:+0200
TZNAME:Europe/Paris CEST
END:DAYLIGHT
BEGIN:DAYLIGHT
DTSTART:20260329T030000
RDATE:20261025T020000
TZOFFSETFROM:+0100
TZOFFSETTO:+0200
TZNAME:Europe/Paris CEST
END:DAYLIGHT
END:VTIMEZONE
BEGIN:VEVENT
UID:c82979797343e02b5ba278dda502866b
CATEGORIES:Compétition Ski de Fond
CREATED:20191111T130349
SUMMARY:CHALLENGE MICHEL DIDIERLAURENT Big Mat Atomic n°6 Crédit Mutuel n°5
URL;VALUE=URI:https://skivosges.net/agenda/export-synchronisation/detailevenement/1367/-/
 challenge-michel-didierlaurent-big-mat-atomic-n-6-credit-mutuel-n-5?tmpl=co
 mponent
DESCRIPTION:<!-- #gskiepreuve code généré par le plugin jevents pour GskiEpreuves. Ne p
 as modifier cette ligne, ni tout le contenu suivant  #gskiepreuve --><div c
 lass="gski-evenement_infos"><div class="gski-evenement-nom">CHALLENGE MICHE
 L DIDIERLAURENT Big Mat Atomic n°6 Crédit Mutuel n°5</div><div class="gski-
 evenement-report"></div><ul class="gski-evenement-liste-infos"><li>Codex év
 enement FMVT0090</li><li>Lieu : Lispach</li><li>Station : La Bresse</li><li
 >Organisateur : 14329 SKI CLUB VAGNEY ROCHESSON</li><li>Courriel : <!-- Cet
 te adresse électronique est protégée contre les robots spammeurs. --><span 
 class="cloaked_email ep_5f8b9c97"><span data-ep-a="&#115;am&#117;&#101;" da
 ta-ep-b=""><span data-ep-a="&#108;&#118;&#97;&#108;&#100;" data-ep-b="&#111
 ;o&#46;&#102;r"><span data-ep-a="&#101;nai&#114;" data-ep-b="&#101;&#64;&#1
 21;a&#104;"></span></span></span></span><script>RegularLabs.EmailProtector.
 unCloak("ep_5f8b9c97");</script></li><li><span class="gski-evenement-obs">D
 élégué Technique : PHILIPPE ALAIN</span></li></ul><div class="gski-evenemen
 t-infos-2"><div class="gski-evenement-info-inscriptions"><div class="gski-e
 venement-inscriptions-periodes">Période d'inscription à l'evènement du dima
 nche 12 janvier 2020 à 00:00 au vendredi 17 janvier 2020 à 12:00 <span clas
 s="gski-evenement-inscriptions-impossibles">(Inscriptions impossibles).</sp
 an><div class="gski-evenement-inscriptions-types-titres">Inscriptions ouver
 tes aux detenteurs des titres Fédéraux valides suivants : Licenciés Compéti
 teurs</div></div></div><div class="gski-evenement-epreuves"><div class="gsk
 i-evenement-epreuves-titres">Epreuves :</div><ul class="gski-evenement-epre
 uves-list"><li><div class="gski-epreuve-date">Le dimanche 19 janvier 2020</
 div><ul class="gski-epreuve-liste-infos"><li>Codex épreuve FMVF0091</li><li
 >Mass Start (Depart ligne)</li><li>Catégorie(s) : U17 (Dames)</li></ul></li
 ><li><div class="gski-epreuve-date">Le dimanche 19 janvier 2020</div><ul cl
 ass="gski-epreuve-liste-infos"><li>Codex épreuve FMVM0091</li><li>Mass Star
 t (Depart ligne)</li><li>Catégorie(s) : U17 (Hommes)</li></ul></li><li><div
  class="gski-epreuve-date">Le dimanche 19 janvier 2020</div><ul class="gski
 -epreuve-liste-infos"><li>Codex épreuve FMVF0092</li><li>Mass Start (Depart
  ligne)</li><li>Catégorie(s) : U20/SEN (Dames)</li></ul></li><li><div class
 ="gski-epreuve-date">Le dimanche 19 janvier 2020</div><ul class="gski-epreu
 ve-liste-infos"><li>Codex épreuve FMVM0092</li><li>Mass Start (Depart ligne
 )</li><li>Catégorie(s) : U20/SEN (Hommes)</li></ul></li></ul></div><div cla
 ss="gskiepreuves-links"><ul><li><a href="/index.php?option=com_jevents&task
 =icalevent.detail&evid=1362&Itemid=6283">Voir les informations dans l'agend
 a...</a></li><li><a href="/index.php?option=com_gskiepreuves&view=affichere
 sultats&format_option=tous&filter[search]=FMVT0090&filter[date_debut]=19-01
 -2020&filter[date_fin]=19-01-2020&code_activite=FOND&Itemid=6283">Vers les 
 résultats...</a></li><li>Publications concernant cet évènement :<ul><li><a 
 href="/index.php?option=com_content&view=article&id=7058&Itemid=6283">Diman
 che 19 Janvier 2020 à 22:26 : Le 19/01/2020 LA BRESSE LISPACH Résultats</a>
 </li></ul></li></ul></div></div"><!-- #/gskiepreuve fin du dode généré par 
 le plugin jevents pour GskiEpreuves. . Ne pas modifier cette ligne, ni tout
  le contenu précedant.  #/gskiepreuve --> <a href="https://skivosges.net/ag
 enda/export-synchronisation/detailevenement/1367/-/challenge-michel-didierl
 aurent-big-mat-atomic-n-6-credit-mutuel-n-5?tmpl=component">Cet évènement a
  été importé depuis :https://skivosges.net/agenda/export-synchronisation/de
 tailevenement/1367/-/challenge-michel-didierlaurent-big-mat-atomic-n-6-cred
 it-mutuel-n-5?tmpl=component</a>
X-ALT-DESC;FMTTYPE=text/html:<!-- #gskiepreuve code généré par le plugin jevents pour GskiEpreuves. Ne p
 as modifier cette ligne, ni tout le contenu suivant  #gskiepreuve --><div c
 lass="gski-evenement_infos"><div class="gski-evenement-nom">CHALLENGE MICHE
 L DIDIERLAURENT Big Mat Atomic n°6 Crédit Mutuel n°5</div><div class="gski-
 evenement-report"></div><ul class="gski-evenement-liste-infos"><li>Codex év
 enement FMVT0090</li><li>Lieu : Lispach</li><li>Station : La Bresse</li><li
 >Organisateur : 14329 SKI CLUB VAGNEY ROCHESSON</li><li>Courriel : <!-- Cet
 te adresse électronique est protégée contre les robots spammeurs. --><span 
 class="cloaked_email ep_5f8b9c97"><span data-ep-a="&#115;am&#117;&#101;" da
 ta-ep-b=""><span data-ep-a="&#108;&#118;&#97;&#108;&#100;" data-ep-b="&#111
 ;o&#46;&#102;r"><span data-ep-a="&#101;nai&#114;" data-ep-b="&#101;&#64;&#1
 21;a&#104;"></span></span></span></span><script>RegularLabs.EmailProtector.
 unCloak("ep_5f8b9c97");</script></li><li><span class="gski-evenement-obs">D
 élégué Technique : PHILIPPE ALAIN</span></li></ul><div class="gski-evenemen
 t-infos-2"><div class="gski-evenement-info-inscriptions"><div class="gski-e
 venement-inscriptions-periodes">Période d'inscription à l'evènement du dima
 nche 12 janvier 2020 à 00:00 au vendredi 17 janvier 2020 à 12:00 <span clas
 s="gski-evenement-inscriptions-impossibles">(Inscriptions impossibles).</sp
 an><div class="gski-evenement-inscriptions-types-titres">Inscriptions ouver
 tes aux detenteurs des titres Fédéraux valides suivants : Licenciés Compéti
 teurs</div></div></div><div class="gski-evenement-epreuves"><div class="gsk
 i-evenement-epreuves-titres">Epreuves :</div><ul class="gski-evenement-epre
 uves-list"><li><div class="gski-epreuve-date">Le dimanche 19 janvier 2020</
 div><ul class="gski-epreuve-liste-infos"><li>Codex épreuve FMVF0091</li><li
 >Mass Start (Depart ligne)</li><li>Catégorie(s) : U17 (Dames)</li></ul></li
 ><li><div class="gski-epreuve-date">Le dimanche 19 janvier 2020</div><ul cl
 ass="gski-epreuve-liste-infos"><li>Codex épreuve FMVM0091</li><li>Mass Star
 t (Depart ligne)</li><li>Catégorie(s) : U17 (Hommes)</li></ul></li><li><div
  class="gski-epreuve-date">Le dimanche 19 janvier 2020</div><ul class="gski
 -epreuve-liste-infos"><li>Codex épreuve FMVF0092</li><li>Mass Start (Depart
  ligne)</li><li>Catégorie(s) : U20/SEN (Dames)</li></ul></li><li><div class
 ="gski-epreuve-date">Le dimanche 19 janvier 2020</div><ul class="gski-epreu
 ve-liste-infos"><li>Codex épreuve FMVM0092</li><li>Mass Start (Depart ligne
 )</li><li>Catégorie(s) : U20/SEN (Hommes)</li></ul></li></ul></div><div cla
 ss="gskiepreuves-links"><ul><li><a href="https://skivosges.net/index.php?op
 tion=com_jevents&task=icalevent.detail&evid=1362&Itemid=6283">Voir les info
 rmations dans l'agenda...</a></li><li><a href="https://skivosges.net/index.
 php?option=com_gskiepreuves&view=afficheresultats&format_option=tous&filter
 [search]=FMVT0090&filter[date_debut]=19-01-2020&filter[date_fin]=19-01-2020
 &code_activite=FOND&Itemid=6283">Vers les résultats...</a></li><li>Publicat
 ions concernant cet évènement :<ul><li><a href="https://skivosges.net/index
 .php?option=com_content&view=article&id=7058&Itemid=6283">Dimanche 19 Janvi
 er 2020 à 22:26 : Le 19/01/2020 LA BRESSE LISPACH Résultats</a></li></ul></
 li></ul></div></div"><!-- #/gskiepreuve fin du dode généré par le plugin je
 vents pour GskiEpreuves. . Ne pas modifier cette ligne, ni tout le contenu 
 précedant.  #/gskiepreuve --> <a href="https://skivosges.net/agenda/export-
 synchronisation/detailevenement/1367/-/challenge-michel-didierlaurent-big-m
 at-atomic-n-6-credit-mutuel-n-5?tmpl=component">Cet évènement a été importé
  depuis :https://skivosges.net/agenda/export-synchronisation/detailevenemen
 t/1367/-/challenge-michel-didierlaurent-big-mat-atomic-n-6-credit-mutuel-n-
 5?tmpl=component</a>DTSTAMP:20260420T184902
DTSTART;TZID=Europe/Paris;VALUE=DATE:20200119
DTEND;TZID=Europe/Paris;VALUE=DATE:20200120
SEQUENCE:0
TRANSP:OPAQUE
END:VEVENT
END:VCALENDAR