BEGIN:VCALENDAR
VERSION:2.0
PRODID:-//jEvents 2.0 for Joomla//EN
CALSCALE:GREGORIAN
METHOD:PUBLISH
BEGIN:VTIMEZONE
TZID:Europe/Paris
BEGIN:STANDARD
DTSTART:20190124T000000
RDATE:20190331T030000
TZOFFSETFROM:+0200
TZOFFSETTO:+0100
TZNAME:Europe/Paris CET
END:STANDARD
BEGIN:STANDARD
DTSTART:20191027T020000
RDATE:20200329T030000
TZOFFSETFROM:+0200
TZOFFSETTO:+0100
TZNAME:Europe/Paris CET
END:STANDARD
BEGIN:STANDARD
DTSTART:20201025T020000
RDATE:20210328T030000
TZOFFSETFROM:+0200
TZOFFSETTO:+0100
TZNAME:Europe/Paris CET
END:STANDARD
BEGIN:STANDARD
DTSTART:20211031T020000
RDATE:20220327T030000
TZOFFSETFROM:+0200
TZOFFSETTO:+0100
TZNAME:Europe/Paris CET
END:STANDARD
BEGIN:STANDARD
DTSTART:20221030T020000
RDATE:20230326T030000
TZOFFSETFROM:+0200
TZOFFSETTO:+0100
TZNAME:Europe/Paris CET
END:STANDARD
BEGIN:STANDARD
DTSTART:20231029T020000
RDATE:20240331T030000
TZOFFSETFROM:+0200
TZOFFSETTO:+0100
TZNAME:Europe/Paris CET
END:STANDARD
BEGIN:STANDARD
DTSTART:20241027T020000
RDATE:20250330T030000
TZOFFSETFROM:+0200
TZOFFSETTO:+0100
TZNAME:Europe/Paris CET
END:STANDARD
BEGIN:STANDARD
DTSTART:20251026T020000
RDATE:20260329T030000
TZOFFSETFROM:+0200
TZOFFSETTO:+0100
TZNAME:Europe/Paris CET
END:STANDARD
BEGIN:STANDARD
DTSTART:20261025T020000
RDATE:20270328T030000
TZOFFSETFROM:+0200
TZOFFSETTO:+0100
TZNAME:Europe/Paris CET
END:STANDARD
BEGIN:DAYLIGHT
DTSTART:20190331T030000
RDATE:20191027T020000
TZOFFSETFROM:+0100
TZOFFSETTO:+0200
TZNAME:Europe/Paris CEST
END:DAYLIGHT
BEGIN:DAYLIGHT
DTSTART:20200329T030000
RDATE:20201025T020000
TZOFFSETFROM:+0100
TZOFFSETTO:+0200
TZNAME:Europe/Paris CEST
END:DAYLIGHT
BEGIN:DAYLIGHT
DTSTART:20210328T030000
RDATE:20211031T020000
TZOFFSETFROM:+0100
TZOFFSETTO:+0200
TZNAME:Europe/Paris CEST
END:DAYLIGHT
BEGIN:DAYLIGHT
DTSTART:20220327T030000
RDATE:20221030T020000
TZOFFSETFROM:+0100
TZOFFSETTO:+0200
TZNAME:Europe/Paris CEST
END:DAYLIGHT
BEGIN:DAYLIGHT
DTSTART:20230326T030000
RDATE:20231029T020000
TZOFFSETFROM:+0100
TZOFFSETTO:+0200
TZNAME:Europe/Paris CEST
END:DAYLIGHT
BEGIN:DAYLIGHT
DTSTART:20240331T030000
RDATE:20241027T020000
TZOFFSETFROM:+0100
TZOFFSETTO:+0200
TZNAME:Europe/Paris CEST
END:DAYLIGHT
BEGIN:DAYLIGHT
DTSTART:20250330T030000
RDATE:20251026T020000
TZOFFSETFROM:+0100
TZOFFSETTO:+0200
TZNAME:Europe/Paris CEST
END:DAYLIGHT
BEGIN:DAYLIGHT
DTSTART:20260329T030000
RDATE:20261025T020000
TZOFFSETFROM:+0100
TZOFFSETTO:+0200
TZNAME:Europe/Paris CEST
END:DAYLIGHT
END:VTIMEZONE
BEGIN:VEVENT
UID:300a299294353bdafc57f09c2d58d54e
CATEGORIES:Compétition Biathlon
CREATED:20191111T130349
SUMMARY:BIAHTLON REGIONAL 10m
URL;VALUE=URI:https://skivosges.net/agenda/export-synchronisation/detailevenement/1372/-/
 biahtlon-regional-10m?tmpl=component
DESCRIPTION:BIAHTLON REGIONAL 10m\n - Codex évenement BMVT0040\n - Station : LA BRESSE 
 LISPACH\n - Organisateur : 14486 BASSE SUR LE RUPT SKI NORDIQUE\n - Courrie
 l : RegularLabs.EmailProtector.unCloak("ep_3e2303b0");\n - Délégué Techniqu
 e : HABRAN THIERRYPériode d'inscription à l'evènement du samedi 18 janvier 
 2020 à 00:00 au vendredi 24 janvier 2020 à 12:00 (Inscriptions impossibles)
 .Inscriptions ouvertes aux detenteurs des titres Fédéraux valides suivants 
 : Licenciés CompétiteursEpreuves :\n - Le samedi 25 janvier 2020\n - Codex 
 épreuve BMVF0041\n - Individuel\n - Catégorie(s) : U13 (Filles)\n - Le same
 di 25 janvier 2020\n - Codex épreuve BMVM0041\n - Individuel\n - Catégorie(
 s) : U13 (Garçons)\n - Le samedi 25 janvier 2020\n - Codex épreuve BMVF0042
 \n - Individuel\n - Catégorie(s) : U15/U17 (Filles)\n - Le samedi 25 janvie
 r 2020\n - Codex épreuve BMVM0042\n - Individuel\n - Catégorie(s) : U15/U17
  (Garçons)\n - Le samedi 25 janvier 2020\n - Codex épreuve BMVF0043\n - Ind
 ividuel\n - Catégorie(s) : U19 a SEN (Dames)\n - Le samedi 25 janvier 2020\
 n - Codex épreuve BMVM0043\n - Individuel\n - Catégorie(s) : U19 a SEN (Hom
 mes)\n - Voir les informations dans l'agenda... (/index.php?option=com_jeve
 nts&amp;task=icalevent.detail&amp;evid=1367&amp;Itemid=6283)\n - Vers les r
 ésultats... (/index.php?option=com_gskiepreuves&amp;view=afficheresultats&a
 mp;format_option=tous&amp;filter[search]=BMVT0040&amp;filter[date_debut]=25
 -01-2020&amp;filter[date_fin]=25-01-2020&amp;code_activite=BIATH&amp;Itemid
 =6283) Cet évènement a été importé depuis :https://skivosges.net/agenda/exp
 ort-synchronisation/detailevenement/1372/-/biahtlon-regional-10m?tmpl=compo
 nent
X-ALT-DESC;FMTTYPE=text/html:<!-- #gskiepreuve code généré par le plugin jevents pour GskiEpreuves. Ne p
 as modifier cette ligne, ni tout le contenu suivant  #gskiepreuve --><div c
 lass="gski-evenement_infos"><div class="gski-evenement-nom">BIAHTLON REGION
 AL 10m</div><div class="gski-evenement-report"></div><ul class="gski-evenem
 ent-liste-infos"><li>Codex évenement BMVT0040</li><li>Station : LA BRESSE L
 ISPACH</li><li>Organisateur : 14486 BASSE SUR LE RUPT SKI NORDIQUE</li><li>
 Courriel : <!-- Cette adresse électronique est protégée contre les robots s
 pammeurs. --><span class="cloaked_email ep_3e2303b0"><span data-ep-b="m" da
 ta-ep-a="r&#101;my"><span data-ep-a="ala&#105;" data-ep-b="l&#46;&#99;&#111
 ;"><span data-ep-b="&#103;ma&#105;" data-ep-a="&#110;&#56;8&#64;"></span></
 span></span></span><script>RegularLabs.EmailProtector.unCloak("ep_3e2303b0"
 );</script></li><li><span class="gski-evenement-obs">Délégué Technique : HA
 BRAN THIERRY</span></li></ul><div class="gski-evenement-infos-2"><div class
 ="gski-evenement-info-inscriptions"><div class="gski-evenement-inscriptions
 -periodes">Période d'inscription à l'evènement du samedi 18 janvier 2020 à 
 00:00 au vendredi 24 janvier 2020 à 12:00 <span class="gski-evenement-inscr
 iptions-impossibles">(Inscriptions impossibles).</span><div class="gski-eve
 nement-inscriptions-types-titres">Inscriptions ouvertes aux detenteurs des 
 titres Fédéraux valides suivants : Licenciés Compétiteurs</div></div></div>
 <div class="gski-evenement-epreuves"><div class="gski-evenement-epreuves-ti
 tres">Epreuves :</div><ul class="gski-evenement-epreuves-list"><li><div cla
 ss="gski-epreuve-date">Le samedi 25 janvier 2020</div><ul class="gski-epreu
 ve-liste-infos"><li>Codex épreuve BMVF0041</li><li>Individuel</li><li>Catég
 orie(s) : U13 (Filles)</li></ul></li><li><div class="gski-epreuve-date">Le 
 samedi 25 janvier 2020</div><ul class="gski-epreuve-liste-infos"><li>Codex 
 épreuve BMVM0041</li><li>Individuel</li><li>Catégorie(s) : U13 (Garçons)</l
 i></ul></li><li><div class="gski-epreuve-date">Le samedi 25 janvier 2020</d
 iv><ul class="gski-epreuve-liste-infos"><li>Codex épreuve BMVF0042</li><li>
 Individuel</li><li>Catégorie(s) : U15/U17 (Filles)</li></ul></li><li><div c
 lass="gski-epreuve-date">Le samedi 25 janvier 2020</div><ul class="gski-epr
 euve-liste-infos"><li>Codex épreuve BMVM0042</li><li>Individuel</li><li>Cat
 égorie(s) : U15/U17 (Garçons)</li></ul></li><li><div class="gski-epreuve-da
 te">Le samedi 25 janvier 2020</div><ul class="gski-epreuve-liste-infos"><li
 >Codex épreuve BMVF0043</li><li>Individuel</li><li>Catégorie(s) : U19 a SEN
  (Dames)</li></ul></li><li><div class="gski-epreuve-date">Le samedi 25 janv
 ier 2020</div><ul class="gski-epreuve-liste-infos"><li>Codex épreuve BMVM00
 43</li><li>Individuel</li><li>Catégorie(s) : U19 a SEN (Hommes)</li></ul></
 li></ul></div><div class="gskiepreuves-links"><ul><li><a href="https://skiv
 osges.net/index.php?option=com_jevents&task=icalevent.detail&evid=1367&Item
 id=6283">Voir les informations dans l'agenda...</a></li><li><a href="https:
 //skivosges.net/index.php?option=com_gskiepreuves&view=afficheresultats&for
 mat_option=tous&filter[search]=BMVT0040&filter[date_debut]=25-01-2020&filte
 r[date_fin]=25-01-2020&code_activite=BIATH&Itemid=6283">Vers les résultats.
 ..</a></li></ul></div></div"><!-- #/gskiepreuve fin du dode généré par le p
 lugin jevents pour GskiEpreuves. . Ne pas modifier cette ligne, ni tout le 
 contenu précedant.  #/gskiepreuve --> <a href="https://skivosges.net/agenda
 /export-synchronisation/detailevenement/1372/-/biahtlon-regional-10m?tmpl=c
 omponent">Cet évènement a été importé depuis :https://skivosges.net/agenda/
 export-synchronisation/detailevenement/1372/-/biahtlon-regional-10m?tmpl=co
 mponent</a>DTSTAMP:20260420T183912
DTSTART;TZID=Europe/Paris;VALUE=DATE:20200125
DTEND;TZID=Europe/Paris;VALUE=DATE:20200126
SEQUENCE:0
TRANSP:OPAQUE
END:VEVENT
END:VCALENDAR