BEGIN:VCALENDAR
VERSION:2.0
PRODID:-//jEvents 2.0 for Joomla//EN
CALSCALE:GREGORIAN
METHOD:PUBLISH
BEGIN:VTIMEZONE
TZID:Europe/Paris
BEGIN:STANDARD
DTSTART:20190124T000000
RDATE:20190331T030000
TZOFFSETFROM:+0200
TZOFFSETTO:+0100
TZNAME:Europe/Paris CET
END:STANDARD
BEGIN:STANDARD
DTSTART:20191027T020000
RDATE:20200329T030000
TZOFFSETFROM:+0200
TZOFFSETTO:+0100
TZNAME:Europe/Paris CET
END:STANDARD
BEGIN:STANDARD
DTSTART:20201025T020000
RDATE:20210328T030000
TZOFFSETFROM:+0200
TZOFFSETTO:+0100
TZNAME:Europe/Paris CET
END:STANDARD
BEGIN:STANDARD
DTSTART:20211031T020000
RDATE:20220327T030000
TZOFFSETFROM:+0200
TZOFFSETTO:+0100
TZNAME:Europe/Paris CET
END:STANDARD
BEGIN:STANDARD
DTSTART:20221030T020000
RDATE:20230326T030000
TZOFFSETFROM:+0200
TZOFFSETTO:+0100
TZNAME:Europe/Paris CET
END:STANDARD
BEGIN:STANDARD
DTSTART:20231029T020000
RDATE:20240331T030000
TZOFFSETFROM:+0200
TZOFFSETTO:+0100
TZNAME:Europe/Paris CET
END:STANDARD
BEGIN:STANDARD
DTSTART:20241027T020000
RDATE:20250330T030000
TZOFFSETFROM:+0200
TZOFFSETTO:+0100
TZNAME:Europe/Paris CET
END:STANDARD
BEGIN:STANDARD
DTSTART:20251026T020000
RDATE:20260329T030000
TZOFFSETFROM:+0200
TZOFFSETTO:+0100
TZNAME:Europe/Paris CET
END:STANDARD
BEGIN:STANDARD
DTSTART:20261025T020000
RDATE:20270328T030000
TZOFFSETFROM:+0200
TZOFFSETTO:+0100
TZNAME:Europe/Paris CET
END:STANDARD
BEGIN:DAYLIGHT
DTSTART:20190331T030000
RDATE:20191027T020000
TZOFFSETFROM:+0100
TZOFFSETTO:+0200
TZNAME:Europe/Paris CEST
END:DAYLIGHT
BEGIN:DAYLIGHT
DTSTART:20200329T030000
RDATE:20201025T020000
TZOFFSETFROM:+0100
TZOFFSETTO:+0200
TZNAME:Europe/Paris CEST
END:DAYLIGHT
BEGIN:DAYLIGHT
DTSTART:20210328T030000
RDATE:20211031T020000
TZOFFSETFROM:+0100
TZOFFSETTO:+0200
TZNAME:Europe/Paris CEST
END:DAYLIGHT
BEGIN:DAYLIGHT
DTSTART:20220327T030000
RDATE:20221030T020000
TZOFFSETFROM:+0100
TZOFFSETTO:+0200
TZNAME:Europe/Paris CEST
END:DAYLIGHT
BEGIN:DAYLIGHT
DTSTART:20230326T030000
RDATE:20231029T020000
TZOFFSETFROM:+0100
TZOFFSETTO:+0200
TZNAME:Europe/Paris CEST
END:DAYLIGHT
BEGIN:DAYLIGHT
DTSTART:20240331T030000
RDATE:20241027T020000
TZOFFSETFROM:+0100
TZOFFSETTO:+0200
TZNAME:Europe/Paris CEST
END:DAYLIGHT
BEGIN:DAYLIGHT
DTSTART:20250330T030000
RDATE:20251026T020000
TZOFFSETFROM:+0100
TZOFFSETTO:+0200
TZNAME:Europe/Paris CEST
END:DAYLIGHT
BEGIN:DAYLIGHT
DTSTART:20260329T030000
RDATE:20261025T020000
TZOFFSETFROM:+0100
TZOFFSETTO:+0200
TZNAME:Europe/Paris CEST
END:DAYLIGHT
END:VTIMEZONE
BEGIN:VEVENT
UID:5e8b8f7188286c4f019cb374c193ece2
CATEGORIES:Compétition Biathlon
CREATED:20191111T130349
SUMMARY:CHAMPIONNAT DES VOSGES BIATHLON 50m Crédit Mutuel/TGL/Salomon
URL;VALUE=URI:https://skivosges.net/agenda/export-synchronisation/detailevenement/1373/-/
 championnat-des-vosges-biathlon-50m-credit-mutuel-tgl-salomon?tmpl=componen
 t
DESCRIPTION:<!-- #gskiepreuve code généré par le plugin jevents pour GskiEpreuves. Ne p
 as modifier cette ligne, ni tout le contenu suivant  #gskiepreuve --><div c
 lass="gski-evenement_infos"><div class="gski-evenement-nom">CHAMPIONNAT DES
  VOSGES BIATHLON 50m Crédit Mutuel/TGL/Salomon</div><div class="gski-evenem
 ent-report"></div><ul class="gski-evenement-liste-infos"><li>Codex évenemen
 t BMVT0050</li><li>Station : LA BRESSE LISPACH</li><li>Organisateur : 14486
  BASSE SUR LE RUPT SKI NORDIQUE</li><li>Courriel : <!-- Cette adresse élect
 ronique est protégée contre les robots spammeurs. --><span class="cloaked_e
 mail ep_8b37bb44"><span data-ep-a="&#114;e&#109;y" data-ep-b="&#109;"><span
  data-ep-b="&#108;.&#99;o" data-ep-a="al&#97;i"><span data-ep-a="&#110;&#56
 ;8&#64;" data-ep-b="&#103;m&#97;i"></span></span></span></span><script>Regu
 larLabs.EmailProtector.unCloak("ep_8b37bb44");</script></li><li><span class
 ="gski-evenement-obs">Délégué Technique : HABRAN THIERRY</span></li></ul><d
 iv class="gski-evenement-infos-2"><div class="gski-evenement-info-inscripti
 ons"><div class="gski-evenement-inscriptions-periodes">Période d'inscriptio
 n à l'evènement du samedi 18 janvier 2020 à 00:00 au vendredi 24 janvier 20
 20 à 12:00 <span class="gski-evenement-inscriptions-impossibles">(Inscripti
 ons impossibles).</span><div class="gski-evenement-inscriptions-types-titre
 s">Inscriptions ouvertes aux detenteurs des titres Fédéraux valides suivant
 s : Licenciés Compétiteurs</div></div></div><div class="gski-evenement-epre
 uves"><div class="gski-evenement-epreuves-titres">Epreuves :</div><ul class
 ="gski-evenement-epreuves-list"><li><div class="gski-epreuve-date">Le samed
 i 25 janvier 2020</div><ul class="gski-epreuve-liste-infos"><li>Codex épreu
 ve BMVF0051</li><li>Individuel</li><li>Catégorie(s) : U15/U17 (Filles)</li>
 </ul></li><li><div class="gski-epreuve-date">Le samedi 25 janvier 2020</div
 ><ul class="gski-epreuve-liste-infos"><li>Codex épreuve BMVM0051</li><li>In
 dividuel</li><li>Catégorie(s) : U15/U17 (Garçons)</li></ul></li><li><div cl
 ass="gski-epreuve-date">Le samedi 25 janvier 2020</div><ul class="gski-epre
 uve-liste-infos"><li>Codex épreuve BMVF0052</li><li>Individuel</li><li>Caté
 gorie(s) : U19 a SEN (Dames)</li></ul></li><li><div class="gski-epreuve-dat
 e">Le samedi 25 janvier 2020</div><ul class="gski-epreuve-liste-infos"><li>
 Codex épreuve BMVM0052</li><li>Individuel</li><li>Catégorie(s) : U19 a SEN 
 (Hommes)</li></ul></li></ul></div><div class="gskiepreuves-links"><ul><li><
 a href="/index.php?option=com_jevents&task=icalevent.detail&evid=1368&Itemi
 d=6283">Voir les informations dans l'agenda...</a></li><li><a href="/index.
 php?option=com_gskiepreuves&view=afficheresultats&format_option=tous&filter
 [search]=BMVT0050&filter[date_debut]=25-01-2020&filter[date_fin]=25-01-2020
 &code_activite=BIATH&Itemid=6283">Vers les résultats...</a></li></ul></div>
 </div"><!-- #/gskiepreuve fin du dode généré par le plugin jevents pour Gsk
 iEpreuves. . Ne pas modifier cette ligne, ni tout le contenu précedant.  #/
 gskiepreuve --> <a href="https://skivosges.net/agenda/export-synchronisatio
 n/detailevenement/1373/-/championnat-des-vosges-biathlon-50m-credit-mutuel-
 tgl-salomon?tmpl=component">Cet évènement a été importé depuis :https://ski
 vosges.net/agenda/export-synchronisation/detailevenement/1373/-/championnat
 -des-vosges-biathlon-50m-credit-mutuel-tgl-salomon?tmpl=component</a>
X-ALT-DESC;FMTTYPE=text/html:<!-- #gskiepreuve code généré par le plugin jevents pour GskiEpreuves. Ne p
 as modifier cette ligne, ni tout le contenu suivant  #gskiepreuve --><div c
 lass="gski-evenement_infos"><div class="gski-evenement-nom">CHAMPIONNAT DES
  VOSGES BIATHLON 50m Crédit Mutuel/TGL/Salomon</div><div class="gski-evenem
 ent-report"></div><ul class="gski-evenement-liste-infos"><li>Codex évenemen
 t BMVT0050</li><li>Station : LA BRESSE LISPACH</li><li>Organisateur : 14486
  BASSE SUR LE RUPT SKI NORDIQUE</li><li>Courriel : <!-- Cette adresse élect
 ronique est protégée contre les robots spammeurs. --><span class="cloaked_e
 mail ep_8b37bb44"><span data-ep-a="&#114;e&#109;y" data-ep-b="&#109;"><span
  data-ep-b="&#108;.&#99;o" data-ep-a="al&#97;i"><span data-ep-a="&#110;&#56
 ;8&#64;" data-ep-b="&#103;m&#97;i"></span></span></span></span><script>Regu
 larLabs.EmailProtector.unCloak("ep_8b37bb44");</script></li><li><span class
 ="gski-evenement-obs">Délégué Technique : HABRAN THIERRY</span></li></ul><d
 iv class="gski-evenement-infos-2"><div class="gski-evenement-info-inscripti
 ons"><div class="gski-evenement-inscriptions-periodes">Période d'inscriptio
 n à l'evènement du samedi 18 janvier 2020 à 00:00 au vendredi 24 janvier 20
 20 à 12:00 <span class="gski-evenement-inscriptions-impossibles">(Inscripti
 ons impossibles).</span><div class="gski-evenement-inscriptions-types-titre
 s">Inscriptions ouvertes aux detenteurs des titres Fédéraux valides suivant
 s : Licenciés Compétiteurs</div></div></div><div class="gski-evenement-epre
 uves"><div class="gski-evenement-epreuves-titres">Epreuves :</div><ul class
 ="gski-evenement-epreuves-list"><li><div class="gski-epreuve-date">Le samed
 i 25 janvier 2020</div><ul class="gski-epreuve-liste-infos"><li>Codex épreu
 ve BMVF0051</li><li>Individuel</li><li>Catégorie(s) : U15/U17 (Filles)</li>
 </ul></li><li><div class="gski-epreuve-date">Le samedi 25 janvier 2020</div
 ><ul class="gski-epreuve-liste-infos"><li>Codex épreuve BMVM0051</li><li>In
 dividuel</li><li>Catégorie(s) : U15/U17 (Garçons)</li></ul></li><li><div cl
 ass="gski-epreuve-date">Le samedi 25 janvier 2020</div><ul class="gski-epre
 uve-liste-infos"><li>Codex épreuve BMVF0052</li><li>Individuel</li><li>Caté
 gorie(s) : U19 a SEN (Dames)</li></ul></li><li><div class="gski-epreuve-dat
 e">Le samedi 25 janvier 2020</div><ul class="gski-epreuve-liste-infos"><li>
 Codex épreuve BMVM0052</li><li>Individuel</li><li>Catégorie(s) : U19 a SEN 
 (Hommes)</li></ul></li></ul></div><div class="gskiepreuves-links"><ul><li><
 a href="https://skivosges.net/index.php?option=com_jevents&task=icalevent.d
 etail&evid=1368&Itemid=6283">Voir les informations dans l'agenda...</a></li
 ><li><a href="https://skivosges.net/index.php?option=com_gskiepreuves&view=
 afficheresultats&format_option=tous&filter[search]=BMVT0050&filter[date_deb
 ut]=25-01-2020&filter[date_fin]=25-01-2020&code_activite=BIATH&Itemid=6283"
 >Vers les résultats...</a></li></ul></div></div"><!-- #/gskiepreuve fin du 
 dode généré par le plugin jevents pour GskiEpreuves. . Ne pas modifier cett
 e ligne, ni tout le contenu précedant.  #/gskiepreuve --> <a href="https://
 skivosges.net/agenda/export-synchronisation/detailevenement/1373/-/champion
 nat-des-vosges-biathlon-50m-credit-mutuel-tgl-salomon?tmpl=component">Cet é
 vènement a été importé depuis :https://skivosges.net/agenda/export-synchron
 isation/detailevenement/1373/-/championnat-des-vosges-biathlon-50m-credit-m
 utuel-tgl-salomon?tmpl=component</a>DTSTAMP:20260420T151328
DTSTART;TZID=Europe/Paris;VALUE=DATE:20200125
DTEND;TZID=Europe/Paris;VALUE=DATE:20200126
SEQUENCE:0
TRANSP:OPAQUE
END:VEVENT
END:VCALENDAR