BEGIN:VCALENDAR
VERSION:2.0
PRODID:-//jEvents 2.0 for Joomla//EN
CALSCALE:GREGORIAN
METHOD:PUBLISH
BEGIN:VTIMEZONE
TZID:Europe/Paris
BEGIN:STANDARD
DTSTART:20190125T000000
RDATE:20190331T030000
TZOFFSETFROM:+0200
TZOFFSETTO:+0100
TZNAME:Europe/Paris CET
END:STANDARD
BEGIN:STANDARD
DTSTART:20191027T020000
RDATE:20200329T030000
TZOFFSETFROM:+0200
TZOFFSETTO:+0100
TZNAME:Europe/Paris CET
END:STANDARD
BEGIN:STANDARD
DTSTART:20201025T020000
RDATE:20210328T030000
TZOFFSETFROM:+0200
TZOFFSETTO:+0100
TZNAME:Europe/Paris CET
END:STANDARD
BEGIN:STANDARD
DTSTART:20211031T020000
RDATE:20220327T030000
TZOFFSETFROM:+0200
TZOFFSETTO:+0100
TZNAME:Europe/Paris CET
END:STANDARD
BEGIN:STANDARD
DTSTART:20221030T020000
RDATE:20230326T030000
TZOFFSETFROM:+0200
TZOFFSETTO:+0100
TZNAME:Europe/Paris CET
END:STANDARD
BEGIN:STANDARD
DTSTART:20231029T020000
RDATE:20240331T030000
TZOFFSETFROM:+0200
TZOFFSETTO:+0100
TZNAME:Europe/Paris CET
END:STANDARD
BEGIN:STANDARD
DTSTART:20241027T020000
RDATE:20250330T030000
TZOFFSETFROM:+0200
TZOFFSETTO:+0100
TZNAME:Europe/Paris CET
END:STANDARD
BEGIN:STANDARD
DTSTART:20251026T020000
RDATE:20260329T030000
TZOFFSETFROM:+0200
TZOFFSETTO:+0100
TZNAME:Europe/Paris CET
END:STANDARD
BEGIN:STANDARD
DTSTART:20261025T020000
RDATE:20270328T030000
TZOFFSETFROM:+0200
TZOFFSETTO:+0100
TZNAME:Europe/Paris CET
END:STANDARD
BEGIN:DAYLIGHT
DTSTART:20190331T030000
RDATE:20191027T020000
TZOFFSETFROM:+0100
TZOFFSETTO:+0200
TZNAME:Europe/Paris CEST
END:DAYLIGHT
BEGIN:DAYLIGHT
DTSTART:20200329T030000
RDATE:20201025T020000
TZOFFSETFROM:+0100
TZOFFSETTO:+0200
TZNAME:Europe/Paris CEST
END:DAYLIGHT
BEGIN:DAYLIGHT
DTSTART:20210328T030000
RDATE:20211031T020000
TZOFFSETFROM:+0100
TZOFFSETTO:+0200
TZNAME:Europe/Paris CEST
END:DAYLIGHT
BEGIN:DAYLIGHT
DTSTART:20220327T030000
RDATE:20221030T020000
TZOFFSETFROM:+0100
TZOFFSETTO:+0200
TZNAME:Europe/Paris CEST
END:DAYLIGHT
BEGIN:DAYLIGHT
DTSTART:20230326T030000
RDATE:20231029T020000
TZOFFSETFROM:+0100
TZOFFSETTO:+0200
TZNAME:Europe/Paris CEST
END:DAYLIGHT
BEGIN:DAYLIGHT
DTSTART:20240331T030000
RDATE:20241027T020000
TZOFFSETFROM:+0100
TZOFFSETTO:+0200
TZNAME:Europe/Paris CEST
END:DAYLIGHT
BEGIN:DAYLIGHT
DTSTART:20250330T030000
RDATE:20251026T020000
TZOFFSETFROM:+0100
TZOFFSETTO:+0200
TZNAME:Europe/Paris CEST
END:DAYLIGHT
BEGIN:DAYLIGHT
DTSTART:20260329T030000
RDATE:20261025T020000
TZOFFSETFROM:+0100
TZOFFSETTO:+0200
TZNAME:Europe/Paris CEST
END:DAYLIGHT
END:VTIMEZONE
BEGIN:VEVENT
UID:4105886ae48c6dff1b276e1fb6c3f215
CATEGORIES:Compétition Ski de Fond
CREATED:20191111T130350
SUMMARY:LA NORDIQUE DES CRETES *** ANNULE(E) ***
URL;VALUE=URI:https://skivosges.net/agenda/export-synchronisation/detailevenement/1380/-/
 la-nordique-des-cretes-annule-e?tmpl=component
DESCRIPTION:<!-- #gskiepreuve code généré par le plugin jevents pour GskiEpreuves. Ne p
 as modifier cette ligne, ni tout le contenu suivant  #gskiepreuve --><div c
 lass="gski-evenement_infos"><div class="gski-evenement-nom">LA NORDIQUE DES
  CRETES</div><div class="gski-evenement-report"> <font class="gskiattention
 ">(Epreuve annulée)</font></div><ul class="gski-evenement-liste-infos"><li>
 Codex évenement FNAT0150</li><li>Station : MARKSTEIN</li><li>Organisateur :
  14044 TOURING CLUB MULHOUSE</li><li>Courriel : <!-- Cette adresse électron
 ique est protégée contre les robots spammeurs. --><span class="cloaked_emai
 l ep_eab443c9"><span data-ep-a="&#121;&#118;&#101;&#115;" data-ep-b="&#116;
 "><span data-ep-a=".&#98;ou" data-ep-b="&#114;&#46;&#110;e"><span data-ep-a
 ="&#118;&#105;er" data-ep-b="&#64;e&#118;&#104;"></span></span></span></spa
 n><script>RegularLabs.EmailProtector.unCloak("ep_eab443c9");</script></li><
 li>Téléphone : 03 89 59 55 56</li></ul><div class="gski-evenement-infos-2">
 <div class="gski-evenement-info-inscriptions"><div class="gski-evenement-in
 scriptions-periodes">Période d'inscription à l'evènement du dimanche 19 jan
 vier 2020 à 00:00 au vendredi 24 janvier 2020 à 12:00 <span class="gski-eve
 nement-inscriptions-impossibles">(Inscriptions impossibles).</span><div cla
 ss="gski-evenement-inscriptions-types-titres">Inscriptions ouvertes aux det
 enteurs des titres Fédéraux valides suivants : Licenciés Compétiteurs</div>
 </div></div><div class="gski-evenement-epreuves"><div class="gski-evenement
 -epreuves-titres">Epreuves :</div><ul class="gski-evenement-epreuves-list">
 <li><div class="gski-epreuve-date">Le dimanche 26 janvier 2020</div><ul cla
 ss="gski-epreuve-liste-infos"><li>Codex épreuve FNAM0151</li><li>Fond Popul
 aire (depart en ligne)</li><li>Catégorie(s) : U20 a M12 (Hommes)</li></ul><
 /li><li><div class="gski-epreuve-date">Le dimanche 26 janvier 2020</div><ul
  class="gski-epreuve-liste-infos"><li>Codex épreuve FNAF0151</li><li>Fond P
 opulaire (depart en ligne)</li><li>Catégorie(s) : U20 a M12 (Dames)</li></u
 l></li><li><div class="gski-epreuve-date">Le dimanche 26 janvier 2020</div>
 <ul class="gski-epreuve-liste-infos"><li>Codex épreuve FNAF0152</li><li>Fon
 d Populaire (depart en ligne)</li><li>Catégorie(s) : Senior a Master12 (Dam
 es)</li></ul></li><li><div class="gski-epreuve-date">Le dimanche 26 janvier
  2020</div><ul class="gski-epreuve-liste-infos"><li>Codex épreuve FNAM0152<
 /li><li>Fond Populaire (depart en ligne)</li><li>Catégorie(s) : Senior a Ma
 ster12 (Hommes)</li></ul></li></ul></div><div class="gskiepreuves-links"><u
 l><li><a href="/index.php?option=com_jevents&task=icalevent.detail&evid=137
 5&Itemid=6283">Voir les informations dans l'agenda...</a></li></ul></div></
 div"><!-- #/gskiepreuve fin du dode généré par le plugin jevents pour GskiE
 preuves. . Ne pas modifier cette ligne, ni tout le contenu précedant.  #/gs
 kiepreuve --> <a href="https://skivosges.net/agenda/export-synchronisation/
 detailevenement/1380/-/la-nordique-des-cretes-annule-e?tmpl=component">Cet 
 évènement a été importé depuis :https://skivosges.net/agenda/export-synchro
 nisation/detailevenement/1380/-/la-nordique-des-cretes-annule-e?tmpl=compon
 ent</a>
X-ALT-DESC;FMTTYPE=text/html:<!-- #gskiepreuve code généré par le plugin jevents pour GskiEpreuves. Ne p
 as modifier cette ligne, ni tout le contenu suivant  #gskiepreuve --><div c
 lass="gski-evenement_infos"><div class="gski-evenement-nom">LA NORDIQUE DES
  CRETES</div><div class="gski-evenement-report"> <font class="gskiattention
 ">(Epreuve annulée)</font></div><ul class="gski-evenement-liste-infos"><li>
 Codex évenement FNAT0150</li><li>Station : MARKSTEIN</li><li>Organisateur :
  14044 TOURING CLUB MULHOUSE</li><li>Courriel : <!-- Cette adresse électron
 ique est protégée contre les robots spammeurs. --><span class="cloaked_emai
 l ep_eab443c9"><span data-ep-a="&#121;&#118;&#101;&#115;" data-ep-b="&#116;
 "><span data-ep-a=".&#98;ou" data-ep-b="&#114;&#46;&#110;e"><span data-ep-a
 ="&#118;&#105;er" data-ep-b="&#64;e&#118;&#104;"></span></span></span></spa
 n><script>RegularLabs.EmailProtector.unCloak("ep_eab443c9");</script></li><
 li>Téléphone : 03 89 59 55 56</li></ul><div class="gski-evenement-infos-2">
 <div class="gski-evenement-info-inscriptions"><div class="gski-evenement-in
 scriptions-periodes">Période d'inscription à l'evènement du dimanche 19 jan
 vier 2020 à 00:00 au vendredi 24 janvier 2020 à 12:00 <span class="gski-eve
 nement-inscriptions-impossibles">(Inscriptions impossibles).</span><div cla
 ss="gski-evenement-inscriptions-types-titres">Inscriptions ouvertes aux det
 enteurs des titres Fédéraux valides suivants : Licenciés Compétiteurs</div>
 </div></div><div class="gski-evenement-epreuves"><div class="gski-evenement
 -epreuves-titres">Epreuves :</div><ul class="gski-evenement-epreuves-list">
 <li><div class="gski-epreuve-date">Le dimanche 26 janvier 2020</div><ul cla
 ss="gski-epreuve-liste-infos"><li>Codex épreuve FNAM0151</li><li>Fond Popul
 aire (depart en ligne)</li><li>Catégorie(s) : U20 a M12 (Hommes)</li></ul><
 /li><li><div class="gski-epreuve-date">Le dimanche 26 janvier 2020</div><ul
  class="gski-epreuve-liste-infos"><li>Codex épreuve FNAF0151</li><li>Fond P
 opulaire (depart en ligne)</li><li>Catégorie(s) : U20 a M12 (Dames)</li></u
 l></li><li><div class="gski-epreuve-date">Le dimanche 26 janvier 2020</div>
 <ul class="gski-epreuve-liste-infos"><li>Codex épreuve FNAF0152</li><li>Fon
 d Populaire (depart en ligne)</li><li>Catégorie(s) : Senior a Master12 (Dam
 es)</li></ul></li><li><div class="gski-epreuve-date">Le dimanche 26 janvier
  2020</div><ul class="gski-epreuve-liste-infos"><li>Codex épreuve FNAM0152<
 /li><li>Fond Populaire (depart en ligne)</li><li>Catégorie(s) : Senior a Ma
 ster12 (Hommes)</li></ul></li></ul></div><div class="gskiepreuves-links"><u
 l><li><a href="https://skivosges.net/index.php?option=com_jevents&task=ical
 event.detail&evid=1375&Itemid=6283">Voir les informations dans l'agenda...<
 /a></li></ul></div></div"><!-- #/gskiepreuve fin du dode généré par le plug
 in jevents pour GskiEpreuves. . Ne pas modifier cette ligne, ni tout le con
 tenu précedant.  #/gskiepreuve --> <a href="https://skivosges.net/agenda/ex
 port-synchronisation/detailevenement/1380/-/la-nordique-des-cretes-annule-e
 ?tmpl=component">Cet évènement a été importé depuis :https://skivosges.net/
 agenda/export-synchronisation/detailevenement/1380/-/la-nordique-des-cretes
 -annule-e?tmpl=component</a>DTSTAMP:20260420T184430
DTSTART;TZID=Europe/Paris;VALUE=DATE:20200126
DTEND;TZID=Europe/Paris;VALUE=DATE:20200127
SEQUENCE:0
TRANSP:OPAQUE
END:VEVENT
END:VCALENDAR