BEGIN:VCALENDAR
VERSION:2.0
PRODID:-//jEvents 2.0 for Joomla//EN
CALSCALE:GREGORIAN
METHOD:PUBLISH
BEGIN:VTIMEZONE
TZID:Europe/Paris
BEGIN:STANDARD
DTSTART:20190201T000000
RDATE:20190331T030000
TZOFFSETFROM:+0200
TZOFFSETTO:+0100
TZNAME:Europe/Paris CET
END:STANDARD
BEGIN:STANDARD
DTSTART:20191027T020000
RDATE:20200329T030000
TZOFFSETFROM:+0200
TZOFFSETTO:+0100
TZNAME:Europe/Paris CET
END:STANDARD
BEGIN:STANDARD
DTSTART:20201025T020000
RDATE:20210328T030000
TZOFFSETFROM:+0200
TZOFFSETTO:+0100
TZNAME:Europe/Paris CET
END:STANDARD
BEGIN:STANDARD
DTSTART:20211031T020000
RDATE:20220327T030000
TZOFFSETFROM:+0200
TZOFFSETTO:+0100
TZNAME:Europe/Paris CET
END:STANDARD
BEGIN:STANDARD
DTSTART:20221030T020000
RDATE:20230326T030000
TZOFFSETFROM:+0200
TZOFFSETTO:+0100
TZNAME:Europe/Paris CET
END:STANDARD
BEGIN:STANDARD
DTSTART:20231029T020000
RDATE:20240331T030000
TZOFFSETFROM:+0200
TZOFFSETTO:+0100
TZNAME:Europe/Paris CET
END:STANDARD
BEGIN:STANDARD
DTSTART:20241027T020000
RDATE:20250330T030000
TZOFFSETFROM:+0200
TZOFFSETTO:+0100
TZNAME:Europe/Paris CET
END:STANDARD
BEGIN:STANDARD
DTSTART:20251026T020000
RDATE:20260329T030000
TZOFFSETFROM:+0200
TZOFFSETTO:+0100
TZNAME:Europe/Paris CET
END:STANDARD
BEGIN:STANDARD
DTSTART:20261025T020000
RDATE:20270328T030000
TZOFFSETFROM:+0200
TZOFFSETTO:+0100
TZNAME:Europe/Paris CET
END:STANDARD
BEGIN:DAYLIGHT
DTSTART:20190331T030000
RDATE:20191027T020000
TZOFFSETFROM:+0100
TZOFFSETTO:+0200
TZNAME:Europe/Paris CEST
END:DAYLIGHT
BEGIN:DAYLIGHT
DTSTART:20200329T030000
RDATE:20201025T020000
TZOFFSETFROM:+0100
TZOFFSETTO:+0200
TZNAME:Europe/Paris CEST
END:DAYLIGHT
BEGIN:DAYLIGHT
DTSTART:20210328T030000
RDATE:20211031T020000
TZOFFSETFROM:+0100
TZOFFSETTO:+0200
TZNAME:Europe/Paris CEST
END:DAYLIGHT
BEGIN:DAYLIGHT
DTSTART:20220327T030000
RDATE:20221030T020000
TZOFFSETFROM:+0100
TZOFFSETTO:+0200
TZNAME:Europe/Paris CEST
END:DAYLIGHT
BEGIN:DAYLIGHT
DTSTART:20230326T030000
RDATE:20231029T020000
TZOFFSETFROM:+0100
TZOFFSETTO:+0200
TZNAME:Europe/Paris CEST
END:DAYLIGHT
BEGIN:DAYLIGHT
DTSTART:20240331T030000
RDATE:20241027T020000
TZOFFSETFROM:+0100
TZOFFSETTO:+0200
TZNAME:Europe/Paris CEST
END:DAYLIGHT
BEGIN:DAYLIGHT
DTSTART:20250330T030000
RDATE:20251026T020000
TZOFFSETFROM:+0100
TZOFFSETTO:+0200
TZNAME:Europe/Paris CEST
END:DAYLIGHT
BEGIN:DAYLIGHT
DTSTART:20260329T030000
RDATE:20261025T020000
TZOFFSETFROM:+0100
TZOFFSETTO:+0200
TZNAME:Europe/Paris CEST
END:DAYLIGHT
END:VTIMEZONE
BEGIN:VEVENT
UID:15ddaadefa60aefde47c6ae73012c5fc
CATEGORIES:Circuit Massif D2 (alpin)
CREATED:20191111T130350
SUMMARY:CD2 Coupe de la Ville de Belfort **REPORTE**
URL;VALUE=URI:https://skivosges.net/agenda/export-synchronisation/detailevenement/1387/-/
 cd2-coupe-de-la-ville-de-belfort-reporte?tmpl=component
DESCRIPTION:<!-- #gskiepreuve code généré par le plugin jevents pour GskiEpreuves. Ne p
 as modifier cette ligne, ni tout le contenu suivant  #gskiepreuve --><div c
 lass="gski-evenement_infos"><div class="gski-evenement-nom">CD2 Coupe de la
  Ville de Belfort</div><div class="gski-evenement-report"> <font class="gsk
 iattention">(Epreuve reportée, date à determiner)</font></div><ul class="gs
 ki-evenement-liste-infos"><li>Codex évenement AMVT0280</li><li>Station : BA
 LLON D'ALSACE</li><li>Organisateur : 14004 STE SKI TOURISME MONTAGNE</li><l
 i>Courriel : <!-- Cette adresse électronique est protégée contre les robots
  spammeurs. --><span class="cloaked_email ep_7dcb65e6"><span data-ep-a="jg&
 #104;" data-ep-b=""><span data-ep-b="&#114;" data-ep-a="&#64;&#99;&#105;"><
 span data-ep-b="&#101;&#46;f" data-ep-a="&#116;&#101;&#108;"></span></span>
 </span></span><script>RegularLabs.EmailProtector.unCloak("ep_7dcb65e6");</s
 cript></li><li>Téléphone : 0384901720</li><li><span class="gski-evenement-o
 bs">Délégué Technique : L'EPINGLE JEAN CLAUDE</span></li></ul><div class="g
 ski-evenement-infos-2"><div class="gski-evenement-info-inscriptions"><div c
 lass="gski-evenement-inscriptions-periodes">Période d'inscription à l'evène
 ment du dimanche 26 janvier 2020 à 00:00 au vendredi 31 janvier 2020 à 12:0
 0 <span class="gski-evenement-inscriptions-impossibles">(Inscriptions impos
 sibles).</span><div class="gski-evenement-inscriptions-types-titres">Inscri
 ptions ouvertes aux detenteurs des titres Fédéraux valides suivants : Licen
 ciés Compétiteurs</div></div></div><div class="gski-evenement-epreuves"><di
 v class="gski-evenement-epreuves-titres">Epreuves :</div><ul class="gski-ev
 enement-epreuves-list"><li><div class="gski-epreuve-date">Le dimanche 02 fé
 vrier 2020</div><ul class="gski-epreuve-liste-infos"><li>Codex épreuve AMVM
 0281</li><li>Slalom</li><li>Catégorie(s) : U16 (Garçons)</li></ul></li><li>
 <div class="gski-epreuve-date">Le dimanche 02 février 2020</div><ul class="
 gski-epreuve-liste-infos"><li>Codex épreuve AMVF0281</li><li>Slalom</li><li
 >Catégorie(s) : U16 (Filles)</li></ul></li><li><div class="gski-epreuve-dat
 e">Le dimanche 02 février 2020</div><ul class="gski-epreuve-liste-infos"><l
 i>Codex épreuve AMVM0282</li><li>Slalom</li><li>Catégorie(s) : U18 a Master
 s (Hommes)</li></ul></li><li><div class="gski-epreuve-date">Le dimanche 02 
 février 2020</div><ul class="gski-epreuve-liste-infos"><li>Codex épreuve AM
 VF0282</li><li>Slalom</li><li>Catégorie(s) : U18 a Masters (Dames)</li></ul
 ></li></ul></div><div class="gskiepreuves-links"><ul><li><a href="/index.ph
 p?option=com_jevents&task=icalevent.detail&evid=1382&Itemid=6283">Voir les 
 informations dans l'agenda...</a></li></ul></div></div"><!-- #/gskiepreuve 
 fin du dode généré par le plugin jevents pour GskiEpreuves. . Ne pas modifi
 er cette ligne, ni tout le contenu précedant.  #/gskiepreuve --> <a href="h
 ttps://skivosges.net/agenda/export-synchronisation/detailevenement/1387/-/c
 d2-coupe-de-la-ville-de-belfort-reporte?tmpl=component">Cet évènement a été
  importé depuis :https://skivosges.net/agenda/export-synchronisation/detail
 evenement/1387/-/cd2-coupe-de-la-ville-de-belfort-reporte?tmpl=component</a
 >
X-ALT-DESC;FMTTYPE=text/html:<!-- #gskiepreuve code généré par le plugin jevents pour GskiEpreuves. Ne p
 as modifier cette ligne, ni tout le contenu suivant  #gskiepreuve --><div c
 lass="gski-evenement_infos"><div class="gski-evenement-nom">CD2 Coupe de la
  Ville de Belfort</div><div class="gski-evenement-report"> <font class="gsk
 iattention">(Epreuve reportée, date à determiner)</font></div><ul class="gs
 ki-evenement-liste-infos"><li>Codex évenement AMVT0280</li><li>Station : BA
 LLON D'ALSACE</li><li>Organisateur : 14004 STE SKI TOURISME MONTAGNE</li><l
 i>Courriel : <!-- Cette adresse électronique est protégée contre les robots
  spammeurs. --><span class="cloaked_email ep_7dcb65e6"><span data-ep-a="jg&
 #104;" data-ep-b=""><span data-ep-b="&#114;" data-ep-a="&#64;&#99;&#105;"><
 span data-ep-b="&#101;&#46;f" data-ep-a="&#116;&#101;&#108;"></span></span>
 </span></span><script>RegularLabs.EmailProtector.unCloak("ep_7dcb65e6");</s
 cript></li><li>Téléphone : 0384901720</li><li><span class="gski-evenement-o
 bs">Délégué Technique : L'EPINGLE JEAN CLAUDE</span></li></ul><div class="g
 ski-evenement-infos-2"><div class="gski-evenement-info-inscriptions"><div c
 lass="gski-evenement-inscriptions-periodes">Période d'inscription à l'evène
 ment du dimanche 26 janvier 2020 à 00:00 au vendredi 31 janvier 2020 à 12:0
 0 <span class="gski-evenement-inscriptions-impossibles">(Inscriptions impos
 sibles).</span><div class="gski-evenement-inscriptions-types-titres">Inscri
 ptions ouvertes aux detenteurs des titres Fédéraux valides suivants : Licen
 ciés Compétiteurs</div></div></div><div class="gski-evenement-epreuves"><di
 v class="gski-evenement-epreuves-titres">Epreuves :</div><ul class="gski-ev
 enement-epreuves-list"><li><div class="gski-epreuve-date">Le dimanche 02 fé
 vrier 2020</div><ul class="gski-epreuve-liste-infos"><li>Codex épreuve AMVM
 0281</li><li>Slalom</li><li>Catégorie(s) : U16 (Garçons)</li></ul></li><li>
 <div class="gski-epreuve-date">Le dimanche 02 février 2020</div><ul class="
 gski-epreuve-liste-infos"><li>Codex épreuve AMVF0281</li><li>Slalom</li><li
 >Catégorie(s) : U16 (Filles)</li></ul></li><li><div class="gski-epreuve-dat
 e">Le dimanche 02 février 2020</div><ul class="gski-epreuve-liste-infos"><l
 i>Codex épreuve AMVM0282</li><li>Slalom</li><li>Catégorie(s) : U18 a Master
 s (Hommes)</li></ul></li><li><div class="gski-epreuve-date">Le dimanche 02 
 février 2020</div><ul class="gski-epreuve-liste-infos"><li>Codex épreuve AM
 VF0282</li><li>Slalom</li><li>Catégorie(s) : U18 a Masters (Dames)</li></ul
 ></li></ul></div><div class="gskiepreuves-links"><ul><li><a href="https://s
 kivosges.net/index.php?option=com_jevents&task=icalevent.detail&evid=1382&I
 temid=6283">Voir les informations dans l'agenda...</a></li></ul></div></div
 "><!-- #/gskiepreuve fin du dode généré par le plugin jevents pour GskiEpre
 uves. . Ne pas modifier cette ligne, ni tout le contenu précedant.  #/gskie
 preuve --> <a href="https://skivosges.net/agenda/export-synchronisation/det
 ailevenement/1387/-/cd2-coupe-de-la-ville-de-belfort-reporte?tmpl=component
 ">Cet évènement a été importé depuis :https://skivosges.net/agenda/export-s
 ynchronisation/detailevenement/1387/-/cd2-coupe-de-la-ville-de-belfort-repo
 rte?tmpl=component</a>DTSTAMP:20260421T051300
DTSTART;TZID=Europe/Paris;VALUE=DATE:20200202
DTEND;TZID=Europe/Paris;VALUE=DATE:20200203
SEQUENCE:0
TRANSP:OPAQUE
END:VEVENT
END:VCALENDAR