BEGIN:VCALENDAR
VERSION:2.0
PRODID:-//jEvents 2.0 for Joomla//EN
CALSCALE:GREGORIAN
METHOD:PUBLISH
BEGIN:VTIMEZONE
TZID:Europe/Paris
BEGIN:STANDARD
DTSTART:20190201T000000
RDATE:20190331T030000
TZOFFSETFROM:+0200
TZOFFSETTO:+0100
TZNAME:Europe/Paris CET
END:STANDARD
BEGIN:STANDARD
DTSTART:20191027T020000
RDATE:20200329T030000
TZOFFSETFROM:+0200
TZOFFSETTO:+0100
TZNAME:Europe/Paris CET
END:STANDARD
BEGIN:STANDARD
DTSTART:20201025T020000
RDATE:20210328T030000
TZOFFSETFROM:+0200
TZOFFSETTO:+0100
TZNAME:Europe/Paris CET
END:STANDARD
BEGIN:STANDARD
DTSTART:20211031T020000
RDATE:20220327T030000
TZOFFSETFROM:+0200
TZOFFSETTO:+0100
TZNAME:Europe/Paris CET
END:STANDARD
BEGIN:STANDARD
DTSTART:20221030T020000
RDATE:20230326T030000
TZOFFSETFROM:+0200
TZOFFSETTO:+0100
TZNAME:Europe/Paris CET
END:STANDARD
BEGIN:STANDARD
DTSTART:20231029T020000
RDATE:20240331T030000
TZOFFSETFROM:+0200
TZOFFSETTO:+0100
TZNAME:Europe/Paris CET
END:STANDARD
BEGIN:STANDARD
DTSTART:20241027T020000
RDATE:20250330T030000
TZOFFSETFROM:+0200
TZOFFSETTO:+0100
TZNAME:Europe/Paris CET
END:STANDARD
BEGIN:STANDARD
DTSTART:20251026T020000
RDATE:20260329T030000
TZOFFSETFROM:+0200
TZOFFSETTO:+0100
TZNAME:Europe/Paris CET
END:STANDARD
BEGIN:STANDARD
DTSTART:20261025T020000
RDATE:20270328T030000
TZOFFSETFROM:+0200
TZOFFSETTO:+0100
TZNAME:Europe/Paris CET
END:STANDARD
BEGIN:DAYLIGHT
DTSTART:20190331T030000
RDATE:20191027T020000
TZOFFSETFROM:+0100
TZOFFSETTO:+0200
TZNAME:Europe/Paris CEST
END:DAYLIGHT
BEGIN:DAYLIGHT
DTSTART:20200329T030000
RDATE:20201025T020000
TZOFFSETFROM:+0100
TZOFFSETTO:+0200
TZNAME:Europe/Paris CEST
END:DAYLIGHT
BEGIN:DAYLIGHT
DTSTART:20210328T030000
RDATE:20211031T020000
TZOFFSETFROM:+0100
TZOFFSETTO:+0200
TZNAME:Europe/Paris CEST
END:DAYLIGHT
BEGIN:DAYLIGHT
DTSTART:20220327T030000
RDATE:20221030T020000
TZOFFSETFROM:+0100
TZOFFSETTO:+0200
TZNAME:Europe/Paris CEST
END:DAYLIGHT
BEGIN:DAYLIGHT
DTSTART:20230326T030000
RDATE:20231029T020000
TZOFFSETFROM:+0100
TZOFFSETTO:+0200
TZNAME:Europe/Paris CEST
END:DAYLIGHT
BEGIN:DAYLIGHT
DTSTART:20240331T030000
RDATE:20241027T020000
TZOFFSETFROM:+0100
TZOFFSETTO:+0200
TZNAME:Europe/Paris CEST
END:DAYLIGHT
BEGIN:DAYLIGHT
DTSTART:20250330T030000
RDATE:20251026T020000
TZOFFSETFROM:+0100
TZOFFSETTO:+0200
TZNAME:Europe/Paris CEST
END:DAYLIGHT
BEGIN:DAYLIGHT
DTSTART:20260329T030000
RDATE:20261025T020000
TZOFFSETFROM:+0100
TZOFFSETTO:+0200
TZNAME:Europe/Paris CEST
END:DAYLIGHT
END:VTIMEZONE
BEGIN:VEVENT
UID:92f1b72f1e04d2112bc04e84ead2f950
CATEGORIES:Compétition Ski de Fond
CREATED:20191111T130350
SUMMARY:LA TRACE VOSGIENNE *** ANNULE(E) ***
URL;VALUE=URI:https://skivosges.net/agenda/export-synchronisation/detailevenement/1390/-/
 la-trace-vosgienne-annule-e?tmpl=component
DESCRIPTION:<!-- #gskiepreuve code généré par le plugin jevents pour GskiEpreuves. Ne p
 as modifier cette ligne, ni tout le contenu suivant  #gskiepreuve --><div c
 lass="gski-evenement_infos"><div class="gski-evenement-nom">LA TRACE VOSGIE
 NNE</div><div class="gski-evenement-report"> <font class="gskiattention">(E
 preuve annulée)</font></div><ul class="gski-evenement-liste-infos"><li>Code
 x évenement FNAT0190</li><li>Station : LA BRESSE</li><li>Organisateur : 144
 69 A.S GERARDMER SKI NORDIQUE</li><li>Courriel : <!-- Cette adresse électro
 nique est protégée contre les robots spammeurs. --><span class="cloaked_ema
 il ep_10a5f91e"><span data-ep-a="chri" data-ep-b="o&#46;f&#114;"><span data
 -ep-b="y&#97;ho" data-ep-a="s&#116;i&#97;"><span data-ep-a="&#110;&#46;&#98
 ;&#97;" data-ep-b="&#116;&#111;&#122;&#64;"></span></span></span></span><sc
 ript>RegularLabs.EmailProtector.unCloak("ep_10a5f91e");</script></li></ul><
 div class="gski-evenement-infos-2"><div class="gski-evenement-info-inscript
 ions"><div class="gski-evenement-inscriptions-periodes">Période d'inscripti
 on à l'evènement du dimanche 26 janvier 2020 à 00:00 au vendredi 31 janvier
  2020 à 12:00 <span class="gski-evenement-inscriptions-impossibles">(Inscri
 ptions impossibles).</span><div class="gski-evenement-inscriptions-types-ti
 tres">Inscriptions ouvertes aux detenteurs des titres Fédéraux valides suiv
 ants : Licenciés Compétiteurs</div></div></div><div class="gski-evenement-e
 preuves"><div class="gski-evenement-epreuves-titres">Epreuves :</div><ul cl
 ass="gski-evenement-epreuves-list"><li><div class="gski-epreuve-date">Le di
 manche 02 février 2020</div><ul class="gski-epreuve-liste-infos"><li>Codex 
 épreuve FNAM0191</li><li>Fond Populaire (depart en ligne)</li><li>Catégorie
 (s) : U20 a M12 (Hommes)</li></ul></li><li><div class="gski-epreuve-date">L
 e dimanche 02 février 2020</div><ul class="gski-epreuve-liste-infos"><li>Co
 dex épreuve FNAF0191</li><li>Fond Populaire (depart en ligne)</li><li>Catég
 orie(s) : U20 a M12 (Dames)</li></ul></li><li><div class="gski-epreuve-date
 ">Le dimanche 02 février 2020</div><ul class="gski-epreuve-liste-infos"><li
 >Codex épreuve FNAF0192</li><li>Fond Populaire (depart en ligne)</li><li>Ca
 tégorie(s) : Senior a Master12 (Dames)</li></ul></li><li><div class="gski-e
 preuve-date">Le dimanche 02 février 2020</div><ul class="gski-epreuve-liste
 -infos"><li>Codex épreuve FNAM0192</li><li>Fond Populaire (depart en ligne)
 </li><li>Catégorie(s) : Senior a Master12 (Hommes)</li></ul></li></ul></div
 ><div class="gskiepreuves-links"><ul><li><a href="/index.php?option=com_jev
 ents&task=icalevent.detail&evid=1385&Itemid=6283">Voir les informations dan
 s l'agenda...</a></li></ul></div></div"><!-- #/gskiepreuve fin du dode géné
 ré par le plugin jevents pour GskiEpreuves. . Ne pas modifier cette ligne, 
 ni tout le contenu précedant.  #/gskiepreuve --> <a href="https://skivosges
 .net/agenda/export-synchronisation/detailevenement/1390/-/la-trace-vosgienn
 e-annule-e?tmpl=component">Cet évènement a été importé depuis :https://skiv
 osges.net/agenda/export-synchronisation/detailevenement/1390/-/la-trace-vos
 gienne-annule-e?tmpl=component</a>
X-ALT-DESC;FMTTYPE=text/html:<!-- #gskiepreuve code généré par le plugin jevents pour GskiEpreuves. Ne p
 as modifier cette ligne, ni tout le contenu suivant  #gskiepreuve --><div c
 lass="gski-evenement_infos"><div class="gski-evenement-nom">LA TRACE VOSGIE
 NNE</div><div class="gski-evenement-report"> <font class="gskiattention">(E
 preuve annulée)</font></div><ul class="gski-evenement-liste-infos"><li>Code
 x évenement FNAT0190</li><li>Station : LA BRESSE</li><li>Organisateur : 144
 69 A.S GERARDMER SKI NORDIQUE</li><li>Courriel : <!-- Cette adresse électro
 nique est protégée contre les robots spammeurs. --><span class="cloaked_ema
 il ep_10a5f91e"><span data-ep-a="chri" data-ep-b="o&#46;f&#114;"><span data
 -ep-b="y&#97;ho" data-ep-a="s&#116;i&#97;"><span data-ep-a="&#110;&#46;&#98
 ;&#97;" data-ep-b="&#116;&#111;&#122;&#64;"></span></span></span></span><sc
 ript>RegularLabs.EmailProtector.unCloak("ep_10a5f91e");</script></li></ul><
 div class="gski-evenement-infos-2"><div class="gski-evenement-info-inscript
 ions"><div class="gski-evenement-inscriptions-periodes">Période d'inscripti
 on à l'evènement du dimanche 26 janvier 2020 à 00:00 au vendredi 31 janvier
  2020 à 12:00 <span class="gski-evenement-inscriptions-impossibles">(Inscri
 ptions impossibles).</span><div class="gski-evenement-inscriptions-types-ti
 tres">Inscriptions ouvertes aux detenteurs des titres Fédéraux valides suiv
 ants : Licenciés Compétiteurs</div></div></div><div class="gski-evenement-e
 preuves"><div class="gski-evenement-epreuves-titres">Epreuves :</div><ul cl
 ass="gski-evenement-epreuves-list"><li><div class="gski-epreuve-date">Le di
 manche 02 février 2020</div><ul class="gski-epreuve-liste-infos"><li>Codex 
 épreuve FNAM0191</li><li>Fond Populaire (depart en ligne)</li><li>Catégorie
 (s) : U20 a M12 (Hommes)</li></ul></li><li><div class="gski-epreuve-date">L
 e dimanche 02 février 2020</div><ul class="gski-epreuve-liste-infos"><li>Co
 dex épreuve FNAF0191</li><li>Fond Populaire (depart en ligne)</li><li>Catég
 orie(s) : U20 a M12 (Dames)</li></ul></li><li><div class="gski-epreuve-date
 ">Le dimanche 02 février 2020</div><ul class="gski-epreuve-liste-infos"><li
 >Codex épreuve FNAF0192</li><li>Fond Populaire (depart en ligne)</li><li>Ca
 tégorie(s) : Senior a Master12 (Dames)</li></ul></li><li><div class="gski-e
 preuve-date">Le dimanche 02 février 2020</div><ul class="gski-epreuve-liste
 -infos"><li>Codex épreuve FNAM0192</li><li>Fond Populaire (depart en ligne)
 </li><li>Catégorie(s) : Senior a Master12 (Hommes)</li></ul></li></ul></div
 ><div class="gskiepreuves-links"><ul><li><a href="https://skivosges.net/ind
 ex.php?option=com_jevents&task=icalevent.detail&evid=1385&Itemid=6283">Voir
  les informations dans l'agenda...</a></li></ul></div></div"><!-- #/gskiepr
 euve fin du dode généré par le plugin jevents pour GskiEpreuves. . Ne pas m
 odifier cette ligne, ni tout le contenu précedant.  #/gskiepreuve --> <a hr
 ef="https://skivosges.net/agenda/export-synchronisation/detailevenement/139
 0/-/la-trace-vosgienne-annule-e?tmpl=component">Cet évènement a été importé
  depuis :https://skivosges.net/agenda/export-synchronisation/detailevenemen
 t/1390/-/la-trace-vosgienne-annule-e?tmpl=component</a>DTSTAMP:20260420T221525
DTSTART;TZID=Europe/Paris;VALUE=DATE:20200202
DTEND;TZID=Europe/Paris;VALUE=DATE:20200203
SEQUENCE:0
TRANSP:OPAQUE
END:VEVENT
END:VCALENDAR