BEGIN:VCALENDAR
VERSION:2.0
PRODID:-//jEvents 2.0 for Joomla//EN
CALSCALE:GREGORIAN
METHOD:PUBLISH
BEGIN:VTIMEZONE
TZID:Europe/Paris
BEGIN:STANDARD
DTSTART:20190206T000000
RDATE:20190331T030000
TZOFFSETFROM:+0200
TZOFFSETTO:+0100
TZNAME:Europe/Paris CET
END:STANDARD
BEGIN:STANDARD
DTSTART:20191027T020000
RDATE:20200329T030000
TZOFFSETFROM:+0200
TZOFFSETTO:+0100
TZNAME:Europe/Paris CET
END:STANDARD
BEGIN:STANDARD
DTSTART:20201025T020000
RDATE:20210328T030000
TZOFFSETFROM:+0200
TZOFFSETTO:+0100
TZNAME:Europe/Paris CET
END:STANDARD
BEGIN:STANDARD
DTSTART:20211031T020000
RDATE:20220327T030000
TZOFFSETFROM:+0200
TZOFFSETTO:+0100
TZNAME:Europe/Paris CET
END:STANDARD
BEGIN:STANDARD
DTSTART:20221030T020000
RDATE:20230326T030000
TZOFFSETFROM:+0200
TZOFFSETTO:+0100
TZNAME:Europe/Paris CET
END:STANDARD
BEGIN:STANDARD
DTSTART:20231029T020000
RDATE:20240331T030000
TZOFFSETFROM:+0200
TZOFFSETTO:+0100
TZNAME:Europe/Paris CET
END:STANDARD
BEGIN:STANDARD
DTSTART:20241027T020000
RDATE:20250330T030000
TZOFFSETFROM:+0200
TZOFFSETTO:+0100
TZNAME:Europe/Paris CET
END:STANDARD
BEGIN:STANDARD
DTSTART:20251026T020000
RDATE:20260329T030000
TZOFFSETFROM:+0200
TZOFFSETTO:+0100
TZNAME:Europe/Paris CET
END:STANDARD
BEGIN:STANDARD
DTSTART:20261025T020000
RDATE:20270328T030000
TZOFFSETFROM:+0200
TZOFFSETTO:+0100
TZNAME:Europe/Paris CET
END:STANDARD
BEGIN:DAYLIGHT
DTSTART:20190331T030000
RDATE:20191027T020000
TZOFFSETFROM:+0100
TZOFFSETTO:+0200
TZNAME:Europe/Paris CEST
END:DAYLIGHT
BEGIN:DAYLIGHT
DTSTART:20200329T030000
RDATE:20201025T020000
TZOFFSETFROM:+0100
TZOFFSETTO:+0200
TZNAME:Europe/Paris CEST
END:DAYLIGHT
BEGIN:DAYLIGHT
DTSTART:20210328T030000
RDATE:20211031T020000
TZOFFSETFROM:+0100
TZOFFSETTO:+0200
TZNAME:Europe/Paris CEST
END:DAYLIGHT
BEGIN:DAYLIGHT
DTSTART:20220327T030000
RDATE:20221030T020000
TZOFFSETFROM:+0100
TZOFFSETTO:+0200
TZNAME:Europe/Paris CEST
END:DAYLIGHT
BEGIN:DAYLIGHT
DTSTART:20230326T030000
RDATE:20231029T020000
TZOFFSETFROM:+0100
TZOFFSETTO:+0200
TZNAME:Europe/Paris CEST
END:DAYLIGHT
BEGIN:DAYLIGHT
DTSTART:20240331T030000
RDATE:20241027T020000
TZOFFSETFROM:+0100
TZOFFSETTO:+0200
TZNAME:Europe/Paris CEST
END:DAYLIGHT
BEGIN:DAYLIGHT
DTSTART:20250330T030000
RDATE:20251026T020000
TZOFFSETFROM:+0100
TZOFFSETTO:+0200
TZNAME:Europe/Paris CEST
END:DAYLIGHT
BEGIN:DAYLIGHT
DTSTART:20260329T030000
RDATE:20261025T020000
TZOFFSETFROM:+0100
TZOFFSETTO:+0200
TZNAME:Europe/Paris CEST
END:DAYLIGHT
END:VTIMEZONE
BEGIN:VEVENT
UID:ec54a5eaddbb2b6d7aafe5e56ce6b3ff
CATEGORIES:Circuit Massif Masters (alpin)
CREATED:20191111T130350
SUMMARY:CMM  Esprit Racing Mémorial Roger Kurtzemann **REPORTE**
URL;VALUE=URI:https://skivosges.net/agenda/export-synchronisation/detailevenement/1392/-/
 cmm-esprit-racing-memorial-roger-kurtzemann-reporte?tmpl=component
DESCRIPTION:<!-- #gskiepreuve code généré par le plugin jevents pour GskiEpreuves. Ne p
 as modifier cette ligne, ni tout le contenu suivant  #gskiepreuve --><div c
 lass="gski-evenement_infos"><div class="gski-evenement-nom">CMM  Esprit Rac
 ing Mémorial Roger Kurtzemann</div><div class="gski-evenement-report"> <fon
 t class="gskiattention">(Epreuve reportée, date à determiner)</font></div><
 ul class="gski-evenement-liste-infos"><li>Codex évenement AMVT0320</li><li>
 Station : MARKSTEIN</li><li>Organisateur : 14145 SKI CLUB KRUTH</li><li><sp
 an class="gski-evenement-obs">Délégué Technique : FUCHS MICHEL</span></li><
 /ul><div class="gski-evenement-infos-2"><div class="gski-evenement-info-ins
 criptions"><div class="gski-evenement-inscriptions-periodes">Période d'insc
 ription à l'evènement du vendredi 31 janvier 2020 à 00:00 au mercredi 05 fé
 vrier 2020 à 12:00 <span class="gski-evenement-inscriptions-impossibles">(I
 nscriptions impossibles).</span><div class="gski-evenement-inscriptions-typ
 es-titres">Inscriptions ouvertes aux detenteurs des titres Fédéraux valides
  suivants : Licenciés Compétiteurs</div></div></div><div class="gski-evenem
 ent-epreuves"><div class="gski-evenement-epreuves-titres">Epreuves :</div><
 ul class="gski-evenement-epreuves-list"><li><div class="gski-epreuve-date">
 Le vendredi 07 février 2020</div><ul class="gski-epreuve-liste-infos"><li>C
 odex épreuve AMVM0321</li><li>Slalom</li><li>Catégorie(s) : Tous les Master
 s+U21+U30 Hommes (Hommes)</li></ul></li><li><div class="gski-epreuve-date">
 Le vendredi 07 février 2020</div><ul class="gski-epreuve-liste-infos"><li>C
 odex épreuve AMVF0321</li><li>Slalom</li><li>Catégorie(s) : Tous les Master
 s+U21+U30 Dames (Dames)</li></ul></li></ul></div><div class="gskiepreuves-l
 inks"><ul><li><a href="/index.php?option=com_jevents&task=icalevent.detail&
 evid=1387&Itemid=6283">Voir les informations dans l'agenda...</a></li></ul>
 </div></div"><!-- #/gskiepreuve fin du dode généré par le plugin jevents po
 ur GskiEpreuves. . Ne pas modifier cette ligne, ni tout le contenu précedan
 t.  #/gskiepreuve --> <a href="https://skivosges.net/agenda/export-synchron
 isation/detailevenement/1392/-/cmm-esprit-racing-memorial-roger-kurtzemann-
 reporte?tmpl=component">Cet évènement a été importé depuis :https://skivosg
 es.net/agenda/export-synchronisation/detailevenement/1392/-/cmm-esprit-raci
 ng-memorial-roger-kurtzemann-reporte?tmpl=component</a>
X-ALT-DESC;FMTTYPE=text/html:<!-- #gskiepreuve code généré par le plugin jevents pour GskiEpreuves. Ne p
 as modifier cette ligne, ni tout le contenu suivant  #gskiepreuve --><div c
 lass="gski-evenement_infos"><div class="gski-evenement-nom">CMM  Esprit Rac
 ing Mémorial Roger Kurtzemann</div><div class="gski-evenement-report"> <fon
 t class="gskiattention">(Epreuve reportée, date à determiner)</font></div><
 ul class="gski-evenement-liste-infos"><li>Codex évenement AMVT0320</li><li>
 Station : MARKSTEIN</li><li>Organisateur : 14145 SKI CLUB KRUTH</li><li><sp
 an class="gski-evenement-obs">Délégué Technique : FUCHS MICHEL</span></li><
 /ul><div class="gski-evenement-infos-2"><div class="gski-evenement-info-ins
 criptions"><div class="gski-evenement-inscriptions-periodes">Période d'insc
 ription à l'evènement du vendredi 31 janvier 2020 à 00:00 au mercredi 05 fé
 vrier 2020 à 12:00 <span class="gski-evenement-inscriptions-impossibles">(I
 nscriptions impossibles).</span><div class="gski-evenement-inscriptions-typ
 es-titres">Inscriptions ouvertes aux detenteurs des titres Fédéraux valides
  suivants : Licenciés Compétiteurs</div></div></div><div class="gski-evenem
 ent-epreuves"><div class="gski-evenement-epreuves-titres">Epreuves :</div><
 ul class="gski-evenement-epreuves-list"><li><div class="gski-epreuve-date">
 Le vendredi 07 février 2020</div><ul class="gski-epreuve-liste-infos"><li>C
 odex épreuve AMVM0321</li><li>Slalom</li><li>Catégorie(s) : Tous les Master
 s+U21+U30 Hommes (Hommes)</li></ul></li><li><div class="gski-epreuve-date">
 Le vendredi 07 février 2020</div><ul class="gski-epreuve-liste-infos"><li>C
 odex épreuve AMVF0321</li><li>Slalom</li><li>Catégorie(s) : Tous les Master
 s+U21+U30 Dames (Dames)</li></ul></li></ul></div><div class="gskiepreuves-l
 inks"><ul><li><a href="https://skivosges.net/index.php?option=com_jevents&t
 ask=icalevent.detail&evid=1387&Itemid=6283">Voir les informations dans l'ag
 enda...</a></li></ul></div></div"><!-- #/gskiepreuve fin du dode généré par
  le plugin jevents pour GskiEpreuves. . Ne pas modifier cette ligne, ni tou
 t le contenu précedant.  #/gskiepreuve --> <a href="https://skivosges.net/a
 genda/export-synchronisation/detailevenement/1392/-/cmm-esprit-racing-memor
 ial-roger-kurtzemann-reporte?tmpl=component">Cet évènement a été importé de
 puis :https://skivosges.net/agenda/export-synchronisation/detailevenement/1
 392/-/cmm-esprit-racing-memorial-roger-kurtzemann-reporte?tmpl=component</a
 >DTSTAMP:20260421T051303
DTSTART;TZID=Europe/Paris;VALUE=DATE:20200207
DTEND;TZID=Europe/Paris;VALUE=DATE:20200208
SEQUENCE:0
TRANSP:OPAQUE
END:VEVENT
END:VCALENDAR