BEGIN:VCALENDAR
VERSION:2.0
PRODID:-//jEvents 2.0 for Joomla//EN
CALSCALE:GREGORIAN
METHOD:PUBLISH
BEGIN:VTIMEZONE
TZID:Europe/Paris
BEGIN:STANDARD
DTSTART:20190228T000000
RDATE:20190331T030000
TZOFFSETFROM:+0200
TZOFFSETTO:+0100
TZNAME:Europe/Paris CET
END:STANDARD
BEGIN:STANDARD
DTSTART:20191027T020000
RDATE:20200329T030000
TZOFFSETFROM:+0200
TZOFFSETTO:+0100
TZNAME:Europe/Paris CET
END:STANDARD
BEGIN:STANDARD
DTSTART:20201025T020000
RDATE:20210328T030000
TZOFFSETFROM:+0200
TZOFFSETTO:+0100
TZNAME:Europe/Paris CET
END:STANDARD
BEGIN:STANDARD
DTSTART:20211031T020000
RDATE:20220327T030000
TZOFFSETFROM:+0200
TZOFFSETTO:+0100
TZNAME:Europe/Paris CET
END:STANDARD
BEGIN:STANDARD
DTSTART:20221030T020000
RDATE:20230326T030000
TZOFFSETFROM:+0200
TZOFFSETTO:+0100
TZNAME:Europe/Paris CET
END:STANDARD
BEGIN:STANDARD
DTSTART:20231029T020000
RDATE:20240331T030000
TZOFFSETFROM:+0200
TZOFFSETTO:+0100
TZNAME:Europe/Paris CET
END:STANDARD
BEGIN:STANDARD
DTSTART:20241027T020000
RDATE:20250330T030000
TZOFFSETFROM:+0200
TZOFFSETTO:+0100
TZNAME:Europe/Paris CET
END:STANDARD
BEGIN:STANDARD
DTSTART:20251026T020000
RDATE:20260329T030000
TZOFFSETFROM:+0200
TZOFFSETTO:+0100
TZNAME:Europe/Paris CET
END:STANDARD
BEGIN:STANDARD
DTSTART:20261025T020000
RDATE:20270328T030000
TZOFFSETFROM:+0200
TZOFFSETTO:+0100
TZNAME:Europe/Paris CET
END:STANDARD
BEGIN:DAYLIGHT
DTSTART:20190331T030000
RDATE:20191027T020000
TZOFFSETFROM:+0100
TZOFFSETTO:+0200
TZNAME:Europe/Paris CEST
END:DAYLIGHT
BEGIN:DAYLIGHT
DTSTART:20200329T030000
RDATE:20201025T020000
TZOFFSETFROM:+0100
TZOFFSETTO:+0200
TZNAME:Europe/Paris CEST
END:DAYLIGHT
BEGIN:DAYLIGHT
DTSTART:20210328T030000
RDATE:20211031T020000
TZOFFSETFROM:+0100
TZOFFSETTO:+0200
TZNAME:Europe/Paris CEST
END:DAYLIGHT
BEGIN:DAYLIGHT
DTSTART:20220327T030000
RDATE:20221030T020000
TZOFFSETFROM:+0100
TZOFFSETTO:+0200
TZNAME:Europe/Paris CEST
END:DAYLIGHT
BEGIN:DAYLIGHT
DTSTART:20230326T030000
RDATE:20231029T020000
TZOFFSETFROM:+0100
TZOFFSETTO:+0200
TZNAME:Europe/Paris CEST
END:DAYLIGHT
BEGIN:DAYLIGHT
DTSTART:20240331T030000
RDATE:20241027T020000
TZOFFSETFROM:+0100
TZOFFSETTO:+0200
TZNAME:Europe/Paris CEST
END:DAYLIGHT
BEGIN:DAYLIGHT
DTSTART:20250330T030000
RDATE:20251026T020000
TZOFFSETFROM:+0100
TZOFFSETTO:+0200
TZNAME:Europe/Paris CEST
END:DAYLIGHT
BEGIN:DAYLIGHT
DTSTART:20260329T030000
RDATE:20261025T020000
TZOFFSETFROM:+0100
TZOFFSETTO:+0200
TZNAME:Europe/Paris CEST
END:DAYLIGHT
END:VTIMEZONE
BEGIN:VEVENT
UID:bcec1e56d20a2945f6264b269d40619e
CATEGORIES:Compétition Biathlon
CREATED:20191111T130350
SUMMARY:BIATHLON PROMO PRE-CLUBS
URL;VALUE=URI:https://skivosges.net/agenda/export-synchronisation/detailevenement/1412/-/
 biathlon-promo-pre-clubs?tmpl=component
DESCRIPTION:<!-- #gskiepreuve code généré par le plugin jevents pour GskiEpreuves. Ne p
 as modifier cette ligne, ni tout le contenu suivant  #gskiepreuve --><div c
 lass="gski-evenement_infos"><div class="gski-evenement-nom">BIATHLON PROMO 
 PRE-CLUBS</div><div class="gski-evenement-report"></div><ul class="gski-eve
 nement-liste-infos"><li>Codex évenement BMVT0060</li><li>Lieu : Lac Blanc -
 Blancrupt</li><li>Station : LAC BLANC</li><li>Piste : Nordic parc</li><li>O
 rganisateur : 14379 LAC BLANC SKI NORDIQUE CV ORBEY</li><li>Courriel : <!--
  Cette adresse électronique est protégée contre les robots spammeurs. --><s
 pan class="cloaked_email ep_4aa290d9"><span data-ep-a="re&#109;y" data-ep-b
 ="m"><span data-ep-a="ala&#105;" data-ep-b="l&#46;&#99;&#111;"><span data-e
 p-b="&#103;&#109;&#97;i" data-ep-a="&#110;&#56;8&#64;"></span></span></span
 ></span><script>RegularLabs.EmailProtector.unCloak("ep_4aa290d9");</script>
 </li><li><span class="gski-evenement-obs">Délégué Technique : LEJEUNE DAMIE
 N</span></li></ul><div class="gski-evenement-infos-2"><div class="gski-even
 ement-info-inscriptions"><div class="gski-evenement-inscriptions-periodes">
 Période d'inscription à l'evènement du samedi 22 février 2020 à 00:00 au ve
 ndredi 28 février 2020 à 12:00 <span class="gski-evenement-inscriptions-imp
 ossibles">(Inscriptions impossibles).</span><div class="gski-evenement-insc
 riptions-types-titres">Inscriptions ouvertes aux detenteurs des titres Fédé
 raux valides suivants : Licenciés Compétiteurs et Titres Loisirs et Dirigea
 nts</div></div></div><div class="gski-evenement-epreuves"><div class="gski-
 evenement-epreuves-titres">Epreuves :</div><ul class="gski-evenement-epreuv
 es-list"><li><div class="gski-epreuve-date">Le samedi 29 février 2020 à 11:
 50</div><ul class="gski-epreuve-liste-infos"><li>Codex épreuve BMVF0061</li
 ><li>Individuel</li><li>Catégorie(s) : U11 (Filles)</li></ul></li><li><div 
 class="gski-epreuve-date">Le samedi 29 février 2020 à 11:50</div><ul class=
 "gski-epreuve-liste-infos"><li>Codex épreuve BMVM0061</li><li>Individuel</l
 i><li>Catégorie(s) : U11 (Garçons)</li></ul></li></ul></div><div class="gsk
 iepreuves-links"><ul><li><a href="/index.php?option=com_jevents&task=icalev
 ent.detail&evid=1407&Itemid=6283">Voir les informations dans l'agenda...</a
 ></li><li><a href="/index.php?option=com_gskiepreuves&view=afficheresultats
 &format_option=tous&filter[search]=BMVT0060&filter[date_debut]=29-02-2020&f
 ilter[date_fin]=29-02-2020&code_activite=BIATH&Itemid=6283">Vers les résult
 ats...</a></li></ul></div></div"><!-- #/gskiepreuve fin du dode généré par 
 le plugin jevents pour GskiEpreuves. . Ne pas modifier cette ligne, ni tout
  le contenu précedant.  #/gskiepreuve --> <a href="https://skivosges.net/ag
 enda/export-synchronisation/detailevenement/1412/-/biathlon-promo-pre-clubs
 ?tmpl=component">Cet évènement a été importé depuis :https://skivosges.net/
 agenda/export-synchronisation/detailevenement/1412/-/biathlon-promo-pre-clu
 bs?tmpl=component</a>
X-ALT-DESC;FMTTYPE=text/html:<!-- #gskiepreuve code généré par le plugin jevents pour GskiEpreuves. Ne p
 as modifier cette ligne, ni tout le contenu suivant  #gskiepreuve --><div c
 lass="gski-evenement_infos"><div class="gski-evenement-nom">BIATHLON PROMO 
 PRE-CLUBS</div><div class="gski-evenement-report"></div><ul class="gski-eve
 nement-liste-infos"><li>Codex évenement BMVT0060</li><li>Lieu : Lac Blanc -
 Blancrupt</li><li>Station : LAC BLANC</li><li>Piste : Nordic parc</li><li>O
 rganisateur : 14379 LAC BLANC SKI NORDIQUE CV ORBEY</li><li>Courriel : <!--
  Cette adresse électronique est protégée contre les robots spammeurs. --><s
 pan class="cloaked_email ep_4aa290d9"><span data-ep-a="re&#109;y" data-ep-b
 ="m"><span data-ep-a="ala&#105;" data-ep-b="l&#46;&#99;&#111;"><span data-e
 p-b="&#103;&#109;&#97;i" data-ep-a="&#110;&#56;8&#64;"></span></span></span
 ></span><script>RegularLabs.EmailProtector.unCloak("ep_4aa290d9");</script>
 </li><li><span class="gski-evenement-obs">Délégué Technique : LEJEUNE DAMIE
 N</span></li></ul><div class="gski-evenement-infos-2"><div class="gski-even
 ement-info-inscriptions"><div class="gski-evenement-inscriptions-periodes">
 Période d'inscription à l'evènement du samedi 22 février 2020 à 00:00 au ve
 ndredi 28 février 2020 à 12:00 <span class="gski-evenement-inscriptions-imp
 ossibles">(Inscriptions impossibles).</span><div class="gski-evenement-insc
 riptions-types-titres">Inscriptions ouvertes aux detenteurs des titres Fédé
 raux valides suivants : Licenciés Compétiteurs et Titres Loisirs et Dirigea
 nts</div></div></div><div class="gski-evenement-epreuves"><div class="gski-
 evenement-epreuves-titres">Epreuves :</div><ul class="gski-evenement-epreuv
 es-list"><li><div class="gski-epreuve-date">Le samedi 29 février 2020 à 11:
 50</div><ul class="gski-epreuve-liste-infos"><li>Codex épreuve BMVF0061</li
 ><li>Individuel</li><li>Catégorie(s) : U11 (Filles)</li></ul></li><li><div 
 class="gski-epreuve-date">Le samedi 29 février 2020 à 11:50</div><ul class=
 "gski-epreuve-liste-infos"><li>Codex épreuve BMVM0061</li><li>Individuel</l
 i><li>Catégorie(s) : U11 (Garçons)</li></ul></li></ul></div><div class="gsk
 iepreuves-links"><ul><li><a href="https://skivosges.net/index.php?option=co
 m_jevents&task=icalevent.detail&evid=1407&Itemid=6283">Voir les information
 s dans l'agenda...</a></li><li><a href="https://skivosges.net/index.php?opt
 ion=com_gskiepreuves&view=afficheresultats&format_option=tous&filter[search
 ]=BMVT0060&filter[date_debut]=29-02-2020&filter[date_fin]=29-02-2020&code_a
 ctivite=BIATH&Itemid=6283">Vers les résultats...</a></li></ul></div></div">
 <!-- #/gskiepreuve fin du dode généré par le plugin jevents pour GskiEpreuv
 es. . Ne pas modifier cette ligne, ni tout le contenu précedant.  #/gskiepr
 euve --> <a href="https://skivosges.net/agenda/export-synchronisation/detai
 levenement/1412/-/biathlon-promo-pre-clubs?tmpl=component">Cet évènement a 
 été importé depuis :https://skivosges.net/agenda/export-synchronisation/det
 ailevenement/1412/-/biathlon-promo-pre-clubs?tmpl=component</a>DTSTAMP:20260420T112559
DTSTART;TZID=Europe/Paris;VALUE=DATE:20200229
DTEND;TZID=Europe/Paris;VALUE=DATE:20200301
SEQUENCE:0
TRANSP:OPAQUE
END:VEVENT
END:VCALENDAR