BEGIN:VCALENDAR
VERSION:2.0
PRODID:-//jEvents 2.0 for Joomla//EN
CALSCALE:GREGORIAN
METHOD:PUBLISH
BEGIN:VTIMEZONE
TZID:Europe/Paris
BEGIN:STANDARD
DTSTART:20190228T000000
RDATE:20190331T030000
TZOFFSETFROM:+0200
TZOFFSETTO:+0100
TZNAME:Europe/Paris CET
END:STANDARD
BEGIN:STANDARD
DTSTART:20191027T020000
RDATE:20200329T030000
TZOFFSETFROM:+0200
TZOFFSETTO:+0100
TZNAME:Europe/Paris CET
END:STANDARD
BEGIN:STANDARD
DTSTART:20201025T020000
RDATE:20210328T030000
TZOFFSETFROM:+0200
TZOFFSETTO:+0100
TZNAME:Europe/Paris CET
END:STANDARD
BEGIN:STANDARD
DTSTART:20211031T020000
RDATE:20220327T030000
TZOFFSETFROM:+0200
TZOFFSETTO:+0100
TZNAME:Europe/Paris CET
END:STANDARD
BEGIN:STANDARD
DTSTART:20221030T020000
RDATE:20230326T030000
TZOFFSETFROM:+0200
TZOFFSETTO:+0100
TZNAME:Europe/Paris CET
END:STANDARD
BEGIN:STANDARD
DTSTART:20231029T020000
RDATE:20240331T030000
TZOFFSETFROM:+0200
TZOFFSETTO:+0100
TZNAME:Europe/Paris CET
END:STANDARD
BEGIN:STANDARD
DTSTART:20241027T020000
RDATE:20250330T030000
TZOFFSETFROM:+0200
TZOFFSETTO:+0100
TZNAME:Europe/Paris CET
END:STANDARD
BEGIN:STANDARD
DTSTART:20251026T020000
RDATE:20260329T030000
TZOFFSETFROM:+0200
TZOFFSETTO:+0100
TZNAME:Europe/Paris CET
END:STANDARD
BEGIN:STANDARD
DTSTART:20261025T020000
RDATE:20270328T030000
TZOFFSETFROM:+0200
TZOFFSETTO:+0100
TZNAME:Europe/Paris CET
END:STANDARD
BEGIN:DAYLIGHT
DTSTART:20190331T030000
RDATE:20191027T020000
TZOFFSETFROM:+0100
TZOFFSETTO:+0200
TZNAME:Europe/Paris CEST
END:DAYLIGHT
BEGIN:DAYLIGHT
DTSTART:20200329T030000
RDATE:20201025T020000
TZOFFSETFROM:+0100
TZOFFSETTO:+0200
TZNAME:Europe/Paris CEST
END:DAYLIGHT
BEGIN:DAYLIGHT
DTSTART:20210328T030000
RDATE:20211031T020000
TZOFFSETFROM:+0100
TZOFFSETTO:+0200
TZNAME:Europe/Paris CEST
END:DAYLIGHT
BEGIN:DAYLIGHT
DTSTART:20220327T030000
RDATE:20221030T020000
TZOFFSETFROM:+0100
TZOFFSETTO:+0200
TZNAME:Europe/Paris CEST
END:DAYLIGHT
BEGIN:DAYLIGHT
DTSTART:20230326T030000
RDATE:20231029T020000
TZOFFSETFROM:+0100
TZOFFSETTO:+0200
TZNAME:Europe/Paris CEST
END:DAYLIGHT
BEGIN:DAYLIGHT
DTSTART:20240331T030000
RDATE:20241027T020000
TZOFFSETFROM:+0100
TZOFFSETTO:+0200
TZNAME:Europe/Paris CEST
END:DAYLIGHT
BEGIN:DAYLIGHT
DTSTART:20250330T030000
RDATE:20251026T020000
TZOFFSETFROM:+0100
TZOFFSETTO:+0200
TZNAME:Europe/Paris CEST
END:DAYLIGHT
BEGIN:DAYLIGHT
DTSTART:20260329T030000
RDATE:20261025T020000
TZOFFSETFROM:+0100
TZOFFSETTO:+0200
TZNAME:Europe/Paris CEST
END:DAYLIGHT
END:VTIMEZONE
BEGIN:VEVENT
UID:d6280df071ba7f1c7f6eb2ece94de2eb
CATEGORIES:Compétition Biathlon
CREATED:20191111T130350
SUMMARY:BIATHLON REGIONAL 10m + Courses OPEN 10m
URL;VALUE=URI:https://skivosges.net/agenda/export-synchronisation/detailevenement/1413/-/
 biathlon-regional-10m-courses-open-10m?tmpl=component
DESCRIPTION:<!-- #gskiepreuve code généré par le plugin jevents pour GskiEpreuves. Ne p
 as modifier cette ligne, ni tout le contenu suivant  #gskiepreuve --><div c
 lass="gski-evenement_infos"><div class="gski-evenement-nom">BIATHLON REGION
 AL 10m + Courses OPEN 10m</div><div class="gski-evenement-report"></div><ul
  class="gski-evenement-liste-infos"><li>Codex évenement BMVT0070</li><li>Li
 eu : Blancrupt</li><li>Station : LAC BLANC</li><li>Piste : Nordic Parc</li>
 <li>Organisateur : 14379 LAC BLANC SKI NORDIQUE CV ORBEY</li><li>Courriel :
  <!-- Cette adresse électronique est protégée contre les robots spammeurs. 
 --><span class="cloaked_email ep_eb41b8e7"><span data-ep-b="&#109;" data-ep
 -a="&#114;&#101;m&#121;"><span data-ep-b="l&#46;co" data-ep-a="a&#108;&#97;
 &#105;"><span data-ep-b="&#103;&#109;&#97;i" data-ep-a="&#110;8&#56;&#64;">
 </span></span></span></span><script>RegularLabs.EmailProtector.unCloak("ep_
 eb41b8e7");</script></li><li><span class="gski-evenement-obs">Délégué Techn
 ique : LEJEUNE DAMIEN</span></li></ul><div class="gski-evenement-infos-2"><
 div class="gski-evenement-info-inscriptions"><div class="gski-evenement-ins
 criptions-periodes">Période d'inscription à l'evènement du samedi 22 févrie
 r 2020 à 00:00 au vendredi 28 février 2020 à 12:00 <span class="gski-evenem
 ent-inscriptions-impossibles">(Inscriptions impossibles).</span><div class=
 "gski-evenement-inscriptions-types-titres">Inscriptions ouvertes aux detent
 eurs des titres Fédéraux valides suivants : Licenciés Compétiteurs et Titre
 s Loisirs et Dirigeants</div></div></div><div class="gski-evenement-epreuve
 s"><div class="gski-evenement-epreuves-titres">Epreuves :</div><ul class="g
 ski-evenement-epreuves-list"><li><div class="gski-epreuve-date">Le samedi 2
 9 février 2020 à 11:50</div><ul class="gski-epreuve-liste-infos"><li>Codex 
 épreuve BMVF0071</li><li>Individuel</li><li>Catégorie(s) : U13 (Filles)</li
 ></ul></li><li><div class="gski-epreuve-date">Le samedi 29 février 2020 à 1
 1:50</div><ul class="gski-epreuve-liste-infos"><li>Codex épreuve BMVM0071</
 li><li>Individuel</li><li>Catégorie(s) : U13 (Garçons)</li></ul></li><li><d
 iv class="gski-epreuve-date">Le samedi 29 février 2020 à 11:50</div><ul cla
 ss="gski-epreuve-liste-infos"><li>Codex épreuve BMVF0072</li><li>Individuel
 </li><li>Catégorie(s) : U15/U17 (Filles)</li></ul></li><li><div class="gski
 -epreuve-date">Le samedi 29 février 2020 à 11:50</div><ul class="gski-epreu
 ve-liste-infos"><li>Codex épreuve BMVM0072</li><li>Individuel</li><li>Catég
 orie(s) : U15/U17 (Garçons)</li></ul></li><li><div class="gski-epreuve-date
 ">Le samedi 29 février 2020 à 11:50</div><ul class="gski-epreuve-liste-info
 s"><li>Codex épreuve BMVF0073</li><li>Individuel</li><li>Catégorie(s) : U19
  a SEN (Dames)</li></ul></li><li><div class="gski-epreuve-date">Le samedi 2
 9 février 2020 à 11:50</div><ul class="gski-epreuve-liste-infos"><li>Codex 
 épreuve BMVM0073</li><li>Individuel</li><li>Catégorie(s) : U19 a SEN (Homme
 s)</li></ul></li></ul></div><div class="gskiepreuves-links"><ul><li><a href
 ="/index.php?option=com_jevents&task=icalevent.detail&evid=1408&Itemid=6283
 ">Voir les informations dans l'agenda...</a></li><li><a href="/index.php?op
 tion=com_gskiepreuves&view=afficheresultats&format_option=tous&filter[searc
 h]=BMVT0070&filter[date_debut]=29-02-2020&filter[date_fin]=29-02-2020&code_
 activite=BIATH&Itemid=6283">Vers les résultats...</a></li></ul></div></div"
 ><!-- #/gskiepreuve fin du dode généré par le plugin jevents pour GskiEpreu
 ves. . Ne pas modifier cette ligne, ni tout le contenu précedant.  #/gskiep
 reuve --> <a href="https://skivosges.net/agenda/export-synchronisation/deta
 ilevenement/1413/-/biathlon-regional-10m-courses-open-10m?tmpl=component">C
 et évènement a été importé depuis :https://skivosges.net/agenda/export-sync
 hronisation/detailevenement/1413/-/biathlon-regional-10m-courses-open-10m?t
 mpl=component</a>
X-ALT-DESC;FMTTYPE=text/html:<!-- #gskiepreuve code généré par le plugin jevents pour GskiEpreuves. Ne p
 as modifier cette ligne, ni tout le contenu suivant  #gskiepreuve --><div c
 lass="gski-evenement_infos"><div class="gski-evenement-nom">BIATHLON REGION
 AL 10m + Courses OPEN 10m</div><div class="gski-evenement-report"></div><ul
  class="gski-evenement-liste-infos"><li>Codex évenement BMVT0070</li><li>Li
 eu : Blancrupt</li><li>Station : LAC BLANC</li><li>Piste : Nordic Parc</li>
 <li>Organisateur : 14379 LAC BLANC SKI NORDIQUE CV ORBEY</li><li>Courriel :
  <!-- Cette adresse électronique est protégée contre les robots spammeurs. 
 --><span class="cloaked_email ep_eb41b8e7"><span data-ep-b="&#109;" data-ep
 -a="&#114;&#101;m&#121;"><span data-ep-b="l&#46;co" data-ep-a="a&#108;&#97;
 &#105;"><span data-ep-b="&#103;&#109;&#97;i" data-ep-a="&#110;8&#56;&#64;">
 </span></span></span></span><script>RegularLabs.EmailProtector.unCloak("ep_
 eb41b8e7");</script></li><li><span class="gski-evenement-obs">Délégué Techn
 ique : LEJEUNE DAMIEN</span></li></ul><div class="gski-evenement-infos-2"><
 div class="gski-evenement-info-inscriptions"><div class="gski-evenement-ins
 criptions-periodes">Période d'inscription à l'evènement du samedi 22 févrie
 r 2020 à 00:00 au vendredi 28 février 2020 à 12:00 <span class="gski-evenem
 ent-inscriptions-impossibles">(Inscriptions impossibles).</span><div class=
 "gski-evenement-inscriptions-types-titres">Inscriptions ouvertes aux detent
 eurs des titres Fédéraux valides suivants : Licenciés Compétiteurs et Titre
 s Loisirs et Dirigeants</div></div></div><div class="gski-evenement-epreuve
 s"><div class="gski-evenement-epreuves-titres">Epreuves :</div><ul class="g
 ski-evenement-epreuves-list"><li><div class="gski-epreuve-date">Le samedi 2
 9 février 2020 à 11:50</div><ul class="gski-epreuve-liste-infos"><li>Codex 
 épreuve BMVF0071</li><li>Individuel</li><li>Catégorie(s) : U13 (Filles)</li
 ></ul></li><li><div class="gski-epreuve-date">Le samedi 29 février 2020 à 1
 1:50</div><ul class="gski-epreuve-liste-infos"><li>Codex épreuve BMVM0071</
 li><li>Individuel</li><li>Catégorie(s) : U13 (Garçons)</li></ul></li><li><d
 iv class="gski-epreuve-date">Le samedi 29 février 2020 à 11:50</div><ul cla
 ss="gski-epreuve-liste-infos"><li>Codex épreuve BMVF0072</li><li>Individuel
 </li><li>Catégorie(s) : U15/U17 (Filles)</li></ul></li><li><div class="gski
 -epreuve-date">Le samedi 29 février 2020 à 11:50</div><ul class="gski-epreu
 ve-liste-infos"><li>Codex épreuve BMVM0072</li><li>Individuel</li><li>Catég
 orie(s) : U15/U17 (Garçons)</li></ul></li><li><div class="gski-epreuve-date
 ">Le samedi 29 février 2020 à 11:50</div><ul class="gski-epreuve-liste-info
 s"><li>Codex épreuve BMVF0073</li><li>Individuel</li><li>Catégorie(s) : U19
  a SEN (Dames)</li></ul></li><li><div class="gski-epreuve-date">Le samedi 2
 9 février 2020 à 11:50</div><ul class="gski-epreuve-liste-infos"><li>Codex 
 épreuve BMVM0073</li><li>Individuel</li><li>Catégorie(s) : U19 a SEN (Homme
 s)</li></ul></li></ul></div><div class="gskiepreuves-links"><ul><li><a href
 ="https://skivosges.net/index.php?option=com_jevents&task=icalevent.detail&
 evid=1408&Itemid=6283">Voir les informations dans l'agenda...</a></li><li><
 a href="https://skivosges.net/index.php?option=com_gskiepreuves&view=affich
 eresultats&format_option=tous&filter[search]=BMVT0070&filter[date_debut]=29
 -02-2020&filter[date_fin]=29-02-2020&code_activite=BIATH&Itemid=6283">Vers 
 les résultats...</a></li></ul></div></div"><!-- #/gskiepreuve fin du dode g
 énéré par le plugin jevents pour GskiEpreuves. . Ne pas modifier cette lign
 e, ni tout le contenu précedant.  #/gskiepreuve --> <a href="https://skivos
 ges.net/agenda/export-synchronisation/detailevenement/1413/-/biathlon-regio
 nal-10m-courses-open-10m?tmpl=component">Cet évènement a été importé depuis
  :https://skivosges.net/agenda/export-synchronisation/detailevenement/1413/
 -/biathlon-regional-10m-courses-open-10m?tmpl=component</a>DTSTAMP:20260420T112601
DTSTART;TZID=Europe/Paris;VALUE=DATE:20200229
DTEND;TZID=Europe/Paris;VALUE=DATE:20200301
SEQUENCE:0
TRANSP:OPAQUE
END:VEVENT
END:VCALENDAR