BEGIN:VCALENDAR
VERSION:2.0
PRODID:-//jEvents 2.0 for Joomla//EN
CALSCALE:GREGORIAN
METHOD:PUBLISH
BEGIN:VTIMEZONE
TZID:Europe/Paris
BEGIN:STANDARD
DTSTART:20190301T000000
RDATE:20190331T030000
TZOFFSETFROM:+0200
TZOFFSETTO:+0100
TZNAME:Europe/Paris CET
END:STANDARD
BEGIN:STANDARD
DTSTART:20191027T020000
RDATE:20200329T030000
TZOFFSETFROM:+0200
TZOFFSETTO:+0100
TZNAME:Europe/Paris CET
END:STANDARD
BEGIN:STANDARD
DTSTART:20201025T020000
RDATE:20210328T030000
TZOFFSETFROM:+0200
TZOFFSETTO:+0100
TZNAME:Europe/Paris CET
END:STANDARD
BEGIN:STANDARD
DTSTART:20211031T020000
RDATE:20220327T030000
TZOFFSETFROM:+0200
TZOFFSETTO:+0100
TZNAME:Europe/Paris CET
END:STANDARD
BEGIN:STANDARD
DTSTART:20221030T020000
RDATE:20230326T030000
TZOFFSETFROM:+0200
TZOFFSETTO:+0100
TZNAME:Europe/Paris CET
END:STANDARD
BEGIN:STANDARD
DTSTART:20231029T020000
RDATE:20240331T030000
TZOFFSETFROM:+0200
TZOFFSETTO:+0100
TZNAME:Europe/Paris CET
END:STANDARD
BEGIN:STANDARD
DTSTART:20241027T020000
RDATE:20250330T030000
TZOFFSETFROM:+0200
TZOFFSETTO:+0100
TZNAME:Europe/Paris CET
END:STANDARD
BEGIN:STANDARD
DTSTART:20251026T020000
RDATE:20260329T030000
TZOFFSETFROM:+0200
TZOFFSETTO:+0100
TZNAME:Europe/Paris CET
END:STANDARD
BEGIN:STANDARD
DTSTART:20261025T020000
RDATE:20270328T030000
TZOFFSETFROM:+0200
TZOFFSETTO:+0100
TZNAME:Europe/Paris CET
END:STANDARD
BEGIN:DAYLIGHT
DTSTART:20190331T030000
RDATE:20191027T020000
TZOFFSETFROM:+0100
TZOFFSETTO:+0200
TZNAME:Europe/Paris CEST
END:DAYLIGHT
BEGIN:DAYLIGHT
DTSTART:20200329T030000
RDATE:20201025T020000
TZOFFSETFROM:+0100
TZOFFSETTO:+0200
TZNAME:Europe/Paris CEST
END:DAYLIGHT
BEGIN:DAYLIGHT
DTSTART:20210328T030000
RDATE:20211031T020000
TZOFFSETFROM:+0100
TZOFFSETTO:+0200
TZNAME:Europe/Paris CEST
END:DAYLIGHT
BEGIN:DAYLIGHT
DTSTART:20220327T030000
RDATE:20221030T020000
TZOFFSETFROM:+0100
TZOFFSETTO:+0200
TZNAME:Europe/Paris CEST
END:DAYLIGHT
BEGIN:DAYLIGHT
DTSTART:20230326T030000
RDATE:20231029T020000
TZOFFSETFROM:+0100
TZOFFSETTO:+0200
TZNAME:Europe/Paris CEST
END:DAYLIGHT
BEGIN:DAYLIGHT
DTSTART:20240331T030000
RDATE:20241027T020000
TZOFFSETFROM:+0100
TZOFFSETTO:+0200
TZNAME:Europe/Paris CEST
END:DAYLIGHT
BEGIN:DAYLIGHT
DTSTART:20250330T030000
RDATE:20251026T020000
TZOFFSETFROM:+0100
TZOFFSETTO:+0200
TZNAME:Europe/Paris CEST
END:DAYLIGHT
BEGIN:DAYLIGHT
DTSTART:20260329T030000
RDATE:20261025T020000
TZOFFSETFROM:+0100
TZOFFSETTO:+0200
TZNAME:Europe/Paris CEST
END:DAYLIGHT
END:VTIMEZONE
BEGIN:VEVENT
UID:e29e9d5366671bdf1fe61750ef99bcb3
CATEGORIES:Compétition Biathlon
CREATED:20191111T130350
SUMMARY:BIATHLON REGIONAL 50m CREDIT MUTUEL / TGL /SALOMON
URL;VALUE=URI:https://skivosges.net/agenda/export-synchronisation/detailevenement/1420/-/
 biathlon-regional-50m-credit-mutuel-tgl-salomon?tmpl=component
DESCRIPTION:BIATHLON REGIONAL 50m CREDIT MUTUEL / TGL /SALOMON\n - Codex évenement BMVT
 0080\n - Station : LA BRESSE LISPACH\n - Organisateur : 14486 BASSE SUR LE 
 RUPT SKI NORDIQUE\n - Courriel : RegularLabs.EmailProtector.unCloak("ep_8b8
 c0c7c");\n - Délégué Technique : HABRAN THIERRYPériode d'inscription à l'ev
 ènement du dimanche 23 février 2020 à 00:00 au jeudi 27 février 2020 à 20:0
 0 (Inscriptions impossibles).Inscriptions ouvertes aux detenteurs des titre
 s Fédéraux valides suivants : Licenciés CompétiteursEpreuves :\n - Le diman
 che 01 mars 2020\n - Codex épreuve BMVF0081\n - Individuel\n - Catégorie(s)
  : U15/U17 (Filles)\n - Le dimanche 01 mars 2020\n - Codex épreuve BMVM0081
 \n - Individuel\n - Catégorie(s) : U15/U17 (Garçons)\n - Le dimanche 01 mar
 s 2020\n - Codex épreuve BMVF0082\n - Individuel\n - Catégorie(s) : U19 a S
 EN (Dames)\n - Le dimanche 01 mars 2020\n - Codex épreuve BMVM0082\n - Indi
 viduel\n - Catégorie(s) : U19 a SEN (Hommes)\n - Voir les informations dans
  l'agenda... (/index.php?option=com_jevents&amp;task=icalevent.detail&amp;e
 vid=1415&amp;Itemid=6283)\n - Vers les résultats... (/index.php?option=com_
 gskiepreuves&amp;view=afficheresultats&amp;format_option=tous&amp;filter[se
 arch]=BMVT0080&amp;filter[date_debut]=01-03-2020&amp;filter[date_fin]=01-03
 -2020&amp;code_activite=BIATH&amp;Itemid=6283) Cet évènement a été importé 
 depuis :https://skivosges.net/agenda/export-synchronisation/detailevenement
 /1420/-/biathlon-regional-50m-credit-mutuel-tgl-salomon?tmpl=component
X-ALT-DESC;FMTTYPE=text/html:<!-- #gskiepreuve code généré par le plugin jevents pour GskiEpreuves. Ne p
 as modifier cette ligne, ni tout le contenu suivant  #gskiepreuve --><div c
 lass="gski-evenement_infos"><div class="gski-evenement-nom">BIATHLON REGION
 AL 50m CREDIT MUTUEL / TGL /SALOMON</div><div class="gski-evenement-report"
 ></div><ul class="gski-evenement-liste-infos"><li>Codex évenement BMVT0080<
 /li><li>Station : LA BRESSE LISPACH</li><li>Organisateur : 14486 BASSE SUR 
 LE RUPT SKI NORDIQUE</li><li>Courriel : <!-- Cette adresse électronique est
  protégée contre les robots spammeurs. --><span class="cloaked_email ep_8b8
 c0c7c"><span data-ep-b="&#109;" data-ep-a="&#114;&#101;&#109;&#121;"><span 
 data-ep-a="al&#97;&#105;" data-ep-b="l&#46;c&#111;"><span data-ep-a="&#110;
 &#56;8&#64;" data-ep-b="&#103;&#109;&#97;&#105;"></span></span></span></spa
 n><script>RegularLabs.EmailProtector.unCloak("ep_8b8c0c7c");</script></li><
 li><span class="gski-evenement-obs">Délégué Technique : HABRAN THIERRY</spa
 n></li></ul><div class="gski-evenement-infos-2"><div class="gski-evenement-
 info-inscriptions"><div class="gski-evenement-inscriptions-periodes">Périod
 e d'inscription à l'evènement du dimanche 23 février 2020 à 00:00 au jeudi 
 27 février 2020 à 20:00 <span class="gski-evenement-inscriptions-impossible
 s">(Inscriptions impossibles).</span><div class="gski-evenement-inscription
 s-types-titres">Inscriptions ouvertes aux detenteurs des titres Fédéraux va
 lides suivants : Licenciés Compétiteurs</div></div></div><div class="gski-e
 venement-epreuves"><div class="gski-evenement-epreuves-titres">Epreuves :</
 div><ul class="gski-evenement-epreuves-list"><li><div class="gski-epreuve-d
 ate">Le dimanche 01 mars 2020</div><ul class="gski-epreuve-liste-infos"><li
 >Codex épreuve BMVF0081</li><li>Individuel</li><li>Catégorie(s) : U15/U17 (
 Filles)</li></ul></li><li><div class="gski-epreuve-date">Le dimanche 01 mar
 s 2020</div><ul class="gski-epreuve-liste-infos"><li>Codex épreuve BMVM0081
 </li><li>Individuel</li><li>Catégorie(s) : U15/U17 (Garçons)</li></ul></li>
 <li><div class="gski-epreuve-date">Le dimanche 01 mars 2020</div><ul class=
 "gski-epreuve-liste-infos"><li>Codex épreuve BMVF0082</li><li>Individuel</l
 i><li>Catégorie(s) : U19 a SEN (Dames)</li></ul></li><li><div class="gski-e
 preuve-date">Le dimanche 01 mars 2020</div><ul class="gski-epreuve-liste-in
 fos"><li>Codex épreuve BMVM0082</li><li>Individuel</li><li>Catégorie(s) : U
 19 a SEN (Hommes)</li></ul></li></ul></div><div class="gskiepreuves-links">
 <ul><li><a href="https://skivosges.net/index.php?option=com_jevents&task=ic
 alevent.detail&evid=1415&Itemid=6283">Voir les informations dans l'agenda..
 .</a></li><li><a href="https://skivosges.net/index.php?option=com_gskiepreu
 ves&view=afficheresultats&format_option=tous&filter[search]=BMVT0080&filter
 [date_debut]=01-03-2020&filter[date_fin]=01-03-2020&code_activite=BIATH&Ite
 mid=6283">Vers les résultats...</a></li></ul></div></div"><!-- #/gskiepreuv
 e fin du dode généré par le plugin jevents pour GskiEpreuves. . Ne pas modi
 fier cette ligne, ni tout le contenu précedant.  #/gskiepreuve --> <a href=
 "https://skivosges.net/agenda/export-synchronisation/detailevenement/1420/-
 /biathlon-regional-50m-credit-mutuel-tgl-salomon?tmpl=component">Cet évènem
 ent a été importé depuis :https://skivosges.net/agenda/export-synchronisati
 on/detailevenement/1420/-/biathlon-regional-50m-credit-mutuel-tgl-salomon?t
 mpl=component</a>DTSTAMP:20260420T131451
DTSTART;TZID=Europe/Paris;VALUE=DATE:20200301
DTEND;TZID=Europe/Paris;VALUE=DATE:20200302
SEQUENCE:0
TRANSP:OPAQUE
END:VEVENT
END:VCALENDAR