BEGIN:VCALENDAR
VERSION:2.0
PRODID:-//jEvents 2.0 for Joomla//EN
CALSCALE:GREGORIAN
METHOD:PUBLISH
BEGIN:VTIMEZONE
TZID:Europe/Paris
BEGIN:STANDARD
DTSTART:20190308T000000
RDATE:20190331T030000
TZOFFSETFROM:+0200
TZOFFSETTO:+0100
TZNAME:Europe/Paris CET
END:STANDARD
BEGIN:STANDARD
DTSTART:20191027T020000
RDATE:20200329T030000
TZOFFSETFROM:+0200
TZOFFSETTO:+0100
TZNAME:Europe/Paris CET
END:STANDARD
BEGIN:STANDARD
DTSTART:20201025T020000
RDATE:20210328T030000
TZOFFSETFROM:+0200
TZOFFSETTO:+0100
TZNAME:Europe/Paris CET
END:STANDARD
BEGIN:STANDARD
DTSTART:20211031T020000
RDATE:20220327T030000
TZOFFSETFROM:+0200
TZOFFSETTO:+0100
TZNAME:Europe/Paris CET
END:STANDARD
BEGIN:STANDARD
DTSTART:20221030T020000
RDATE:20230326T030000
TZOFFSETFROM:+0200
TZOFFSETTO:+0100
TZNAME:Europe/Paris CET
END:STANDARD
BEGIN:STANDARD
DTSTART:20231029T020000
RDATE:20240331T030000
TZOFFSETFROM:+0200
TZOFFSETTO:+0100
TZNAME:Europe/Paris CET
END:STANDARD
BEGIN:STANDARD
DTSTART:20241027T020000
RDATE:20250330T030000
TZOFFSETFROM:+0200
TZOFFSETTO:+0100
TZNAME:Europe/Paris CET
END:STANDARD
BEGIN:STANDARD
DTSTART:20251026T020000
RDATE:20260329T030000
TZOFFSETFROM:+0200
TZOFFSETTO:+0100
TZNAME:Europe/Paris CET
END:STANDARD
BEGIN:STANDARD
DTSTART:20261025T020000
RDATE:20270328T030000
TZOFFSETFROM:+0200
TZOFFSETTO:+0100
TZNAME:Europe/Paris CET
END:STANDARD
BEGIN:DAYLIGHT
DTSTART:20190331T030000
RDATE:20191027T020000
TZOFFSETFROM:+0100
TZOFFSETTO:+0200
TZNAME:Europe/Paris CEST
END:DAYLIGHT
BEGIN:DAYLIGHT
DTSTART:20200329T030000
RDATE:20201025T020000
TZOFFSETFROM:+0100
TZOFFSETTO:+0200
TZNAME:Europe/Paris CEST
END:DAYLIGHT
BEGIN:DAYLIGHT
DTSTART:20210328T030000
RDATE:20211031T020000
TZOFFSETFROM:+0100
TZOFFSETTO:+0200
TZNAME:Europe/Paris CEST
END:DAYLIGHT
BEGIN:DAYLIGHT
DTSTART:20220327T030000
RDATE:20221030T020000
TZOFFSETFROM:+0100
TZOFFSETTO:+0200
TZNAME:Europe/Paris CEST
END:DAYLIGHT
BEGIN:DAYLIGHT
DTSTART:20230326T030000
RDATE:20231029T020000
TZOFFSETFROM:+0100
TZOFFSETTO:+0200
TZNAME:Europe/Paris CEST
END:DAYLIGHT
BEGIN:DAYLIGHT
DTSTART:20240331T030000
RDATE:20241027T020000
TZOFFSETFROM:+0100
TZOFFSETTO:+0200
TZNAME:Europe/Paris CEST
END:DAYLIGHT
BEGIN:DAYLIGHT
DTSTART:20250330T030000
RDATE:20251026T020000
TZOFFSETFROM:+0100
TZOFFSETTO:+0200
TZNAME:Europe/Paris CEST
END:DAYLIGHT
BEGIN:DAYLIGHT
DTSTART:20260329T030000
RDATE:20261025T020000
TZOFFSETFROM:+0100
TZOFFSETTO:+0200
TZNAME:Europe/Paris CEST
END:DAYLIGHT
END:VTIMEZONE
BEGIN:VEVENT
UID:eb9d7146855a52bfdeb98162ec84e577
CATEGORIES:Combiné Nordique
CREATED:20191111T130350
SUMMARY:Finale des jeux du saut
URL;VALUE=URI:https://skivosges.net/agenda/export-synchronisation/detailevenement/1435/-/
 finale-des-jeux-du-saut?tmpl=component
DESCRIPTION:<!-- #gskiepreuve code généré par le plugin jevents pour GskiEpreuves. Ne p
 as modifier cette ligne, ni tout le contenu suivant  #gskiepreuve --><div c
 lass="gski-evenement_infos"><div class="gski-evenement-nom">Finale des jeux
  du saut</div><div class="gski-evenement-report"></div><ul class="gski-even
 ement-liste-infos"><li>Codex évenement CMVT0010</li><li>Station : FRERE JOS
 EPH</li><li>Organisateur : 14083 U.S VENTRON</li><li>Courriel : <!-- Cette 
 adresse électronique est protégée contre les robots spammeurs. --><span cla
 ss="cloaked_email ep_04cb6b94"><span data-ep-a="c&#104;r&#105;s" data-ep-b=
 "c&#111;m"><span data-ep-b="&#109;&#97;&#105;&#108;&#46;" data-ep-a="&#116;
 i&#110;&#101;."><span data-ep-a="ge&#114;&#97;&#114;" data-ep-b="&#100;&#56
 ;&#56;&#64;&#103;"></span></span></span></span><script>RegularLabs.EmailPro
 tector.unCloak("ep_04cb6b94");</script></li></ul><div class="gski-evenement
 -infos-2"><div class="gski-evenement-info-inscriptions"><div class="gski-ev
 enement-inscriptions-periodes">Période d'inscription à l'evènement du diman
 che 01 mars 2020 à 00:00 au vendredi 06 mars 2020 à 12:00 <span class="gski
 -evenement-inscriptions-impossibles">(Inscriptions impossibles).</span><div
  class="gski-evenement-inscriptions-types-titres">Inscriptions ouvertes aux
  detenteurs des titres Fédéraux valides suivants : Licenciés Compétiteurs</
 div></div></div><div class="gski-evenement-epreuves"><div class="gski-evene
 ment-epreuves-titres">Epreuves :</div><ul class="gski-evenement-epreuves-li
 st"><li><div class="gski-epreuve-date">Le dimanche 08 mars 2020</div><ul cl
 ass="gski-epreuve-liste-infos"><li>Codex épreuve CMVM0011</li><li>Saut du C
 ombine Nordique</li><li>Catégorie(s) : U7 a U13 (Garçons)</li></ul></li><li
 ><div class="gski-epreuve-date">Le dimanche 08 mars 2020</div><ul class="gs
 ki-epreuve-liste-infos"><li>Codex épreuve CMVF0011</li><li>Saut du Combine 
 Nordique</li><li>Catégorie(s) : U7 a U13 (Filles)</li></ul></li><li><div cl
 ass="gski-epreuve-date">Le dimanche 08 mars 2020</div><ul class="gski-epreu
 ve-liste-infos"><li>Codex épreuve CMVF0012</li><li>Combine Nordique (Saut-F
 S)</li><li>Catégorie(s) : U7 a U13 (Filles)</li></ul></li><li><div class="g
 ski-epreuve-date">Le dimanche 08 mars 2020</div><ul class="gski-epreuve-lis
 te-infos"><li>Codex épreuve CMVM0012</li><li>Combine Nordique (Saut-FS)</li
 ><li>Catégorie(s) : U7 a U13 (Garçons)</li></ul></li></ul></div><div class=
 "gskiepreuves-links"><ul><li><a href="/index.php?option=com_jevents&task=ic
 alevent.detail&evid=1430&Itemid=6283">Voir les informations dans l'agenda..
 .</a></li></ul></div></div"><!-- #/gskiepreuve fin du dode généré par le pl
 ugin jevents pour GskiEpreuves. . Ne pas modifier cette ligne, ni tout le c
 ontenu précedant.  #/gskiepreuve --> <a href="https://skivosges.net/agenda/
 export-synchronisation/detailevenement/1435/-/finale-des-jeux-du-saut?tmpl=
 component">Cet évènement a été importé depuis :https://skivosges.net/agenda
 /export-synchronisation/detailevenement/1435/-/finale-des-jeux-du-saut?tmpl
 =component</a>
X-ALT-DESC;FMTTYPE=text/html:<!-- #gskiepreuve code généré par le plugin jevents pour GskiEpreuves. Ne p
 as modifier cette ligne, ni tout le contenu suivant  #gskiepreuve --><div c
 lass="gski-evenement_infos"><div class="gski-evenement-nom">Finale des jeux
  du saut</div><div class="gski-evenement-report"></div><ul class="gski-even
 ement-liste-infos"><li>Codex évenement CMVT0010</li><li>Station : FRERE JOS
 EPH</li><li>Organisateur : 14083 U.S VENTRON</li><li>Courriel : <!-- Cette 
 adresse électronique est protégée contre les robots spammeurs. --><span cla
 ss="cloaked_email ep_04cb6b94"><span data-ep-a="c&#104;r&#105;s" data-ep-b=
 "c&#111;m"><span data-ep-b="&#109;&#97;&#105;&#108;&#46;" data-ep-a="&#116;
 i&#110;&#101;."><span data-ep-a="ge&#114;&#97;&#114;" data-ep-b="&#100;&#56
 ;&#56;&#64;&#103;"></span></span></span></span><script>RegularLabs.EmailPro
 tector.unCloak("ep_04cb6b94");</script></li></ul><div class="gski-evenement
 -infos-2"><div class="gski-evenement-info-inscriptions"><div class="gski-ev
 enement-inscriptions-periodes">Période d'inscription à l'evènement du diman
 che 01 mars 2020 à 00:00 au vendredi 06 mars 2020 à 12:00 <span class="gski
 -evenement-inscriptions-impossibles">(Inscriptions impossibles).</span><div
  class="gski-evenement-inscriptions-types-titres">Inscriptions ouvertes aux
  detenteurs des titres Fédéraux valides suivants : Licenciés Compétiteurs</
 div></div></div><div class="gski-evenement-epreuves"><div class="gski-evene
 ment-epreuves-titres">Epreuves :</div><ul class="gski-evenement-epreuves-li
 st"><li><div class="gski-epreuve-date">Le dimanche 08 mars 2020</div><ul cl
 ass="gski-epreuve-liste-infos"><li>Codex épreuve CMVM0011</li><li>Saut du C
 ombine Nordique</li><li>Catégorie(s) : U7 a U13 (Garçons)</li></ul></li><li
 ><div class="gski-epreuve-date">Le dimanche 08 mars 2020</div><ul class="gs
 ki-epreuve-liste-infos"><li>Codex épreuve CMVF0011</li><li>Saut du Combine 
 Nordique</li><li>Catégorie(s) : U7 a U13 (Filles)</li></ul></li><li><div cl
 ass="gski-epreuve-date">Le dimanche 08 mars 2020</div><ul class="gski-epreu
 ve-liste-infos"><li>Codex épreuve CMVF0012</li><li>Combine Nordique (Saut-F
 S)</li><li>Catégorie(s) : U7 a U13 (Filles)</li></ul></li><li><div class="g
 ski-epreuve-date">Le dimanche 08 mars 2020</div><ul class="gski-epreuve-lis
 te-infos"><li>Codex épreuve CMVM0012</li><li>Combine Nordique (Saut-FS)</li
 ><li>Catégorie(s) : U7 a U13 (Garçons)</li></ul></li></ul></div><div class=
 "gskiepreuves-links"><ul><li><a href="https://skivosges.net/index.php?optio
 n=com_jevents&task=icalevent.detail&evid=1430&Itemid=6283">Voir les informa
 tions dans l'agenda...</a></li></ul></div></div"><!-- #/gskiepreuve fin du 
 dode généré par le plugin jevents pour GskiEpreuves. . Ne pas modifier cett
 e ligne, ni tout le contenu précedant.  #/gskiepreuve --> <a href="https://
 skivosges.net/agenda/export-synchronisation/detailevenement/1435/-/finale-d
 es-jeux-du-saut?tmpl=component">Cet évènement a été importé depuis :https:/
 /skivosges.net/agenda/export-synchronisation/detailevenement/1435/-/finale-
 des-jeux-du-saut?tmpl=component</a>DTSTAMP:20260420T184359
DTSTART;TZID=Europe/Paris;VALUE=DATE:20200308
DTEND;TZID=Europe/Paris;VALUE=DATE:20200309
SEQUENCE:0
TRANSP:OPAQUE
END:VEVENT
END:VCALENDAR