BEGIN:VCALENDAR
VERSION:2.0
PRODID:-//jEvents 2.0 for Joomla//EN
CALSCALE:GREGORIAN
METHOD:PUBLISH
BEGIN:VTIMEZONE
TZID:Europe/Paris
BEGIN:STANDARD
DTSTART:20190122T190000
RDATE:20190331T030000
TZOFFSETFROM:+0200
TZOFFSETTO:+0100
TZNAME:Europe/Paris CET
END:STANDARD
BEGIN:STANDARD
DTSTART:20191027T020000
RDATE:20200329T030000
TZOFFSETFROM:+0200
TZOFFSETTO:+0100
TZNAME:Europe/Paris CET
END:STANDARD
BEGIN:STANDARD
DTSTART:20201025T020000
RDATE:20210328T030000
TZOFFSETFROM:+0200
TZOFFSETTO:+0100
TZNAME:Europe/Paris CET
END:STANDARD
BEGIN:STANDARD
DTSTART:20211031T020000
RDATE:20220327T030000
TZOFFSETFROM:+0200
TZOFFSETTO:+0100
TZNAME:Europe/Paris CET
END:STANDARD
BEGIN:STANDARD
DTSTART:20221030T020000
RDATE:20230326T030000
TZOFFSETFROM:+0200
TZOFFSETTO:+0100
TZNAME:Europe/Paris CET
END:STANDARD
BEGIN:STANDARD
DTSTART:20231029T020000
RDATE:20240331T030000
TZOFFSETFROM:+0200
TZOFFSETTO:+0100
TZNAME:Europe/Paris CET
END:STANDARD
BEGIN:STANDARD
DTSTART:20241027T020000
RDATE:20250330T030000
TZOFFSETFROM:+0200
TZOFFSETTO:+0100
TZNAME:Europe/Paris CET
END:STANDARD
BEGIN:STANDARD
DTSTART:20251026T020000
RDATE:20260329T030000
TZOFFSETFROM:+0200
TZOFFSETTO:+0100
TZNAME:Europe/Paris CET
END:STANDARD
BEGIN:STANDARD
DTSTART:20261025T020000
RDATE:20270328T030000
TZOFFSETFROM:+0200
TZOFFSETTO:+0100
TZNAME:Europe/Paris CET
END:STANDARD
BEGIN:DAYLIGHT
DTSTART:20190331T030000
RDATE:20191027T020000
TZOFFSETFROM:+0100
TZOFFSETTO:+0200
TZNAME:Europe/Paris CEST
END:DAYLIGHT
BEGIN:DAYLIGHT
DTSTART:20200329T030000
RDATE:20201025T020000
TZOFFSETFROM:+0100
TZOFFSETTO:+0200
TZNAME:Europe/Paris CEST
END:DAYLIGHT
BEGIN:DAYLIGHT
DTSTART:20210328T030000
RDATE:20211031T020000
TZOFFSETFROM:+0100
TZOFFSETTO:+0200
TZNAME:Europe/Paris CEST
END:DAYLIGHT
BEGIN:DAYLIGHT
DTSTART:20220327T030000
RDATE:20221030T020000
TZOFFSETFROM:+0100
TZOFFSETTO:+0200
TZNAME:Europe/Paris CEST
END:DAYLIGHT
BEGIN:DAYLIGHT
DTSTART:20230326T030000
RDATE:20231029T020000
TZOFFSETFROM:+0100
TZOFFSETTO:+0200
TZNAME:Europe/Paris CEST
END:DAYLIGHT
BEGIN:DAYLIGHT
DTSTART:20240331T030000
RDATE:20241027T020000
TZOFFSETFROM:+0100
TZOFFSETTO:+0200
TZNAME:Europe/Paris CEST
END:DAYLIGHT
BEGIN:DAYLIGHT
DTSTART:20250330T030000
RDATE:20251026T020000
TZOFFSETFROM:+0100
TZOFFSETTO:+0200
TZNAME:Europe/Paris CEST
END:DAYLIGHT
BEGIN:DAYLIGHT
DTSTART:20260329T030000
RDATE:20261025T020000
TZOFFSETFROM:+0100
TZOFFSETTO:+0200
TZNAME:Europe/Paris CEST
END:DAYLIGHT
END:VTIMEZONE
BEGIN:VEVENT
UID:ac657bb7248ba874e0685e8b2350baa3
CATEGORIES:Formation Officiels - Chronos - Gestionnaires
CREATED:20200110T142123
SUMMARY:Chronometreur : formation / recyclage ** ANNULEE **
LOCATION:Cernay / Siège du CRMVS
URL;VALUE=URI:https://skivosges.net/agenda/export-synchronisation/detailevenement/1482/-/
 chronometreur-formation-recyclage-annulee?tmpl=component
DESCRIPTION:<p><span class="attention">Info du 21/01/2020 : Formation annulée par manqu
 e de participants !<br /></span><br />La commission Règles et Contrôles du 
 CRMVS organise :</p><p>une <strong>session de recyclage « chronométreurs »<
 /strong></p><p>Durée prévisionnelle : 4H00.</p><p>Plusieurs tests et questi
 onnaires seront effectués.</p><p>Inscription obligatoire, nombre de places 
 limitées.</p><p>Avant inscription, contacter le référent Chronométrage <!--
  Cette adresse électronique est protégée contre les robots spammeurs. --><a
  href="javascript:/* Cette adresse &eacute;lectronique est prot&eacute;g&ea
 cute;e contre les robots spammeurs.*/">Yves Dodin<span class="cloaked_email
  ep_010081a3" style="display:none;"><span data-ep-b="1&#56;&#47;&#48;&#49;&
 #47;2&#48;&#49;7&#37;&#50;&#48;a%2&#48;&#67;&#101;&#114;&#110;&#97;&#121;" 
 data-ep-a="&#121;&#100;&#111;&#100;&#105;&#110;&#64;&#119;&#97;&#110;a&#100
 ;&#111;&#111;&#46;&#102;&#114;&#63;&#99;&#99;=&#114;&#101;g&#108;e"><span d
 ata-ep-b="g&#101;&#37;&#50;0&#99;h&#114;o&#110;&#111;&#109;é&#116;&#114;e&#
 117;&#114;&#37;2&#48;&#100;&#117;&#37;&#50;&#48;" data-ep-a="s&#45;et&#45;&
 #99;&#111;&#110;&#116;&#114;&#111;l&#101;s&#64;s&#107;iv&#111;s&#103;&#101;
 &#115;&#46;&#110;"><span data-ep-a="&#101;t&#38;&#115;&#117;b&#106;&#101;c&
 #116;=&#80;&#97;&#114;&#116;i&#99;&#105;p&#97;t&#105;&#111;n&#37;&#50;" dat
 a-ep-b="0&#97;&#37;&#50;0&#108;&#97;&#37;2&#48;&#115;&#111;&#105;&#114;&#10
 1;&#101;&#37;&#50;&#48;&#114;e&#99;&#121;cla"></span></span></span></span><
 /a><script>RegularLabs.EmailProtector.unCloak("ep_010081a3", true);</script
 > afin de vérifier si vous êtes concerné par cette session.</p><p>Chaque ca
 ndidat devra avoir un système complet ordinateur avec skiffs v.2 2019/2020 
 opérationnel, son chronomètre, le système de raccordement PC-chronomètre op
 érationnel, des câbles avec fiches bananes (2 à 3ml).</p><p>Pas besoin d'im
 primante, ni de portillon et cellules, mais système de jonction à fiches ba
 nanes pour obtenir les impulsions de départ et d'arrivée.</p><p>Prévoir aus
 si câble 220V et triplettes.</p> <a href="https://skivosges.net/agenda/expo
 rt-synchronisation/detailevenement/1482/-/chronometreur-formation-recyclage
 -annulee?tmpl=component">Cet évènement a été importé depuis :https://skivos
 ges.net/agenda/export-synchronisation/detailevenement/1482/-/chronometreur-
 formation-recyclage-annulee?tmpl=component</a>
X-ALT-DESC;FMTTYPE=text/html:<p><span class="attention">Info du 21/01/2020 : Formation annulée par manqu
 e de participants !<br /></span><br />La commission Règles et Contrôles du 
 CRMVS organise :</p><p>une <strong>session de recyclage « chronométreurs »<
 /strong></p><p>Durée prévisionnelle : 4H00.</p><p>Plusieurs tests et questi
 onnaires seront effectués.</p><p>Inscription obligatoire, nombre de places 
 limitées.</p><p>Avant inscription, contacter le référent Chronométrage <!--
  Cette adresse électronique est protégée contre les robots spammeurs. --><a
  href="https://skivosges.net/javascript:/* Cette adresse &eacute;lectroniqu
 e est prot&eacute;g&eacute;e contre les robots spammeurs.*/">Yves Dodin<spa
 n class="cloaked_email ep_010081a3" style="display:none;"><span data-ep-b="
 1&#56;&#47;&#48;&#49;&#47;2&#48;&#49;7&#37;&#50;&#48;a%2&#48;&#67;&#101;&#1
 14;&#110;&#97;&#121;" data-ep-a="&#121;&#100;&#111;&#100;&#105;&#110;&#64;&
 #119;&#97;&#110;a&#100;&#111;&#111;&#46;&#102;&#114;&#63;&#99;&#99;=&#114;&
 #101;g&#108;e"><span data-ep-b="g&#101;&#37;&#50;0&#99;h&#114;o&#110;&#111;
 &#109;é&#116;&#114;e&#117;&#114;&#37;2&#48;&#100;&#117;&#37;&#50;&#48;" dat
 a-ep-a="s&#45;et&#45;&#99;&#111;&#110;&#116;&#114;&#111;l&#101;s&#64;s&#107
 ;iv&#111;s&#103;&#101;&#115;&#46;&#110;"><span data-ep-a="&#101;t&#38;&#115
 ;&#117;b&#106;&#101;c&#116;=&#80;&#97;&#114;&#116;i&#99;&#105;p&#97;t&#105;
 &#111;n&#37;&#50;" data-ep-b="0&#97;&#37;&#50;0&#108;&#97;&#37;2&#48;&#115;
 &#111;&#105;&#114;&#101;&#101;&#37;&#50;&#48;&#114;e&#99;&#121;cla"></span>
 </span></span></span></a><script>RegularLabs.EmailProtector.unCloak("ep_010
 081a3", true);</script> afin de vérifier si vous êtes concerné par cette se
 ssion.</p><p>Chaque candidat devra avoir un système complet ordinateur avec
  skiffs v.2 2019/2020 opérationnel, son chronomètre, le système de raccorde
 ment PC-chronomètre opérationnel, des câbles avec fiches bananes (2 à 3ml).
 </p><p>Pas besoin d'imprimante, ni de portillon et cellules, mais système d
 e jonction à fiches bananes pour obtenir les impulsions de départ et d'arri
 vée.</p><p>Prévoir aussi câble 220V et triplettes.</p> <a href="https://ski
 vosges.net/agenda/export-synchronisation/detailevenement/1482/-/chronometre
 ur-formation-recyclage-annulee?tmpl=component">Cet évènement a été importé 
 depuis :https://skivosges.net/agenda/export-synchronisation/detailevenement
 /1482/-/chronometreur-formation-recyclage-annulee?tmpl=component</a>CONTACT:RegularLabs.EmailProtector.unCloak("ep_f82ead7a");
DTSTAMP:20260421T051300
DTSTART;TZID=Europe/Paris:20200123T190000
SEQUENCE:0
TRANSP:OPAQUE
END:VEVENT
END:VCALENDAR