BEGIN:VCALENDAR
VERSION:2.0
PRODID:-//jEvents 2.0 for Joomla//EN
CALSCALE:GREGORIAN
METHOD:PUBLISH
BEGIN:VTIMEZONE
TZID:Europe/Paris
BEGIN:STANDARD
DTSTART:20190116T190000
RDATE:20190331T030000
TZOFFSETFROM:+0200
TZOFFSETTO:+0100
TZNAME:Europe/Paris CET
END:STANDARD
BEGIN:STANDARD
DTSTART:20191027T020000
RDATE:20200329T030000
TZOFFSETFROM:+0200
TZOFFSETTO:+0100
TZNAME:Europe/Paris CET
END:STANDARD
BEGIN:STANDARD
DTSTART:20201025T020000
RDATE:20210328T030000
TZOFFSETFROM:+0200
TZOFFSETTO:+0100
TZNAME:Europe/Paris CET
END:STANDARD
BEGIN:STANDARD
DTSTART:20211031T020000
RDATE:20220327T030000
TZOFFSETFROM:+0200
TZOFFSETTO:+0100
TZNAME:Europe/Paris CET
END:STANDARD
BEGIN:STANDARD
DTSTART:20221030T020000
RDATE:20230326T030000
TZOFFSETFROM:+0200
TZOFFSETTO:+0100
TZNAME:Europe/Paris CET
END:STANDARD
BEGIN:STANDARD
DTSTART:20231029T020000
RDATE:20240331T030000
TZOFFSETFROM:+0200
TZOFFSETTO:+0100
TZNAME:Europe/Paris CET
END:STANDARD
BEGIN:STANDARD
DTSTART:20241027T020000
RDATE:20250330T030000
TZOFFSETFROM:+0200
TZOFFSETTO:+0100
TZNAME:Europe/Paris CET
END:STANDARD
BEGIN:STANDARD
DTSTART:20251026T020000
RDATE:20260329T030000
TZOFFSETFROM:+0200
TZOFFSETTO:+0100
TZNAME:Europe/Paris CET
END:STANDARD
BEGIN:STANDARD
DTSTART:20261025T020000
RDATE:20270328T030000
TZOFFSETFROM:+0200
TZOFFSETTO:+0100
TZNAME:Europe/Paris CET
END:STANDARD
BEGIN:DAYLIGHT
DTSTART:20190331T030000
RDATE:20191027T020000
TZOFFSETFROM:+0100
TZOFFSETTO:+0200
TZNAME:Europe/Paris CEST
END:DAYLIGHT
BEGIN:DAYLIGHT
DTSTART:20200329T030000
RDATE:20201025T020000
TZOFFSETFROM:+0100
TZOFFSETTO:+0200
TZNAME:Europe/Paris CEST
END:DAYLIGHT
BEGIN:DAYLIGHT
DTSTART:20210328T030000
RDATE:20211031T020000
TZOFFSETFROM:+0100
TZOFFSETTO:+0200
TZNAME:Europe/Paris CEST
END:DAYLIGHT
BEGIN:DAYLIGHT
DTSTART:20220327T030000
RDATE:20221030T020000
TZOFFSETFROM:+0100
TZOFFSETTO:+0200
TZNAME:Europe/Paris CEST
END:DAYLIGHT
BEGIN:DAYLIGHT
DTSTART:20230326T030000
RDATE:20231029T020000
TZOFFSETFROM:+0100
TZOFFSETTO:+0200
TZNAME:Europe/Paris CEST
END:DAYLIGHT
BEGIN:DAYLIGHT
DTSTART:20240331T030000
RDATE:20241027T020000
TZOFFSETFROM:+0100
TZOFFSETTO:+0200
TZNAME:Europe/Paris CEST
END:DAYLIGHT
BEGIN:DAYLIGHT
DTSTART:20250330T030000
RDATE:20251026T020000
TZOFFSETFROM:+0100
TZOFFSETTO:+0200
TZNAME:Europe/Paris CEST
END:DAYLIGHT
BEGIN:DAYLIGHT
DTSTART:20260329T030000
RDATE:20261025T020000
TZOFFSETFROM:+0100
TZOFFSETTO:+0200
TZNAME:Europe/Paris CEST
END:DAYLIGHT
END:VTIMEZONE
BEGIN:VEVENT
UID:87a969c2f691057fec2865c8ab2cf32a
CATEGORIES:Formation Officiels - Chronos - Gestionnaires
CREATED:20200113T121720
SUMMARY:Gestion des Compétitions : aller plus loin avec skiffs
LOCATION:Cernay / Siège du CRMVS
URL;VALUE=URI:https://skivosges.net/agenda/export-synchronisation/detailevenement/1483/-/
 gestion-des-competitions-aller-plus-loin-avec-skiffs?tmpl=component
DESCRIPTION:La commission Règles et Contrôles du CRMVS organise :\nune session d'échang
 e et d'information sur le nouveau logiciel Fédéral skiffs\nPublic ciblé : G
 estionnaire ayant déjà pris en main le logiciel\nDurée prévisionnelle : 2H0
 0\nInscription obligatoire, nombre de places limitées.\nMatériel à prévoir 
 : ordinateur avec la dernière version de skiffs installée (optionnel).\nPlu
 s d'informations... (index.php?option=com_content&amp;view=article&amp;id=7
 038:aller-plus-loin-avec-skiffs-17-janvier-2020&amp;catid=8:formation-offic
 iels)\n Cet évènement a été importé depuis :https://skivosges.net/agenda/ex
 port-synchronisation/detailevenement/1483/-/gestion-des-competitions-aller-
 plus-loin-avec-skiffs?tmpl=component
X-ALT-DESC;FMTTYPE=text/html:<p>La commission Règles et Contrôles du CRMVS organise :</p><p>une <strong>
 session d'échange et d'information sur le nouveau logiciel Fédéral skiffs</
 strong></p><p>Public ciblé : Gestionnaire ayant déjà pris en main le logici
 el</p><p>Durée prévisionnelle : 2H00</p><p>Inscription obligatoire, nombre 
 de places limitées.</p><p>Matériel à prévoir : ordinateur avec la dernière 
 version de skiffs installée (optionnel).</p><p><a href="https://skivosges.n
 et/index.php?option=com_content&amp;view=article&amp;id=7038:aller-plus-loi
 n-avec-skiffs-17-janvier-2020&amp;catid=8:formation-officiels" target="_bla
 nk">Plus d'informations...</a></p> <a href="https://skivosges.net/agenda/ex
 port-synchronisation/detailevenement/1483/-/gestion-des-competitions-aller-
 plus-loin-avec-skiffs?tmpl=component">Cet évènement a été importé depuis :h
 ttps://skivosges.net/agenda/export-synchronisation/detailevenement/1483/-/g
 estion-des-competitions-aller-plus-loin-avec-skiffs?tmpl=component</a>CONTACT:RegularLabs.EmailProtector.unCloak("ep_1c584ff9");
DTSTAMP:20260421T050640
DTSTART;TZID=Europe/Paris:20200117T190000
SEQUENCE:0
TRANSP:OPAQUE
END:VEVENT
END:VCALENDAR