BEGIN:VCALENDAR
VERSION:2.0
PRODID:-//jEvents 2.0 for Joomla//EN
CALSCALE:GREGORIAN
METHOD:PUBLISH
BEGIN:VTIMEZONE
TZID:Europe/Paris
BEGIN:STANDARD
DTSTART:20191027T020000
RDATE:20200329T030000
TZOFFSETFROM:+0200
TZOFFSETTO:+0100
TZNAME:Europe/Paris CET
END:STANDARD
BEGIN:STANDARD
DTSTART:20201025T020000
RDATE:20210328T030000
TZOFFSETFROM:+0200
TZOFFSETTO:+0100
TZNAME:Europe/Paris CET
END:STANDARD
BEGIN:STANDARD
DTSTART:20211031T020000
RDATE:20220327T030000
TZOFFSETFROM:+0200
TZOFFSETTO:+0100
TZNAME:Europe/Paris CET
END:STANDARD
BEGIN:STANDARD
DTSTART:20221030T020000
RDATE:20230326T030000
TZOFFSETFROM:+0200
TZOFFSETTO:+0100
TZNAME:Europe/Paris CET
END:STANDARD
BEGIN:STANDARD
DTSTART:20231029T020000
RDATE:20240331T030000
TZOFFSETFROM:+0200
TZOFFSETTO:+0100
TZNAME:Europe/Paris CET
END:STANDARD
BEGIN:STANDARD
DTSTART:20241027T020000
RDATE:20250330T030000
TZOFFSETFROM:+0200
TZOFFSETTO:+0100
TZNAME:Europe/Paris CET
END:STANDARD
BEGIN:STANDARD
DTSTART:20251026T020000
RDATE:20260329T030000
TZOFFSETFROM:+0200
TZOFFSETTO:+0100
TZNAME:Europe/Paris CET
END:STANDARD
BEGIN:STANDARD
DTSTART:20261025T020000
RDATE:20270328T030000
TZOFFSETFROM:+0200
TZOFFSETTO:+0100
TZNAME:Europe/Paris CET
END:STANDARD
BEGIN:DAYLIGHT
DTSTART:20190801T000000
RDATE:20191027T020000
TZOFFSETFROM:+0100
TZOFFSETTO:+0200
TZNAME:Europe/Paris CEST
END:DAYLIGHT
BEGIN:DAYLIGHT
DTSTART:20200329T030000
RDATE:20201025T020000
TZOFFSETFROM:+0100
TZOFFSETTO:+0200
TZNAME:Europe/Paris CEST
END:DAYLIGHT
BEGIN:DAYLIGHT
DTSTART:20210328T030000
RDATE:20211031T020000
TZOFFSETFROM:+0100
TZOFFSETTO:+0200
TZNAME:Europe/Paris CEST
END:DAYLIGHT
BEGIN:DAYLIGHT
DTSTART:20220327T030000
RDATE:20221030T020000
TZOFFSETFROM:+0100
TZOFFSETTO:+0200
TZNAME:Europe/Paris CEST
END:DAYLIGHT
BEGIN:DAYLIGHT
DTSTART:20230326T030000
RDATE:20231029T020000
TZOFFSETFROM:+0100
TZOFFSETTO:+0200
TZNAME:Europe/Paris CEST
END:DAYLIGHT
BEGIN:DAYLIGHT
DTSTART:20240331T030000
RDATE:20241027T020000
TZOFFSETFROM:+0100
TZOFFSETTO:+0200
TZNAME:Europe/Paris CEST
END:DAYLIGHT
BEGIN:DAYLIGHT
DTSTART:20250330T030000
RDATE:20251026T020000
TZOFFSETFROM:+0100
TZOFFSETTO:+0200
TZNAME:Europe/Paris CEST
END:DAYLIGHT
BEGIN:DAYLIGHT
DTSTART:20260329T030000
RDATE:20261025T020000
TZOFFSETFROM:+0100
TZOFFSETTO:+0200
TZNAME:Europe/Paris CEST
END:DAYLIGHT
END:VTIMEZONE
BEGIN:VEVENT
UID:473573411ddf7a2095990b56e62721b0
CATEGORIES:Compétition Saut
CREATED:20200829T093354
SUMMARY:Coupe des Vosges Bussang
URL;VALUE=URI:https://skivosges.net/agenda/export-synchronisation/detailevenement/1502/-/
 coupe-des-vosges-bussang?tmpl=component
DESCRIPTION:Coupe des Vosges Bussang\n - Codex évenement TMVT0110\n - Station : BUSSANG
  LARCENAIRE\n - Organisateur : 14007 UNION SPORTIVE BUSSANG\n - Courriel : 
 RegularLabs.EmailProtector.unCloak("ep_5fd24aa0");\n - Délégué Technique : 
 SCHERLEN JEAN LUCPériode d'inscription à l'evènement du samedi 25 juillet 2
 020 à 00:00 au jeudi 30 juillet 2020 à 12:00 (Inscriptions impossibles).Ins
 criptions ouvertes aux detenteurs des titres Fédéraux valides suivants : Li
 cenciés CompétiteursEpreuves :\n - Le samedi 01 août 2020\n - Codex épreuve
  TMVM0111\n - Saut Special\n - Catégorie(s) : U7 a U20 (Garçons)\n - Le sam
 edi 01 août 2020\n - Codex épreuve TMVF0111\n - Saut Special\n - Catégorie(
 s) : U7 a U20 (Filles)\n - Le samedi 01 août 2020\n - Codex épreuve TMVF011
 2\n - Saut Special\n - Catégorie(s) : Senior (Dames)\n - Le samedi 01 août 
 2020\n - Codex épreuve TMVM0112\n - Saut Special\n - Catégorie(s) : Senior 
 (Hommes)\n - Voir les informations dans l'agenda... (/index.php?option=com_
 jevents&amp;task=icalevent.detail&amp;evid=1497&amp;Itemid=6283)\n - Vers l
 es résultats... (/index.php?option=com_gskiepreuves&amp;view=afficheresulta
 ts&amp;format_option=tous&amp;filter[search]=TMVT0110&amp;filter[date_debut
 ]=01-08-2020&amp;filter[date_fin]=01-08-2020&amp;code_activite=SAUT&amp;Ite
 mid=6283)\n - Publications concernant cet évènement :\n - Samedi 1 Août 202
 0 à 22:53 : Le 01/08/2020 BUSSANG LARCENAIRE Résultats\n - Samedi 1 Août 20
 20 à 22:53 : Le 01/08/2020 BUSSANG LARCENAIRE Résultats Cet évènement a été
  importé depuis :https://skivosges.net/agenda/export-synchronisation/detail
 evenement/1502/-/coupe-des-vosges-bussang?tmpl=component
X-ALT-DESC;FMTTYPE=text/html:<!-- #gskiepreuve code généré par le plugin jevents pour GskiEpreuves. Ne p
 as modifier cette ligne, ni tout le contenu suivant  #gskiepreuve --><div c
 lass="gski-evenement_infos"><div class="gski-evenement-nom">Coupe des Vosge
 s Bussang</div><div class="gski-evenement-report"></div><ul class="gski-eve
 nement-liste-infos"><li>Codex évenement TMVT0110</li><li>Station : BUSSANG 
 LARCENAIRE</li><li>Organisateur : 14007 UNION SPORTIVE BUSSANG</li><li>Cour
 riel : <!-- Cette adresse électronique est protégée contre les robots spamm
 eurs. --><span class="cloaked_email ep_5fd24aa0"><span data-ep-b="r" data-e
 p-a="&#109;&#97;&#120;&#105;&#109;"><span data-ep-a="&#101;.&#108;a&#117;" 
 data-ep-b="&#100;&#111;o&#46;f"><span data-ep-a="&#114;e&#110;&#116;3" data
 -ep-b="&#64;&#119;&#97;&#110;a"></span></span></span></span><script>Regular
 Labs.EmailProtector.unCloak("ep_5fd24aa0");</script></li><li><span class="g
 ski-evenement-obs">Délégué Technique : SCHERLEN JEAN LUC</span></li></ul><d
 iv class="gski-evenement-infos-2"><div class="gski-evenement-info-inscripti
 ons"><div class="gski-evenement-inscriptions-periodes">Période d'inscriptio
 n à l'evènement du samedi 25 juillet 2020 à 00:00 au jeudi 30 juillet 2020 
 à 12:00 <span class="gski-evenement-inscriptions-impossibles">(Inscriptions
  impossibles).</span><div class="gski-evenement-inscriptions-types-titres">
 Inscriptions ouvertes aux detenteurs des titres Fédéraux valides suivants :
  Licenciés Compétiteurs</div></div></div><div class="gski-evenement-epreuve
 s"><div class="gski-evenement-epreuves-titres">Epreuves :</div><ul class="g
 ski-evenement-epreuves-list"><li><div class="gski-epreuve-date">Le samedi 0
 1 août 2020</div><ul class="gski-epreuve-liste-infos"><li>Codex épreuve TMV
 M0111</li><li>Saut Special</li><li>Catégorie(s) : U7 a U20 (Garçons)</li></
 ul></li><li><div class="gski-epreuve-date">Le samedi 01 août 2020</div><ul 
 class="gski-epreuve-liste-infos"><li>Codex épreuve TMVF0111</li><li>Saut Sp
 ecial</li><li>Catégorie(s) : U7 a U20 (Filles)</li></ul></li><li><div class
 ="gski-epreuve-date">Le samedi 01 août 2020</div><ul class="gski-epreuve-li
 ste-infos"><li>Codex épreuve TMVF0112</li><li>Saut Special</li><li>Catégori
 e(s) : Senior (Dames)</li></ul></li><li><div class="gski-epreuve-date">Le s
 amedi 01 août 2020</div><ul class="gski-epreuve-liste-infos"><li>Codex épre
 uve TMVM0112</li><li>Saut Special</li><li>Catégorie(s) : Senior (Hommes)</l
 i></ul></li></ul></div><div class="gskiepreuves-links"><ul><li><a href="htt
 ps://skivosges.net/index.php?option=com_jevents&task=icalevent.detail&evid=
 1497&Itemid=6283">Voir les informations dans l'agenda...</a></li><li><a hre
 f="https://skivosges.net/index.php?option=com_gskiepreuves&view=afficheresu
 ltats&format_option=tous&filter[search]=TMVT0110&filter[date_debut]=01-08-2
 020&filter[date_fin]=01-08-2020&code_activite=SAUT&Itemid=6283">Vers les ré
 sultats...</a></li><li>Publications concernant cet évènement :<ul><li><a hr
 ef="https://skivosges.net/index.php?option=com_content&view=article&id=7215
 &Itemid=6283">Samedi 1 Août 2020 à 22:53 : Le 01/08/2020 BUSSANG LARCENAIRE
  Résultats</a></li><li><a href="https://skivosges.net/index.php?option=com_
 content&view=article&id=7214&Itemid=6283">Samedi 1 Août 2020 à 22:53 : Le 0
 1/08/2020 BUSSANG LARCENAIRE Résultats</a></li></ul></li></ul></div></div">
 <!-- #/gskiepreuve fin du dode généré par le plugin jevents pour GskiEpreuv
 es. . Ne pas modifier cette ligne, ni tout le contenu précedant.  #/gskiepr
 euve --> <a href="https://skivosges.net/agenda/export-synchronisation/detai
 levenement/1502/-/coupe-des-vosges-bussang?tmpl=component">Cet évènement a 
 été importé depuis :https://skivosges.net/agenda/export-synchronisation/det
 ailevenement/1502/-/coupe-des-vosges-bussang?tmpl=component</a>DTSTAMP:20260420T114952
DTSTART;TZID=Europe/Paris;VALUE=DATE:20200801
DTEND;TZID=Europe/Paris;VALUE=DATE:20200802
SEQUENCE:0
TRANSP:OPAQUE
END:VEVENT
END:VCALENDAR