BEGIN:VCALENDAR
VERSION:2.0
PRODID:-//jEvents 2.0 for Joomla//EN
CALSCALE:GREGORIAN
METHOD:PUBLISH
BEGIN:VTIMEZONE
TZID:Europe/Paris
BEGIN:STANDARD
DTSTART:20191027T020000
RDATE:20200329T030000
TZOFFSETFROM:+0200
TZOFFSETTO:+0100
TZNAME:Europe/Paris CET
END:STANDARD
BEGIN:STANDARD
DTSTART:20201025T020000
RDATE:20210328T030000
TZOFFSETFROM:+0200
TZOFFSETTO:+0100
TZNAME:Europe/Paris CET
END:STANDARD
BEGIN:STANDARD
DTSTART:20211031T020000
RDATE:20220327T030000
TZOFFSETFROM:+0200
TZOFFSETTO:+0100
TZNAME:Europe/Paris CET
END:STANDARD
BEGIN:STANDARD
DTSTART:20221030T020000
RDATE:20230326T030000
TZOFFSETFROM:+0200
TZOFFSETTO:+0100
TZNAME:Europe/Paris CET
END:STANDARD
BEGIN:STANDARD
DTSTART:20231029T020000
RDATE:20240331T030000
TZOFFSETFROM:+0200
TZOFFSETTO:+0100
TZNAME:Europe/Paris CET
END:STANDARD
BEGIN:STANDARD
DTSTART:20241027T020000
RDATE:20250330T030000
TZOFFSETFROM:+0200
TZOFFSETTO:+0100
TZNAME:Europe/Paris CET
END:STANDARD
BEGIN:STANDARD
DTSTART:20251026T020000
RDATE:20260329T030000
TZOFFSETFROM:+0200
TZOFFSETTO:+0100
TZNAME:Europe/Paris CET
END:STANDARD
BEGIN:STANDARD
DTSTART:20261025T020000
RDATE:20270328T030000
TZOFFSETFROM:+0200
TZOFFSETTO:+0100
TZNAME:Europe/Paris CET
END:STANDARD
BEGIN:DAYLIGHT
DTSTART:20190821T000000
RDATE:20191027T020000
TZOFFSETFROM:+0100
TZOFFSETTO:+0200
TZNAME:Europe/Paris CEST
END:DAYLIGHT
BEGIN:DAYLIGHT
DTSTART:20200329T030000
RDATE:20201025T020000
TZOFFSETFROM:+0100
TZOFFSETTO:+0200
TZNAME:Europe/Paris CEST
END:DAYLIGHT
BEGIN:DAYLIGHT
DTSTART:20210328T030000
RDATE:20211031T020000
TZOFFSETFROM:+0100
TZOFFSETTO:+0200
TZNAME:Europe/Paris CEST
END:DAYLIGHT
BEGIN:DAYLIGHT
DTSTART:20220327T030000
RDATE:20221030T020000
TZOFFSETFROM:+0100
TZOFFSETTO:+0200
TZNAME:Europe/Paris CEST
END:DAYLIGHT
BEGIN:DAYLIGHT
DTSTART:20230326T030000
RDATE:20231029T020000
TZOFFSETFROM:+0100
TZOFFSETTO:+0200
TZNAME:Europe/Paris CEST
END:DAYLIGHT
BEGIN:DAYLIGHT
DTSTART:20240331T030000
RDATE:20241027T020000
TZOFFSETFROM:+0100
TZOFFSETTO:+0200
TZNAME:Europe/Paris CEST
END:DAYLIGHT
BEGIN:DAYLIGHT
DTSTART:20250330T030000
RDATE:20251026T020000
TZOFFSETFROM:+0100
TZOFFSETTO:+0200
TZNAME:Europe/Paris CEST
END:DAYLIGHT
BEGIN:DAYLIGHT
DTSTART:20260329T030000
RDATE:20261025T020000
TZOFFSETFROM:+0100
TZOFFSETTO:+0200
TZNAME:Europe/Paris CEST
END:DAYLIGHT
END:VTIMEZONE
BEGIN:VEVENT
UID:7ccf6bf0bed7644a30702c31b40778dc
CATEGORIES:Compétition Saut
CREATED:20200829T093354
SUMMARY:Coupe des Vosges Xonrupt
URL;VALUE=URI:https://skivosges.net/agenda/export-synchronisation/detailevenement/1503/-/
 coupe-des-vosges-xonrupt?tmpl=component
DESCRIPTION:<!-- #gskiepreuve code généré par le plugin jevents pour GskiEpreuves. Ne p
 as modifier cette ligne, ni tout le contenu suivant  #gskiepreuve --><div c
 lass="gski-evenement_infos"><div class="gski-evenement-nom">Coupe des Vosge
 s Xonrupt</div><div class="gski-evenement-report"></div><ul class="gski-eve
 nement-liste-infos"><li>Codex évenement TMVT0120</li><li>Lieu : Xonrupt tre
 mplin centre</li><li>Organisateur : 14102 SKI CLUB XONRUPT</li><li><span cl
 ass="gski-evenement-obs">Délégué Technique : ANDRE REGIS</span></li></ul><d
 iv class="gski-evenement-infos-2"><div class="gski-evenement-info-inscripti
 ons"><div class="gski-evenement-inscriptions-periodes">Période d'inscriptio
 n à l'evènement du vendredi 14 août 2020 à 00:00 au mercredi 19 août 2020 à
  12:00 <span class="gski-evenement-inscriptions-impossibles">(Inscriptions 
 impossibles).</span><div class="gski-evenement-inscriptions-types-titres">I
 nscriptions ouvertes aux detenteurs des titres Fédéraux valides suivants : 
 Licenciés Compétiteurs</div></div></div><div class="gski-evenement-epreuves
 "><div class="gski-evenement-epreuves-titres">Epreuves :</div><ul class="gs
 ki-evenement-epreuves-list"><li><div class="gski-epreuve-date">Le vendredi 
 21 août 2020</div><ul class="gski-epreuve-liste-infos"><li>Codex épreuve TM
 VM0121</li><li>Saut Special</li><li>Catégorie(s) : U7 a U20 (Garçons)</li><
 /ul></li><li><div class="gski-epreuve-date">Le vendredi 21 août 2020</div><
 ul class="gski-epreuve-liste-infos"><li>Codex épreuve TMVF0121</li><li>Saut
  Special</li><li>Catégorie(s) : U7 a U20 (Filles)</li></ul></li><li><div cl
 ass="gski-epreuve-date">Le vendredi 21 août 2020</div><ul class="gski-epreu
 ve-liste-infos"><li>Codex épreuve TMVM0122</li><li>Saut Special</li><li>Cat
 égorie(s) : Senior (Hommes)</li></ul></li><li><div class="gski-epreuve-date
 ">Le vendredi 21 août 2020</div><ul class="gski-epreuve-liste-infos"><li>Co
 dex épreuve TMVF0122</li><li>Saut Special</li><li>Catégorie(s) : Senior (Da
 mes)</li></ul></li></ul></div><div class="gskiepreuves-links"><ul><li><a hr
 ef="/index.php?option=com_jevents&task=icalevent.detail&evid=1498&Itemid=62
 83">Voir les informations dans l'agenda...</a></li></ul></div></div"><!-- #
 /gskiepreuve fin du dode généré par le plugin jevents pour GskiEpreuves. . 
 Ne pas modifier cette ligne, ni tout le contenu précedant.  #/gskiepreuve -
 -> <a href="https://skivosges.net/agenda/export-synchronisation/detailevene
 ment/1503/-/coupe-des-vosges-xonrupt?tmpl=component">Cet évènement a été im
 porté depuis :https://skivosges.net/agenda/export-synchronisation/detaileve
 nement/1503/-/coupe-des-vosges-xonrupt?tmpl=component</a>
X-ALT-DESC;FMTTYPE=text/html:<!-- #gskiepreuve code généré par le plugin jevents pour GskiEpreuves. Ne p
 as modifier cette ligne, ni tout le contenu suivant  #gskiepreuve --><div c
 lass="gski-evenement_infos"><div class="gski-evenement-nom">Coupe des Vosge
 s Xonrupt</div><div class="gski-evenement-report"></div><ul class="gski-eve
 nement-liste-infos"><li>Codex évenement TMVT0120</li><li>Lieu : Xonrupt tre
 mplin centre</li><li>Organisateur : 14102 SKI CLUB XONRUPT</li><li><span cl
 ass="gski-evenement-obs">Délégué Technique : ANDRE REGIS</span></li></ul><d
 iv class="gski-evenement-infos-2"><div class="gski-evenement-info-inscripti
 ons"><div class="gski-evenement-inscriptions-periodes">Période d'inscriptio
 n à l'evènement du vendredi 14 août 2020 à 00:00 au mercredi 19 août 2020 à
  12:00 <span class="gski-evenement-inscriptions-impossibles">(Inscriptions 
 impossibles).</span><div class="gski-evenement-inscriptions-types-titres">I
 nscriptions ouvertes aux detenteurs des titres Fédéraux valides suivants : 
 Licenciés Compétiteurs</div></div></div><div class="gski-evenement-epreuves
 "><div class="gski-evenement-epreuves-titres">Epreuves :</div><ul class="gs
 ki-evenement-epreuves-list"><li><div class="gski-epreuve-date">Le vendredi 
 21 août 2020</div><ul class="gski-epreuve-liste-infos"><li>Codex épreuve TM
 VM0121</li><li>Saut Special</li><li>Catégorie(s) : U7 a U20 (Garçons)</li><
 /ul></li><li><div class="gski-epreuve-date">Le vendredi 21 août 2020</div><
 ul class="gski-epreuve-liste-infos"><li>Codex épreuve TMVF0121</li><li>Saut
  Special</li><li>Catégorie(s) : U7 a U20 (Filles)</li></ul></li><li><div cl
 ass="gski-epreuve-date">Le vendredi 21 août 2020</div><ul class="gski-epreu
 ve-liste-infos"><li>Codex épreuve TMVM0122</li><li>Saut Special</li><li>Cat
 égorie(s) : Senior (Hommes)</li></ul></li><li><div class="gski-epreuve-date
 ">Le vendredi 21 août 2020</div><ul class="gski-epreuve-liste-infos"><li>Co
 dex épreuve TMVF0122</li><li>Saut Special</li><li>Catégorie(s) : Senior (Da
 mes)</li></ul></li></ul></div><div class="gskiepreuves-links"><ul><li><a hr
 ef="https://skivosges.net/index.php?option=com_jevents&task=icalevent.detai
 l&evid=1498&Itemid=6283">Voir les informations dans l'agenda...</a></li></u
 l></div></div"><!-- #/gskiepreuve fin du dode généré par le plugin jevents 
 pour GskiEpreuves. . Ne pas modifier cette ligne, ni tout le contenu préced
 ant.  #/gskiepreuve --> <a href="https://skivosges.net/agenda/export-synchr
 onisation/detailevenement/1503/-/coupe-des-vosges-xonrupt?tmpl=component">C
 et évènement a été importé depuis :https://skivosges.net/agenda/export-sync
 hronisation/detailevenement/1503/-/coupe-des-vosges-xonrupt?tmpl=component<
 /a>DTSTAMP:20260420T113917
DTSTART;TZID=Europe/Paris;VALUE=DATE:20200821
DTEND;TZID=Europe/Paris;VALUE=DATE:20200822
SEQUENCE:0
TRANSP:OPAQUE
END:VEVENT
END:VCALENDAR