BEGIN:VCALENDAR
VERSION:2.0
PRODID:-//jEvents 2.0 for Joomla//EN
CALSCALE:GREGORIAN
METHOD:PUBLISH
BEGIN:VTIMEZONE
TZID:Europe/Paris
BEGIN:STANDARD
DTSTART:20191027T020000
RDATE:20200329T030000
TZOFFSETFROM:+0200
TZOFFSETTO:+0100
TZNAME:Europe/Paris CET
END:STANDARD
BEGIN:STANDARD
DTSTART:20201025T020000
RDATE:20210328T030000
TZOFFSETFROM:+0200
TZOFFSETTO:+0100
TZNAME:Europe/Paris CET
END:STANDARD
BEGIN:STANDARD
DTSTART:20211031T020000
RDATE:20220327T030000
TZOFFSETFROM:+0200
TZOFFSETTO:+0100
TZNAME:Europe/Paris CET
END:STANDARD
BEGIN:STANDARD
DTSTART:20221030T020000
RDATE:20230326T030000
TZOFFSETFROM:+0200
TZOFFSETTO:+0100
TZNAME:Europe/Paris CET
END:STANDARD
BEGIN:STANDARD
DTSTART:20231029T020000
RDATE:20240331T030000
TZOFFSETFROM:+0200
TZOFFSETTO:+0100
TZNAME:Europe/Paris CET
END:STANDARD
BEGIN:STANDARD
DTSTART:20241027T020000
RDATE:20250330T030000
TZOFFSETFROM:+0200
TZOFFSETTO:+0100
TZNAME:Europe/Paris CET
END:STANDARD
BEGIN:STANDARD
DTSTART:20251026T020000
RDATE:20260329T030000
TZOFFSETFROM:+0200
TZOFFSETTO:+0100
TZNAME:Europe/Paris CET
END:STANDARD
BEGIN:STANDARD
DTSTART:20261025T020000
RDATE:20270328T030000
TZOFFSETFROM:+0200
TZOFFSETTO:+0100
TZNAME:Europe/Paris CET
END:STANDARD
BEGIN:DAYLIGHT
DTSTART:20190822T000000
RDATE:20191027T020000
TZOFFSETFROM:+0100
TZOFFSETTO:+0200
TZNAME:Europe/Paris CEST
END:DAYLIGHT
BEGIN:DAYLIGHT
DTSTART:20200329T030000
RDATE:20201025T020000
TZOFFSETFROM:+0100
TZOFFSETTO:+0200
TZNAME:Europe/Paris CEST
END:DAYLIGHT
BEGIN:DAYLIGHT
DTSTART:20210328T030000
RDATE:20211031T020000
TZOFFSETFROM:+0100
TZOFFSETTO:+0200
TZNAME:Europe/Paris CEST
END:DAYLIGHT
BEGIN:DAYLIGHT
DTSTART:20220327T030000
RDATE:20221030T020000
TZOFFSETFROM:+0100
TZOFFSETTO:+0200
TZNAME:Europe/Paris CEST
END:DAYLIGHT
BEGIN:DAYLIGHT
DTSTART:20230326T030000
RDATE:20231029T020000
TZOFFSETFROM:+0100
TZOFFSETTO:+0200
TZNAME:Europe/Paris CEST
END:DAYLIGHT
BEGIN:DAYLIGHT
DTSTART:20240331T030000
RDATE:20241027T020000
TZOFFSETFROM:+0100
TZOFFSETTO:+0200
TZNAME:Europe/Paris CEST
END:DAYLIGHT
BEGIN:DAYLIGHT
DTSTART:20250330T030000
RDATE:20251026T020000
TZOFFSETFROM:+0100
TZOFFSETTO:+0200
TZNAME:Europe/Paris CEST
END:DAYLIGHT
BEGIN:DAYLIGHT
DTSTART:20260329T030000
RDATE:20261025T020000
TZOFFSETFROM:+0100
TZOFFSETTO:+0200
TZNAME:Europe/Paris CEST
END:DAYLIGHT
END:VTIMEZONE
BEGIN:VEVENT
UID:d3f2716726dca589257f06277b8eecc4
CATEGORIES:Compétition Saut
CREATED:20200829T093354
SUMMARY:Coupe des Vosges Gérardmer
URL;VALUE=URI:https://skivosges.net/agenda/export-synchronisation/detailevenement/1504/-/
 coupe-des-vosges-gerardmer?tmpl=component
DESCRIPTION:Coupe des Vosges Gérardmer\n - Codex évenement TMVT0140\n - Lieu : TREMPLIN
  DES BAS RUPT\n - Organisateur : 14469 A.S GERARDMER SKI NORDIQUE\n - Courr
 iel : RegularLabs.EmailProtector.unCloak("ep_5f2e4f25");Période d'inscripti
 on à l'evènement du samedi 15 août 2020 à 00:00 au jeudi 20 août 2020 à 12:
 00 (Inscriptions impossibles).Inscriptions ouvertes aux detenteurs des titr
 es Fédéraux valides suivants : Licenciés CompétiteursEpreuves :\n - Le same
 di 22 août 2020\n - Codex épreuve TMVM0141\n - Saut Special\n - Catégorie(s
 ) : U17 (Hommes)\n - Le samedi 22 août 2020\n - Codex épreuve TMVF0141\n - 
 Saut Special\n - Catégorie(s) : U17 (Dames)\n - Le samedi 22 août 2020\n - 
 Codex épreuve TMVF0142\n - Saut Special\n - Catégorie(s) : U15 (Filles)\n -
  Le samedi 22 août 2020\n - Codex épreuve TMVM0142\n - Saut Special\n - Cat
 égorie(s) : U15 (Garçons)\n - Le samedi 22 août 2020\n - Codex épreuve TMVM
 0143\n - Saut Special\n - Catégorie(s) : U20 (Hommes)\n - Le samedi 22 août
  2020\n - Codex épreuve TMVF0143\n - Saut Special\n - Catégorie(s) : U20 (D
 ames)\n - Le samedi 22 août 2020\n - Codex épreuve TMVF0144\n - Saut Specia
 l\n - Catégorie(s) : Senior (Dames)\n - Le samedi 22 août 2020\n - Codex ép
 reuve TMVM0144\n - Saut Special\n - Catégorie(s) : Senior (Hommes)\n - Le s
 amedi 22 août 2020\n - Codex épreuve TMVM0145\n - Saut Special\n - Catégori
 e(s) : U13 (Garçons)\n - Le samedi 22 août 2020\n - Codex épreuve TMVF0145\
 n - Saut Special\n - Catégorie(s) : U13 (Filles)\n - Voir les informations 
 dans l'agenda... (/index.php?option=com_jevents&amp;task=icalevent.detail&a
 mp;evid=1499&amp;Itemid=6283) Cet évènement a été importé depuis :https://s
 kivosges.net/agenda/export-synchronisation/detailevenement/1504/-/coupe-des
 -vosges-gerardmer?tmpl=component
X-ALT-DESC;FMTTYPE=text/html:<!-- #gskiepreuve code généré par le plugin jevents pour GskiEpreuves. Ne p
 as modifier cette ligne, ni tout le contenu suivant  #gskiepreuve --><div c
 lass="gski-evenement_infos"><div class="gski-evenement-nom">Coupe des Vosge
 s Gérardmer</div><div class="gski-evenement-report"></div><ul class="gski-e
 venement-liste-infos"><li>Codex évenement TMVT0140</li><li>Lieu : TREMPLIN 
 DES BAS RUPT</li><li>Organisateur : 14469 A.S GERARDMER SKI NORDIQUE</li><l
 i>Courriel : <!-- Cette adresse électronique est protégée contre les robots
  spammeurs. --><span class="cloaked_email ep_5f2e4f25"><span data-ep-a="re&
 #103;&#105;" data-ep-b="&#46;f&#114;"><span data-ep-a="&#115;&#46;&#97;&#11
 0;" data-ep-b="&#97;&#100;oo"><span data-ep-b="&#64;&#119;&#97;&#110;" data
 -ep-a="&#100;&#114;e&#54;"></span></span></span></span><script>RegularLabs.
 EmailProtector.unCloak("ep_5f2e4f25");</script></li></ul><div class="gski-e
 venement-infos-2"><div class="gski-evenement-info-inscriptions"><div class=
 "gski-evenement-inscriptions-periodes">Période d'inscription à l'evènement 
 du samedi 15 août 2020 à 00:00 au jeudi 20 août 2020 à 12:00 <span class="g
 ski-evenement-inscriptions-impossibles">(Inscriptions impossibles).</span><
 div class="gski-evenement-inscriptions-types-titres">Inscriptions ouvertes 
 aux detenteurs des titres Fédéraux valides suivants : Licenciés Compétiteur
 s</div></div></div><div class="gski-evenement-epreuves"><div class="gski-ev
 enement-epreuves-titres">Epreuves :</div><ul class="gski-evenement-epreuves
 -list"><li><div class="gski-epreuve-date">Le samedi 22 août 2020</div><ul c
 lass="gski-epreuve-liste-infos"><li>Codex épreuve TMVM0141</li><li>Saut Spe
 cial</li><li>Catégorie(s) : U17 (Hommes)</li></ul></li><li><div class="gski
 -epreuve-date">Le samedi 22 août 2020</div><ul class="gski-epreuve-liste-in
 fos"><li>Codex épreuve TMVF0141</li><li>Saut Special</li><li>Catégorie(s) :
  U17 (Dames)</li></ul></li><li><div class="gski-epreuve-date">Le samedi 22 
 août 2020</div><ul class="gski-epreuve-liste-infos"><li>Codex épreuve TMVF0
 142</li><li>Saut Special</li><li>Catégorie(s) : U15 (Filles)</li></ul></li>
 <li><div class="gski-epreuve-date">Le samedi 22 août 2020</div><ul class="g
 ski-epreuve-liste-infos"><li>Codex épreuve TMVM0142</li><li>Saut Special</l
 i><li>Catégorie(s) : U15 (Garçons)</li></ul></li><li><div class="gski-epreu
 ve-date">Le samedi 22 août 2020</div><ul class="gski-epreuve-liste-infos"><
 li>Codex épreuve TMVM0143</li><li>Saut Special</li><li>Catégorie(s) : U20 (
 Hommes)</li></ul></li><li><div class="gski-epreuve-date">Le samedi 22 août 
 2020</div><ul class="gski-epreuve-liste-infos"><li>Codex épreuve TMVF0143</
 li><li>Saut Special</li><li>Catégorie(s) : U20 (Dames)</li></ul></li><li><d
 iv class="gski-epreuve-date">Le samedi 22 août 2020</div><ul class="gski-ep
 reuve-liste-infos"><li>Codex épreuve TMVF0144</li><li>Saut Special</li><li>
 Catégorie(s) : Senior (Dames)</li></ul></li><li><div class="gski-epreuve-da
 te">Le samedi 22 août 2020</div><ul class="gski-epreuve-liste-infos"><li>Co
 dex épreuve TMVM0144</li><li>Saut Special</li><li>Catégorie(s) : Senior (Ho
 mmes)</li></ul></li><li><div class="gski-epreuve-date">Le samedi 22 août 20
 20</div><ul class="gski-epreuve-liste-infos"><li>Codex épreuve TMVM0145</li
 ><li>Saut Special</li><li>Catégorie(s) : U13 (Garçons)</li></ul></li><li><d
 iv class="gski-epreuve-date">Le samedi 22 août 2020</div><ul class="gski-ep
 reuve-liste-infos"><li>Codex épreuve TMVF0145</li><li>Saut Special</li><li>
 Catégorie(s) : U13 (Filles)</li></ul></li></ul></div><div class="gskiepreuv
 es-links"><ul><li><a href="https://skivosges.net/index.php?option=com_jeven
 ts&task=icalevent.detail&evid=1499&Itemid=6283">Voir les informations dans 
 l'agenda...</a></li></ul></div></div"><!-- #/gskiepreuve fin du dode généré
  par le plugin jevents pour GskiEpreuves. . Ne pas modifier cette ligne, ni
  tout le contenu précedant.  #/gskiepreuve --> <a href="https://skivosges.n
 et/agenda/export-synchronisation/detailevenement/1504/-/coupe-des-vosges-ge
 rardmer?tmpl=component">Cet évènement a été importé depuis :https://skivosg
 es.net/agenda/export-synchronisation/detailevenement/1504/-/coupe-des-vosge
 s-gerardmer?tmpl=component</a>DTSTAMP:20260420T131328
DTSTART;TZID=Europe/Paris;VALUE=DATE:20200822
DTEND;TZID=Europe/Paris;VALUE=DATE:20200823
SEQUENCE:0
TRANSP:OPAQUE
END:VEVENT
END:VCALENDAR