BEGIN:VCALENDAR
VERSION:2.0
PRODID:-//jEvents 2.0 for Joomla//EN
CALSCALE:GREGORIAN
METHOD:PUBLISH
BEGIN:VTIMEZONE
TZID:Europe/Paris
BEGIN:STANDARD
DTSTART:20191027T020000
RDATE:20200329T030000
TZOFFSETFROM:+0200
TZOFFSETTO:+0100
TZNAME:Europe/Paris CET
END:STANDARD
BEGIN:STANDARD
DTSTART:20201025T020000
RDATE:20210328T030000
TZOFFSETFROM:+0200
TZOFFSETTO:+0100
TZNAME:Europe/Paris CET
END:STANDARD
BEGIN:STANDARD
DTSTART:20211031T020000
RDATE:20220327T030000
TZOFFSETFROM:+0200
TZOFFSETTO:+0100
TZNAME:Europe/Paris CET
END:STANDARD
BEGIN:STANDARD
DTSTART:20221030T020000
RDATE:20230326T030000
TZOFFSETFROM:+0200
TZOFFSETTO:+0100
TZNAME:Europe/Paris CET
END:STANDARD
BEGIN:STANDARD
DTSTART:20231029T020000
RDATE:20240331T030000
TZOFFSETFROM:+0200
TZOFFSETTO:+0100
TZNAME:Europe/Paris CET
END:STANDARD
BEGIN:STANDARD
DTSTART:20241027T020000
RDATE:20250330T030000
TZOFFSETFROM:+0200
TZOFFSETTO:+0100
TZNAME:Europe/Paris CET
END:STANDARD
BEGIN:STANDARD
DTSTART:20251026T020000
RDATE:20260329T030000
TZOFFSETFROM:+0200
TZOFFSETTO:+0100
TZNAME:Europe/Paris CET
END:STANDARD
BEGIN:STANDARD
DTSTART:20261025T020000
RDATE:20270328T030000
TZOFFSETFROM:+0200
TZOFFSETTO:+0100
TZNAME:Europe/Paris CET
END:STANDARD
BEGIN:DAYLIGHT
DTSTART:20191011T000000
RDATE:20191027T020000
TZOFFSETFROM:+0100
TZOFFSETTO:+0200
TZNAME:Europe/Paris CEST
END:DAYLIGHT
BEGIN:DAYLIGHT
DTSTART:20200329T030000
RDATE:20201025T020000
TZOFFSETFROM:+0100
TZOFFSETTO:+0200
TZNAME:Europe/Paris CEST
END:DAYLIGHT
BEGIN:DAYLIGHT
DTSTART:20210328T030000
RDATE:20211031T020000
TZOFFSETFROM:+0100
TZOFFSETTO:+0200
TZNAME:Europe/Paris CEST
END:DAYLIGHT
BEGIN:DAYLIGHT
DTSTART:20220327T030000
RDATE:20221030T020000
TZOFFSETFROM:+0100
TZOFFSETTO:+0200
TZNAME:Europe/Paris CEST
END:DAYLIGHT
BEGIN:DAYLIGHT
DTSTART:20230326T030000
RDATE:20231029T020000
TZOFFSETFROM:+0100
TZOFFSETTO:+0200
TZNAME:Europe/Paris CEST
END:DAYLIGHT
BEGIN:DAYLIGHT
DTSTART:20240331T030000
RDATE:20241027T020000
TZOFFSETFROM:+0100
TZOFFSETTO:+0200
TZNAME:Europe/Paris CEST
END:DAYLIGHT
BEGIN:DAYLIGHT
DTSTART:20250330T030000
RDATE:20251026T020000
TZOFFSETFROM:+0100
TZOFFSETTO:+0200
TZNAME:Europe/Paris CEST
END:DAYLIGHT
BEGIN:DAYLIGHT
DTSTART:20260329T030000
RDATE:20261025T020000
TZOFFSETFROM:+0100
TZOFFSETTO:+0200
TZNAME:Europe/Paris CEST
END:DAYLIGHT
END:VTIMEZONE
BEGIN:VEVENT
UID:1eef03c2f1170cef89d6a91dda1c9092
CATEGORIES:Compétition Biathlon
CREATED:20200829T093354
SUMMARY:Challenge Crédit Mutuel TGL Salomon 10M+50M
URL;VALUE=URI:https://skivosges.net/agenda/export-synchronisation/detailevenement/1512/-/
 challenge-credit-mutuel-tgl-salomon-10m-50m?tmpl=component
DESCRIPTION:<!-- #gskiepreuve code généré par le plugin jevents pour GskiEpreuves. Ne p
 as modifier cette ligne, ni tout le contenu suivant  #gskiepreuve --><div c
 lass="gski-evenement_infos"><div class="gski-evenement-nom">Challenge Crédi
 t Mutuel TGL Salomon 10M+50M</div><div class="gski-evenement-report"></div>
 <ul class="gski-evenement-liste-infos"><li>Codex évenement BMVT0120</li><li
 >Lieu : C&ocirc;te 1000 et stade de biathlon des Botte</li><li>Station : CH
 AMP DU FEU</li><li>Organisateur : 14448 MOLSHEIM SKI NORDIQUE</li><li>Courr
 iel : <!-- Cette adresse électronique est protégée contre les robots spamme
 urs. --><span class="cloaked_email ep_2adf4dbd"><span data-ep-b=".&#102;r" 
 data-ep-a="&#112;ier&#114;e"><span data-ep-a="&#45;&#99;&#104;&#97;&#114;b"
  data-ep-b="&#105;c&#97;b&#108;&#101;"><span data-ep-a="&#111;&#110;&#110;i
 &#101;r" data-ep-b="&#64;&#110;u&#109;er"></span></span></span></span><scri
 pt>RegularLabs.EmailProtector.unCloak("ep_2adf4dbd");</script></li><li><spa
 n class="gski-evenement-obs">Délégué Technique : HABRAN THIERRY</span></li>
 </ul><div class="gski-evenement-infos-2"><div class="gski-evenement-info-in
 scriptions"><div class="gski-evenement-inscriptions-periodes">Période d'ins
 cription à l'evènement du dimanche 04 octobre 2020 à 00:00 au vendredi 09 o
 ctobre 2020 à 00:00 <span class="gski-evenement-inscriptions-impossibles">(
 Inscriptions impossibles).</span><div class="gski-evenement-inscriptions-ty
 pes-titres">Inscriptions ouvertes aux detenteurs des titres Fédéraux valide
 s suivants : Licenciés Compétiteurs</div></div></div><div class="gski-evene
 ment-epreuves"><div class="gski-evenement-epreuves-titres">Epreuves :</div>
 <ul class="gski-evenement-epreuves-list"><li><div class="gski-epreuve-date"
 >Le dimanche 11 octobre 2020</div><ul class="gski-epreuve-liste-infos"><li>
 Codex épreuve BMVF0121</li><li>Mass start</li><li>Catégorie(s) : U15 (Fille
 s)</li></ul></li><li><div class="gski-epreuve-date">Le dimanche 11 octobre 
 2020</div><ul class="gski-epreuve-liste-infos"><li>Codex épreuve BMVM0121</
 li><li>Mass start</li><li>Catégorie(s) : U15 (Garçons)</li></ul></li><li><d
 iv class="gski-epreuve-date">Le dimanche 11 octobre 2020</div><ul class="gs
 ki-epreuve-liste-infos"><li>Codex épreuve BMVF0122</li><li>Mass start</li><
 li>Catégorie(s) : U17 (Filles)</li></ul></li><li><div class="gski-epreuve-d
 ate">Le dimanche 11 octobre 2020</div><ul class="gski-epreuve-liste-infos">
 <li>Codex épreuve BMVM0122</li><li>Mass start</li><li>Catégorie(s) : U17 (G
 arçons)</li></ul></li><li><div class="gski-epreuve-date">Le dimanche 11 oct
 obre 2020</div><ul class="gski-epreuve-liste-infos"><li>Codex épreuve BMVF0
 123</li><li>Mass start</li><li>Catégorie(s) : U19 a SEN (Dames)</li></ul></
 li><li><div class="gski-epreuve-date">Le dimanche 11 octobre 2020</div><ul 
 class="gski-epreuve-liste-infos"><li>Codex épreuve BMVM0123</li><li>Mass st
 art</li><li>Catégorie(s) : U19 a SEN (Hommes)</li></ul></li><li><div class=
 "gski-epreuve-date">Le dimanche 11 octobre 2020</div><ul class="gski-epreuv
 e-liste-infos"><li>Codex épreuve BMVF0124</li><li>Individuel</li><li>Catégo
 rie(s) : U15/U17 (Mixte)</li></ul></li><li><div class="gski-epreuve-date">L
 e dimanche 11 octobre 2020</div><ul class="gski-epreuve-liste-infos"><li>Co
 dex épreuve BMVM0124</li><li>Individuel</li><li>Catégorie(s) : U11 (Mixte)<
 /li></ul></li><li><div class="gski-epreuve-date">Le dimanche 11 octobre 202
 0</div><ul class="gski-epreuve-liste-infos"><li>Codex épreuve BMVF0125</li>
 <li>Individuel</li><li>Catégorie(s) : U13 (Mixte)</li></ul></li><li><div cl
 ass="gski-epreuve-date">Le dimanche 11 octobre 2020</div><ul class="gski-ep
 reuve-liste-infos"><li>Codex épreuve BMVM0125</li><li>Individuel</li><li>Ca
 tégorie(s) : U13/U15 (Garçons)</li></ul></li></ul></div><div class="gskiepr
 euves-links"><ul><li><a href="/index.php?option=com_jevents&task=icalevent.
 detail&evid=1507&Itemid=6283">Voir les informations dans l'agenda...</a></l
 i></ul></div></div"><!-- #/gskiepreuve fin du dode généré par le plugin jev
 ents pour GskiEpreuves. . Ne pas modifier cette ligne, ni tout le contenu p
 récedant.  #/gskiepreuve --> <a href="https://skivosges.net/agenda/export-s
 ynchronisation/detailevenement/1512/-/challenge-credit-mutuel-tgl-salomon-1
 0m-50m?tmpl=component">Cet évènement a été importé depuis :https://skivosge
 s.net/agenda/export-synchronisation/detailevenement/1512/-/challenge-credit
 -mutuel-tgl-salomon-10m-50m?tmpl=component</a>
X-ALT-DESC;FMTTYPE=text/html:<!-- #gskiepreuve code généré par le plugin jevents pour GskiEpreuves. Ne p
 as modifier cette ligne, ni tout le contenu suivant  #gskiepreuve --><div c
 lass="gski-evenement_infos"><div class="gski-evenement-nom">Challenge Crédi
 t Mutuel TGL Salomon 10M+50M</div><div class="gski-evenement-report"></div>
 <ul class="gski-evenement-liste-infos"><li>Codex évenement BMVT0120</li><li
 >Lieu : C&ocirc;te 1000 et stade de biathlon des Botte</li><li>Station : CH
 AMP DU FEU</li><li>Organisateur : 14448 MOLSHEIM SKI NORDIQUE</li><li>Courr
 iel : <!-- Cette adresse électronique est protégée contre les robots spamme
 urs. --><span class="cloaked_email ep_2adf4dbd"><span data-ep-b=".&#102;r" 
 data-ep-a="&#112;ier&#114;e"><span data-ep-a="&#45;&#99;&#104;&#97;&#114;b"
  data-ep-b="&#105;c&#97;b&#108;&#101;"><span data-ep-a="&#111;&#110;&#110;i
 &#101;r" data-ep-b="&#64;&#110;u&#109;er"></span></span></span></span><scri
 pt>RegularLabs.EmailProtector.unCloak("ep_2adf4dbd");</script></li><li><spa
 n class="gski-evenement-obs">Délégué Technique : HABRAN THIERRY</span></li>
 </ul><div class="gski-evenement-infos-2"><div class="gski-evenement-info-in
 scriptions"><div class="gski-evenement-inscriptions-periodes">Période d'ins
 cription à l'evènement du dimanche 04 octobre 2020 à 00:00 au vendredi 09 o
 ctobre 2020 à 00:00 <span class="gski-evenement-inscriptions-impossibles">(
 Inscriptions impossibles).</span><div class="gski-evenement-inscriptions-ty
 pes-titres">Inscriptions ouvertes aux detenteurs des titres Fédéraux valide
 s suivants : Licenciés Compétiteurs</div></div></div><div class="gski-evene
 ment-epreuves"><div class="gski-evenement-epreuves-titres">Epreuves :</div>
 <ul class="gski-evenement-epreuves-list"><li><div class="gski-epreuve-date"
 >Le dimanche 11 octobre 2020</div><ul class="gski-epreuve-liste-infos"><li>
 Codex épreuve BMVF0121</li><li>Mass start</li><li>Catégorie(s) : U15 (Fille
 s)</li></ul></li><li><div class="gski-epreuve-date">Le dimanche 11 octobre 
 2020</div><ul class="gski-epreuve-liste-infos"><li>Codex épreuve BMVM0121</
 li><li>Mass start</li><li>Catégorie(s) : U15 (Garçons)</li></ul></li><li><d
 iv class="gski-epreuve-date">Le dimanche 11 octobre 2020</div><ul class="gs
 ki-epreuve-liste-infos"><li>Codex épreuve BMVF0122</li><li>Mass start</li><
 li>Catégorie(s) : U17 (Filles)</li></ul></li><li><div class="gski-epreuve-d
 ate">Le dimanche 11 octobre 2020</div><ul class="gski-epreuve-liste-infos">
 <li>Codex épreuve BMVM0122</li><li>Mass start</li><li>Catégorie(s) : U17 (G
 arçons)</li></ul></li><li><div class="gski-epreuve-date">Le dimanche 11 oct
 obre 2020</div><ul class="gski-epreuve-liste-infos"><li>Codex épreuve BMVF0
 123</li><li>Mass start</li><li>Catégorie(s) : U19 a SEN (Dames)</li></ul></
 li><li><div class="gski-epreuve-date">Le dimanche 11 octobre 2020</div><ul 
 class="gski-epreuve-liste-infos"><li>Codex épreuve BMVM0123</li><li>Mass st
 art</li><li>Catégorie(s) : U19 a SEN (Hommes)</li></ul></li><li><div class=
 "gski-epreuve-date">Le dimanche 11 octobre 2020</div><ul class="gski-epreuv
 e-liste-infos"><li>Codex épreuve BMVF0124</li><li>Individuel</li><li>Catégo
 rie(s) : U15/U17 (Mixte)</li></ul></li><li><div class="gski-epreuve-date">L
 e dimanche 11 octobre 2020</div><ul class="gski-epreuve-liste-infos"><li>Co
 dex épreuve BMVM0124</li><li>Individuel</li><li>Catégorie(s) : U11 (Mixte)<
 /li></ul></li><li><div class="gski-epreuve-date">Le dimanche 11 octobre 202
 0</div><ul class="gski-epreuve-liste-infos"><li>Codex épreuve BMVF0125</li>
 <li>Individuel</li><li>Catégorie(s) : U13 (Mixte)</li></ul></li><li><div cl
 ass="gski-epreuve-date">Le dimanche 11 octobre 2020</div><ul class="gski-ep
 reuve-liste-infos"><li>Codex épreuve BMVM0125</li><li>Individuel</li><li>Ca
 tégorie(s) : U13/U15 (Garçons)</li></ul></li></ul></div><div class="gskiepr
 euves-links"><ul><li><a href="https://skivosges.net/index.php?option=com_je
 vents&task=icalevent.detail&evid=1507&Itemid=6283">Voir les informations da
 ns l'agenda...</a></li></ul></div></div"><!-- #/gskiepreuve fin du dode gén
 éré par le plugin jevents pour GskiEpreuves. . Ne pas modifier cette ligne,
  ni tout le contenu précedant.  #/gskiepreuve --> <a href="https://skivosge
 s.net/agenda/export-synchronisation/detailevenement/1512/-/challenge-credit
 -mutuel-tgl-salomon-10m-50m?tmpl=component">Cet évènement a été importé dep
 uis :https://skivosges.net/agenda/export-synchronisation/detailevenement/15
 12/-/challenge-credit-mutuel-tgl-salomon-10m-50m?tmpl=component</a>DTSTAMP:20260420T131714
DTSTART;TZID=Europe/Paris;VALUE=DATE:20201011
DTEND;TZID=Europe/Paris;VALUE=DATE:20201012
SEQUENCE:0
TRANSP:OPAQUE
END:VEVENT
END:VCALENDAR