BEGIN:VCALENDAR
VERSION:2.0
PRODID:-//jEvents 2.0 for Joomla//EN
CALSCALE:GREGORIAN
METHOD:PUBLISH
BEGIN:VTIMEZONE
TZID:Europe/Paris
BEGIN:STANDARD
DTSTART:20191107T000000
RDATE:20200329T030000
TZOFFSETFROM:+0200
TZOFFSETTO:+0100
TZNAME:Europe/Paris CET
END:STANDARD
BEGIN:STANDARD
DTSTART:20201025T020000
RDATE:20210328T030000
TZOFFSETFROM:+0200
TZOFFSETTO:+0100
TZNAME:Europe/Paris CET
END:STANDARD
BEGIN:STANDARD
DTSTART:20211031T020000
RDATE:20220327T030000
TZOFFSETFROM:+0200
TZOFFSETTO:+0100
TZNAME:Europe/Paris CET
END:STANDARD
BEGIN:STANDARD
DTSTART:20221030T020000
RDATE:20230326T030000
TZOFFSETFROM:+0200
TZOFFSETTO:+0100
TZNAME:Europe/Paris CET
END:STANDARD
BEGIN:STANDARD
DTSTART:20231029T020000
RDATE:20240331T030000
TZOFFSETFROM:+0200
TZOFFSETTO:+0100
TZNAME:Europe/Paris CET
END:STANDARD
BEGIN:STANDARD
DTSTART:20241027T020000
RDATE:20250330T030000
TZOFFSETFROM:+0200
TZOFFSETTO:+0100
TZNAME:Europe/Paris CET
END:STANDARD
BEGIN:STANDARD
DTSTART:20251026T020000
RDATE:20260329T030000
TZOFFSETFROM:+0200
TZOFFSETTO:+0100
TZNAME:Europe/Paris CET
END:STANDARD
BEGIN:STANDARD
DTSTART:20261025T020000
RDATE:20270328T030000
TZOFFSETFROM:+0200
TZOFFSETTO:+0100
TZNAME:Europe/Paris CET
END:STANDARD
BEGIN:DAYLIGHT
DTSTART:20200329T030000
RDATE:20201025T020000
TZOFFSETFROM:+0100
TZOFFSETTO:+0200
TZNAME:Europe/Paris CEST
END:DAYLIGHT
BEGIN:DAYLIGHT
DTSTART:20210328T030000
RDATE:20211031T020000
TZOFFSETFROM:+0100
TZOFFSETTO:+0200
TZNAME:Europe/Paris CEST
END:DAYLIGHT
BEGIN:DAYLIGHT
DTSTART:20220327T030000
RDATE:20221030T020000
TZOFFSETFROM:+0100
TZOFFSETTO:+0200
TZNAME:Europe/Paris CEST
END:DAYLIGHT
BEGIN:DAYLIGHT
DTSTART:20230326T030000
RDATE:20231029T020000
TZOFFSETFROM:+0100
TZOFFSETTO:+0200
TZNAME:Europe/Paris CEST
END:DAYLIGHT
BEGIN:DAYLIGHT
DTSTART:20240331T030000
RDATE:20241027T020000
TZOFFSETFROM:+0100
TZOFFSETTO:+0200
TZNAME:Europe/Paris CEST
END:DAYLIGHT
BEGIN:DAYLIGHT
DTSTART:20250330T030000
RDATE:20251026T020000
TZOFFSETFROM:+0100
TZOFFSETTO:+0200
TZNAME:Europe/Paris CEST
END:DAYLIGHT
BEGIN:DAYLIGHT
DTSTART:20260329T030000
RDATE:20261025T020000
TZOFFSETFROM:+0100
TZOFFSETTO:+0200
TZNAME:Europe/Paris CEST
END:DAYLIGHT
END:VTIMEZONE
BEGIN:VEVENT
UID:07fc5e8e1c1957205199d0a99d7dee71
CATEGORIES:Compétition Biathlon
CREATED:20200829T093354
SUMMARY:CHALLENGE CREDIT MUTUEL TGL Salomon 10M
URL;VALUE=URI:https://skivosges.net/agenda/export-synchronisation/detailevenement/1513/-/
 challenge-credit-mutuel-tgl-salomon-10m?tmpl=component
DESCRIPTION:CHALLENGE CREDIT MUTUEL TGL Salomon 10M\n - Codex évenement BMVT0130\n - Li
 eu : LA TENINE LA BRESSE\n - Organisateur : 14486 BASSE SUR LE RUPT SKI NOR
 DIQUE\n - Courriel : RegularLabs.EmailProtector.unCloak("ep_9536ef13");\n -
  Téléphone : 07 86 12 42 23\n - Délégué Technique : LEJEUNE DAMIENPériode d
 'inscription à l'evènement du samedi 31 octobre 2020 à 00:00 au jeudi 05 no
 vembre 2020 à 12:00 (Inscriptions impossibles).Inscriptions ouvertes aux de
 tenteurs des titres Fédéraux valides suivants : Licenciés Compétiteurs et T
 itres Loisirs et DirigeantsEpreuves :\n - Le samedi 07 novembre 2020\n - Co
 dex épreuve BMVF0131\n - Sprint\n - Catégorie(s) : U9 (Filles)\n - Le samed
 i 07 novembre 2020\n - Codex épreuve BMVF0132\n - Sprint\n - Catégorie(s) :
  U11 (Filles)\n - Le samedi 07 novembre 2020\n - Codex épreuve BMVF0133\n -
  Sprint\n - Catégorie(s) : U13 (Filles)\n - Le samedi 07 novembre 2020\n - 
 Codex épreuve BMVM0131\n - Sprint\n - Catégorie(s) : U9 (Garçons)\n - Le sa
 medi 07 novembre 2020\n - Codex épreuve BMVM0132\n - Sprint\n - Catégorie(s
 ) : U11 (Garçons)\n - Le samedi 07 novembre 2020\n - Codex épreuve BMVM0133
 \n - Sprint\n - Catégorie(s) : U13 (Garçons)\n - Le samedi 07 novembre 2020
 \n - Codex épreuve BMVF0134\n - Sprint\n - Catégorie(s) : U15 (Filles)\n - 
 Le samedi 07 novembre 2020\n - Codex épreuve BMVM0134\n - Sprint\n - Catégo
 rie(s) : U15 (Garçons)\n - Voir les informations dans l'agenda... (/index.p
 hp?option=com_jevents&amp;task=icalevent.detail&amp;evid=1508&amp;Itemid=62
 83) Cet évènement a été importé depuis :https://skivosges.net/agenda/export
 -synchronisation/detailevenement/1513/-/challenge-credit-mutuel-tgl-salomon
 -10m?tmpl=component
X-ALT-DESC;FMTTYPE=text/html:<!-- #gskiepreuve code généré par le plugin jevents pour GskiEpreuves. Ne p
 as modifier cette ligne, ni tout le contenu suivant  #gskiepreuve --><div c
 lass="gski-evenement_infos"><div class="gski-evenement-nom">CHALLENGE CREDI
 T MUTUEL TGL Salomon 10M</div><div class="gski-evenement-report"></div><ul 
 class="gski-evenement-liste-infos"><li>Codex évenement BMVT0130</li><li>Lie
 u : LA TENINE LA BRESSE</li><li>Organisateur : 14486 BASSE SUR LE RUPT SKI 
 NORDIQUE</li><li>Courriel : <!-- Cette adresse électronique est protégée co
 ntre les robots spammeurs. --><span class="cloaked_email ep_9536ef13"><span
  data-ep-a="&#103;&#105;lle" data-ep-b="&#114;"><span data-ep-b="n&#103;e.&
 #102;" data-ep-a="c&#104;&#114;i&#115;"><span data-ep-a="&#99;&#108;&#97;&#
 117;&#100;" data-ep-b="&#101;&#64;&#111;r&#97;"></span></span></span></span
 ><script>RegularLabs.EmailProtector.unCloak("ep_9536ef13");</script></li><l
 i>Téléphone : 07 86 12 42 23</li><li><span class="gski-evenement-obs">Délég
 ué Technique : LEJEUNE DAMIEN</span></li></ul><div class="gski-evenement-in
 fos-2"><div class="gski-evenement-info-inscriptions"><div class="gski-evene
 ment-inscriptions-periodes">Période d'inscription à l'evènement du samedi 3
 1 octobre 2020 à 00:00 au jeudi 05 novembre 2020 à 12:00 <span class="gski-
 evenement-inscriptions-impossibles">(Inscriptions impossibles).</span><div 
 class="gski-evenement-inscriptions-types-titres">Inscriptions ouvertes aux 
 detenteurs des titres Fédéraux valides suivants : Licenciés Compétiteurs et
  Titres Loisirs et Dirigeants</div></div></div><div class="gski-evenement-e
 preuves"><div class="gski-evenement-epreuves-titres">Epreuves :</div><ul cl
 ass="gski-evenement-epreuves-list"><li><div class="gski-epreuve-date">Le sa
 medi 07 novembre 2020</div><ul class="gski-epreuve-liste-infos"><li>Codex é
 preuve BMVF0131</li><li>Sprint</li><li>Catégorie(s) : U9 (Filles)</li></ul>
 </li><li><div class="gski-epreuve-date">Le samedi 07 novembre 2020</div><ul
  class="gski-epreuve-liste-infos"><li>Codex épreuve BMVF0132</li><li>Sprint
 </li><li>Catégorie(s) : U11 (Filles)</li></ul></li><li><div class="gski-epr
 euve-date">Le samedi 07 novembre 2020</div><ul class="gski-epreuve-liste-in
 fos"><li>Codex épreuve BMVF0133</li><li>Sprint</li><li>Catégorie(s) : U13 (
 Filles)</li></ul></li><li><div class="gski-epreuve-date">Le samedi 07 novem
 bre 2020</div><ul class="gski-epreuve-liste-infos"><li>Codex épreuve BMVM01
 31</li><li>Sprint</li><li>Catégorie(s) : U9 (Garçons)</li></ul></li><li><di
 v class="gski-epreuve-date">Le samedi 07 novembre 2020</div><ul class="gski
 -epreuve-liste-infos"><li>Codex épreuve BMVM0132</li><li>Sprint</li><li>Cat
 égorie(s) : U11 (Garçons)</li></ul></li><li><div class="gski-epreuve-date">
 Le samedi 07 novembre 2020</div><ul class="gski-epreuve-liste-infos"><li>Co
 dex épreuve BMVM0133</li><li>Sprint</li><li>Catégorie(s) : U13 (Garçons)</l
 i></ul></li><li><div class="gski-epreuve-date">Le samedi 07 novembre 2020</
 div><ul class="gski-epreuve-liste-infos"><li>Codex épreuve BMVF0134</li><li
 >Sprint</li><li>Catégorie(s) : U15 (Filles)</li></ul></li><li><div class="g
 ski-epreuve-date">Le samedi 07 novembre 2020</div><ul class="gski-epreuve-l
 iste-infos"><li>Codex épreuve BMVM0134</li><li>Sprint</li><li>Catégorie(s) 
 : U15 (Garçons)</li></ul></li></ul></div><div class="gskiepreuves-links"><u
 l><li><a href="https://skivosges.net/index.php?option=com_jevents&task=ical
 event.detail&evid=1508&Itemid=6283">Voir les informations dans l'agenda...<
 /a></li></ul></div></div"><!-- #/gskiepreuve fin du dode généré par le plug
 in jevents pour GskiEpreuves. . Ne pas modifier cette ligne, ni tout le con
 tenu précedant.  #/gskiepreuve --> <a href="https://skivosges.net/agenda/ex
 port-synchronisation/detailevenement/1513/-/challenge-credit-mutuel-tgl-sal
 omon-10m?tmpl=component">Cet évènement a été importé depuis :https://skivos
 ges.net/agenda/export-synchronisation/detailevenement/1513/-/challenge-cred
 it-mutuel-tgl-salomon-10m?tmpl=component</a>DTSTAMP:20260420T145932
DTSTART;TZID=Europe/Paris;VALUE=DATE:20201107
DTEND;TZID=Europe/Paris;VALUE=DATE:20201108
SEQUENCE:0
TRANSP:OPAQUE
END:VEVENT
END:VCALENDAR