BEGIN:VCALENDAR
VERSION:2.0
PRODID:-//jEvents 2.0 for Joomla//EN
CALSCALE:GREGORIAN
METHOD:PUBLISH
BEGIN:VTIMEZONE
TZID:Europe/Paris
BEGIN:STANDARD
DTSTART:20191027T020000
RDATE:20200329T030000
TZOFFSETFROM:+0200
TZOFFSETTO:+0100
TZNAME:Europe/Paris CET
END:STANDARD
BEGIN:STANDARD
DTSTART:20201025T020000
RDATE:20210328T030000
TZOFFSETFROM:+0200
TZOFFSETTO:+0100
TZNAME:Europe/Paris CET
END:STANDARD
BEGIN:STANDARD
DTSTART:20211031T020000
RDATE:20220327T030000
TZOFFSETFROM:+0200
TZOFFSETTO:+0100
TZNAME:Europe/Paris CET
END:STANDARD
BEGIN:STANDARD
DTSTART:20221030T020000
RDATE:20230326T030000
TZOFFSETFROM:+0200
TZOFFSETTO:+0100
TZNAME:Europe/Paris CET
END:STANDARD
BEGIN:STANDARD
DTSTART:20231029T020000
RDATE:20240331T030000
TZOFFSETFROM:+0200
TZOFFSETTO:+0100
TZNAME:Europe/Paris CET
END:STANDARD
BEGIN:STANDARD
DTSTART:20241027T020000
RDATE:20250330T030000
TZOFFSETFROM:+0200
TZOFFSETTO:+0100
TZNAME:Europe/Paris CET
END:STANDARD
BEGIN:STANDARD
DTSTART:20251026T020000
RDATE:20260329T030000
TZOFFSETFROM:+0200
TZOFFSETTO:+0100
TZNAME:Europe/Paris CET
END:STANDARD
BEGIN:STANDARD
DTSTART:20261025T020000
RDATE:20270328T030000
TZOFFSETFROM:+0200
TZOFFSETTO:+0100
TZNAME:Europe/Paris CET
END:STANDARD
BEGIN:DAYLIGHT
DTSTART:20191017T000000
RDATE:20191027T020000
TZOFFSETFROM:+0100
TZOFFSETTO:+0200
TZNAME:Europe/Paris CEST
END:DAYLIGHT
BEGIN:DAYLIGHT
DTSTART:20200329T030000
RDATE:20201025T020000
TZOFFSETFROM:+0100
TZOFFSETTO:+0200
TZNAME:Europe/Paris CEST
END:DAYLIGHT
BEGIN:DAYLIGHT
DTSTART:20210328T030000
RDATE:20211031T020000
TZOFFSETFROM:+0100
TZOFFSETTO:+0200
TZNAME:Europe/Paris CEST
END:DAYLIGHT
BEGIN:DAYLIGHT
DTSTART:20220327T030000
RDATE:20221030T020000
TZOFFSETFROM:+0100
TZOFFSETTO:+0200
TZNAME:Europe/Paris CEST
END:DAYLIGHT
BEGIN:DAYLIGHT
DTSTART:20230326T030000
RDATE:20231029T020000
TZOFFSETFROM:+0100
TZOFFSETTO:+0200
TZNAME:Europe/Paris CEST
END:DAYLIGHT
BEGIN:DAYLIGHT
DTSTART:20240331T030000
RDATE:20241027T020000
TZOFFSETFROM:+0100
TZOFFSETTO:+0200
TZNAME:Europe/Paris CEST
END:DAYLIGHT
BEGIN:DAYLIGHT
DTSTART:20250330T030000
RDATE:20251026T020000
TZOFFSETFROM:+0100
TZOFFSETTO:+0200
TZNAME:Europe/Paris CEST
END:DAYLIGHT
BEGIN:DAYLIGHT
DTSTART:20260329T030000
RDATE:20261025T020000
TZOFFSETFROM:+0100
TZOFFSETTO:+0200
TZNAME:Europe/Paris CEST
END:DAYLIGHT
END:VTIMEZONE
BEGIN:VEVENT
UID:5ece2aef278ec4420b2af834ab432302
CATEGORIES:Roller Ski
CREATED:20200914T174607
SUMMARY:ROLLER SKI ROMAIN CLAUDON prologue + poursuite
URL;VALUE=URI:https://skivosges.net/agenda/export-synchronisation/detailevenement/1515/-/
 roller-ski-romain-claudon-prologue-poursuite?tmpl=component
DESCRIPTION:<!-- #gskiepreuve code généré par le plugin jevents pour GskiEpreuves. Ne p
 as modifier cette ligne, ni tout le contenu suivant  #gskiepreuve --><div c
 lass="gski-evenement_infos"><div class="gski-evenement-nom">ROLLER SKI ROMA
 IN CLAUDON prologue + poursuite</div><div class="gski-evenement-report"></d
 iv><ul class="gski-evenement-liste-infos"><li>Codex évenement OMVT0020</li>
 <li>Lieu : Proximit&eacute; du lac</li><li>Station : GERARDMER</li><li>Pist
 e : Circuit en ville</li><li>Organisateur : 14469 A.S GERARDMER SKI NORDIQU
 E</li><li>Courriel : <!-- Cette adresse électronique est protégée contre le
 s robots spammeurs. --><span class="cloaked_email ep_22340d47"><span data-e
 p-b="&#46;&#102;r" data-ep-a="&#102;&#114;a&#110;"><span data-ep-a="&#99;i&
 #115;&#46;" data-ep-b="&#98;&#98;&#111;&#120;"><span data-ep-b="&#116;z&#12
 1;&#64;" data-ep-a="&#107;&#105;&#101;n"></span></span></span></span><scrip
 t>RegularLabs.EmailProtector.unCloak("ep_22340d47");</script></li><li><span
  class="gski-evenement-obs">Délégué Technique : CUNY BERNARD</span></li></u
 l><div class="gski-evenement-infos-2"><div class="gski-evenement-info-inscr
 iptions"><div class="gski-evenement-inscriptions-periodes">Période d'inscri
 ption à l'evènement du samedi 10 octobre 2020 à 00:00 au vendredi 16 octobr
 e 2020 à 20:00 <span class="gski-evenement-inscriptions-impossibles">(Inscr
 iptions impossibles).</span><div class="gski-evenement-inscriptions-types-t
 itres">Inscriptions ouvertes aux detenteurs des titres Fédéraux valides sui
 vants : Licenciés Compétiteurs</div></div></div><div class="gski-evenement-
 epreuves"><div class="gski-evenement-epreuves-titres">Epreuves :</div><ul c
 lass="gski-evenement-epreuves-list"><li><div class="gski-epreuve-date">Le s
 amedi 17 octobre 2020</div><ul class="gski-epreuve-liste-infos"><li>Codex é
 preuve OMVF0021</li><li>Individuel</li><li>Catégorie(s) : U13 (Filles)</li>
 </ul></li><li><div class="gski-epreuve-date">Le samedi 17 octobre 2020</div
 ><ul class="gski-epreuve-liste-infos"><li>Codex épreuve OMVM0021</li><li>In
 dividuel</li><li>Catégorie(s) : U13 (Garçons)</li></ul></li><li><div class=
 "gski-epreuve-date">Le samedi 17 octobre 2020</div><ul class="gski-epreuve-
 liste-infos"><li>Codex épreuve OMVF0022</li><li>Individuel</li><li>Catégori
 e(s) : U15/U17 (Filles)</li></ul></li><li><div class="gski-epreuve-date">Le
  samedi 17 octobre 2020</div><ul class="gski-epreuve-liste-infos"><li>Codex
  épreuve OMVM0022</li><li>Individuel</li><li>Catégorie(s) : U15 (Garçons)</
 li></ul></li><li><div class="gski-epreuve-date">Le samedi 17 octobre 2020</
 div><ul class="gski-epreuve-liste-infos"><li>Codex épreuve OMVM0023</li><li
 >Individuel</li><li>Catégorie(s) : U17 (Garçons)</li></ul></li><li><div cla
 ss="gski-epreuve-date">Le samedi 17 octobre 2020</div><ul class="gski-epreu
 ve-liste-infos"><li>Codex épreuve OMVF0023</li><li>Individuel</li><li>Catég
 orie(s) : U20 a SEN (Dames)</li></ul></li><li><div class="gski-epreuve-date
 ">Le samedi 17 octobre 2020</div><ul class="gski-epreuve-liste-infos"><li>C
 odex épreuve OMVM0024</li><li>Individuel</li><li>Catégorie(s) : U20 a SEN (
 Hommes)</li></ul></li></ul></div><div class="gskiepreuves-links"><ul><li><a
  href="/index.php?option=com_jevents&task=icalevent.detail&evid=1510&Itemid
 =6283">Voir les informations dans l'agenda...</a></li><li><a href="/index.p
 hp?option=com_gskiepreuves&view=afficheresultats&format_option=tous&filter[
 search]=OMVT0020&filter[date_debut]=17-10-2020&filter[date_fin]=17-10-2020&
 code_activite=ROL&Itemid=6283">Vers les résultats...</a></li><li>Publicatio
 ns concernant cet évènement :<ul><li><a href="/index.php?option=com_content
 &view=article&id=7244&Itemid=6283">Dimanche 18 Octobre 2020 à 10:35 : Le 17
 /10/2020 GERARDMER Résultats</a></li><li><a href="/index.php?option=com_con
 tent&view=article&id=7243&Itemid=6283">Dimanche 18 Octobre 2020 à 09:56 : L
 e 17/10/2020 GERARDMER Résultats</a></li><li><a href="/index.php?option=com
 _content&view=article&id=7242&Itemid=6283">Vendredi 16 Octobre 2020 à 23:42
  : Le 17/10/2020 GERARDMER Liste de départs</a></li><li><a href="/index.php
 ?option=com_content&view=article&id=7234&Itemid=6283">Samedi 10 Octobre 202
 0 à 16:10 : Le 17/10/2020 GERARDMER Informations</a></li></ul></li></ul></d
 iv></div"><!-- #/gskiepreuve fin du dode généré par le plugin jevents pour 
 GskiEpreuves. . Ne pas modifier cette ligne, ni tout le contenu précedant. 
  #/gskiepreuve --> <a href="https://skivosges.net/agenda/export-synchronisa
 tion/detailevenement/1515/-/roller-ski-romain-claudon-prologue-poursuite?tm
 pl=component">Cet évènement a été importé depuis :https://skivosges.net/age
 nda/export-synchronisation/detailevenement/1515/-/roller-ski-romain-claudon
 -prologue-poursuite?tmpl=component</a>
X-ALT-DESC;FMTTYPE=text/html:<!-- #gskiepreuve code généré par le plugin jevents pour GskiEpreuves. Ne p
 as modifier cette ligne, ni tout le contenu suivant  #gskiepreuve --><div c
 lass="gski-evenement_infos"><div class="gski-evenement-nom">ROLLER SKI ROMA
 IN CLAUDON prologue + poursuite</div><div class="gski-evenement-report"></d
 iv><ul class="gski-evenement-liste-infos"><li>Codex évenement OMVT0020</li>
 <li>Lieu : Proximit&eacute; du lac</li><li>Station : GERARDMER</li><li>Pist
 e : Circuit en ville</li><li>Organisateur : 14469 A.S GERARDMER SKI NORDIQU
 E</li><li>Courriel : <!-- Cette adresse électronique est protégée contre le
 s robots spammeurs. --><span class="cloaked_email ep_22340d47"><span data-e
 p-b="&#46;&#102;r" data-ep-a="&#102;&#114;a&#110;"><span data-ep-a="&#99;i&
 #115;&#46;" data-ep-b="&#98;&#98;&#111;&#120;"><span data-ep-b="&#116;z&#12
 1;&#64;" data-ep-a="&#107;&#105;&#101;n"></span></span></span></span><scrip
 t>RegularLabs.EmailProtector.unCloak("ep_22340d47");</script></li><li><span
  class="gski-evenement-obs">Délégué Technique : CUNY BERNARD</span></li></u
 l><div class="gski-evenement-infos-2"><div class="gski-evenement-info-inscr
 iptions"><div class="gski-evenement-inscriptions-periodes">Période d'inscri
 ption à l'evènement du samedi 10 octobre 2020 à 00:00 au vendredi 16 octobr
 e 2020 à 20:00 <span class="gski-evenement-inscriptions-impossibles">(Inscr
 iptions impossibles).</span><div class="gski-evenement-inscriptions-types-t
 itres">Inscriptions ouvertes aux detenteurs des titres Fédéraux valides sui
 vants : Licenciés Compétiteurs</div></div></div><div class="gski-evenement-
 epreuves"><div class="gski-evenement-epreuves-titres">Epreuves :</div><ul c
 lass="gski-evenement-epreuves-list"><li><div class="gski-epreuve-date">Le s
 amedi 17 octobre 2020</div><ul class="gski-epreuve-liste-infos"><li>Codex é
 preuve OMVF0021</li><li>Individuel</li><li>Catégorie(s) : U13 (Filles)</li>
 </ul></li><li><div class="gski-epreuve-date">Le samedi 17 octobre 2020</div
 ><ul class="gski-epreuve-liste-infos"><li>Codex épreuve OMVM0021</li><li>In
 dividuel</li><li>Catégorie(s) : U13 (Garçons)</li></ul></li><li><div class=
 "gski-epreuve-date">Le samedi 17 octobre 2020</div><ul class="gski-epreuve-
 liste-infos"><li>Codex épreuve OMVF0022</li><li>Individuel</li><li>Catégori
 e(s) : U15/U17 (Filles)</li></ul></li><li><div class="gski-epreuve-date">Le
  samedi 17 octobre 2020</div><ul class="gski-epreuve-liste-infos"><li>Codex
  épreuve OMVM0022</li><li>Individuel</li><li>Catégorie(s) : U15 (Garçons)</
 li></ul></li><li><div class="gski-epreuve-date">Le samedi 17 octobre 2020</
 div><ul class="gski-epreuve-liste-infos"><li>Codex épreuve OMVM0023</li><li
 >Individuel</li><li>Catégorie(s) : U17 (Garçons)</li></ul></li><li><div cla
 ss="gski-epreuve-date">Le samedi 17 octobre 2020</div><ul class="gski-epreu
 ve-liste-infos"><li>Codex épreuve OMVF0023</li><li>Individuel</li><li>Catég
 orie(s) : U20 a SEN (Dames)</li></ul></li><li><div class="gski-epreuve-date
 ">Le samedi 17 octobre 2020</div><ul class="gski-epreuve-liste-infos"><li>C
 odex épreuve OMVM0024</li><li>Individuel</li><li>Catégorie(s) : U20 a SEN (
 Hommes)</li></ul></li></ul></div><div class="gskiepreuves-links"><ul><li><a
  href="https://skivosges.net/index.php?option=com_jevents&task=icalevent.de
 tail&evid=1510&Itemid=6283">Voir les informations dans l'agenda...</a></li>
 <li><a href="https://skivosges.net/index.php?option=com_gskiepreuves&view=a
 fficheresultats&format_option=tous&filter[search]=OMVT0020&filter[date_debu
 t]=17-10-2020&filter[date_fin]=17-10-2020&code_activite=ROL&Itemid=6283">Ve
 rs les résultats...</a></li><li>Publications concernant cet évènement :<ul>
 <li><a href="https://skivosges.net/index.php?option=com_content&view=articl
 e&id=7244&Itemid=6283">Dimanche 18 Octobre 2020 à 10:35 : Le 17/10/2020 GER
 ARDMER Résultats</a></li><li><a href="https://skivosges.net/index.php?optio
 n=com_content&view=article&id=7243&Itemid=6283">Dimanche 18 Octobre 2020 à 
 09:56 : Le 17/10/2020 GERARDMER Résultats</a></li><li><a href="https://skiv
 osges.net/index.php?option=com_content&view=article&id=7242&Itemid=6283">Ve
 ndredi 16 Octobre 2020 à 23:42 : Le 17/10/2020 GERARDMER Liste de départs</
 a></li><li><a href="https://skivosges.net/index.php?option=com_content&view
 =article&id=7234&Itemid=6283">Samedi 10 Octobre 2020 à 16:10 : Le 17/10/202
 0 GERARDMER Informations</a></li></ul></li></ul></div></div"><!-- #/gskiepr
 euve fin du dode généré par le plugin jevents pour GskiEpreuves. . Ne pas m
 odifier cette ligne, ni tout le contenu précedant.  #/gskiepreuve --> <a hr
 ef="https://skivosges.net/agenda/export-synchronisation/detailevenement/151
 5/-/roller-ski-romain-claudon-prologue-poursuite?tmpl=component">Cet évènem
 ent a été importé depuis :https://skivosges.net/agenda/export-synchronisati
 on/detailevenement/1515/-/roller-ski-romain-claudon-prologue-poursuite?tmpl
 =component</a>DTSTAMP:20260420T221504
DTSTART;TZID=Europe/Paris;VALUE=DATE:20201017
DTEND;TZID=Europe/Paris;VALUE=DATE:20201018
SEQUENCE:0
TRANSP:OPAQUE
END:VEVENT
END:VCALENDAR