BEGIN:VCALENDAR
VERSION:2.0
PRODID:-//jEvents 2.0 for Joomla//EN
CALSCALE:GREGORIAN
METHOD:PUBLISH
BEGIN:VTIMEZONE
TZID:Europe/Paris
BEGIN:STANDARD
DTSTART:20191027T020000
RDATE:20200329T030000
TZOFFSETFROM:+0200
TZOFFSETTO:+0100
TZNAME:Europe/Paris CET
END:STANDARD
BEGIN:STANDARD
DTSTART:20201025T020000
RDATE:20210328T030000
TZOFFSETFROM:+0200
TZOFFSETTO:+0100
TZNAME:Europe/Paris CET
END:STANDARD
BEGIN:STANDARD
DTSTART:20211031T020000
RDATE:20220327T030000
TZOFFSETFROM:+0200
TZOFFSETTO:+0100
TZNAME:Europe/Paris CET
END:STANDARD
BEGIN:STANDARD
DTSTART:20221030T020000
RDATE:20230326T030000
TZOFFSETFROM:+0200
TZOFFSETTO:+0100
TZNAME:Europe/Paris CET
END:STANDARD
BEGIN:STANDARD
DTSTART:20231029T020000
RDATE:20240331T030000
TZOFFSETFROM:+0200
TZOFFSETTO:+0100
TZNAME:Europe/Paris CET
END:STANDARD
BEGIN:STANDARD
DTSTART:20241027T020000
RDATE:20250330T030000
TZOFFSETFROM:+0200
TZOFFSETTO:+0100
TZNAME:Europe/Paris CET
END:STANDARD
BEGIN:STANDARD
DTSTART:20251026T020000
RDATE:20260329T030000
TZOFFSETFROM:+0200
TZOFFSETTO:+0100
TZNAME:Europe/Paris CET
END:STANDARD
BEGIN:STANDARD
DTSTART:20261025T020000
RDATE:20270328T030000
TZOFFSETFROM:+0200
TZOFFSETTO:+0100
TZNAME:Europe/Paris CET
END:STANDARD
BEGIN:DAYLIGHT
DTSTART:20191024T000000
RDATE:20191027T020000
TZOFFSETFROM:+0100
TZOFFSETTO:+0200
TZNAME:Europe/Paris CEST
END:DAYLIGHT
BEGIN:DAYLIGHT
DTSTART:20200329T030000
RDATE:20201025T020000
TZOFFSETFROM:+0100
TZOFFSETTO:+0200
TZNAME:Europe/Paris CEST
END:DAYLIGHT
BEGIN:DAYLIGHT
DTSTART:20210328T030000
RDATE:20211031T020000
TZOFFSETFROM:+0100
TZOFFSETTO:+0200
TZNAME:Europe/Paris CEST
END:DAYLIGHT
BEGIN:DAYLIGHT
DTSTART:20220327T030000
RDATE:20221030T020000
TZOFFSETFROM:+0100
TZOFFSETTO:+0200
TZNAME:Europe/Paris CEST
END:DAYLIGHT
BEGIN:DAYLIGHT
DTSTART:20230326T030000
RDATE:20231029T020000
TZOFFSETFROM:+0100
TZOFFSETTO:+0200
TZNAME:Europe/Paris CEST
END:DAYLIGHT
BEGIN:DAYLIGHT
DTSTART:20240331T030000
RDATE:20241027T020000
TZOFFSETFROM:+0100
TZOFFSETTO:+0200
TZNAME:Europe/Paris CEST
END:DAYLIGHT
BEGIN:DAYLIGHT
DTSTART:20250330T030000
RDATE:20251026T020000
TZOFFSETFROM:+0100
TZOFFSETTO:+0200
TZNAME:Europe/Paris CEST
END:DAYLIGHT
BEGIN:DAYLIGHT
DTSTART:20260329T030000
RDATE:20261025T020000
TZOFFSETFROM:+0100
TZOFFSETTO:+0200
TZNAME:Europe/Paris CEST
END:DAYLIGHT
END:VTIMEZONE
BEGIN:VEVENT
UID:cf00c66079ce877f4e9e09d92c3ce19a
CATEGORIES:Compétition Saut
CREATED:20201221T154001
SUMMARY:Finale coupe des Vosges La Bresse
URL;VALUE=URI:https://skivosges.net/agenda/export-synchronisation/detailevenement/1523/-/
 finale-coupe-des-vosges-la-bresse?tmpl=component
DESCRIPTION:Finale coupe des Vosges La Bresse\n - Codex évenement TMVT0010\n - Lieu : t
 remplin de Lispach\n - Organisateur : 14024 LA BRESSAUDE SECTION SKI\n - Co
 urriel : RegularLabs.EmailProtector.unCloak("ep_c20eedaf");Période d'inscri
 ption à l'evènement du samedi 17 octobre 2020 à 02:00 au jeudi 22 octobre 2
 020 à 14:00 (Inscriptions impossibles).Inscriptions ouvertes aux detenteurs
  des titres Fédéraux valides suivants : Licenciés Compétiteurs\n - Voir les
  informations dans l'agenda... (/index.php?option=com_jevents&amp;task=ical
 event.detail&amp;evid=1518&amp;Itemid=6283)Epreuves :\n - Le samedi 24 octo
 bre 2020\n - Codex épreuve TMVM0011\n - Saut Special\n - Catégorie(s) : Tou
 tes les Categories (Garçons)\n - Le samedi 24 octobre 2020\n - Codex épreuv
 e TMVF0011\n - Saut Special\n - Catégorie(s) : Toutes les Categories (Fille
 s)\n - Voir les informations dans l'agenda... (/index.php?option=com_jevent
 s&amp;task=icalevent.detail&amp;evid=1518&amp;Itemid=6283) Cet évènement a 
 été importé depuis :https://skivosges.net/agenda/export-synchronisation/det
 ailevenement/1523/-/finale-coupe-des-vosges-la-bresse?tmpl=component
X-ALT-DESC;FMTTYPE=text/html:<!-- #gskiepreuve code généré par le plugin jevents pour GskiEpreuves. Ne p
 as modifier cette ligne, ni tout le contenu suivant  #gskiepreuve --><div c
 lass="gski-evenement_infos"><div class="gski-evenement-nom">Finale coupe de
 s Vosges La Bresse</div><div class="gski-evenement-report"></div><ul class=
 "gski-evenement-liste-infos"><li>Codex évenement TMVT0010</li><li>Lieu : tr
 emplin de Lispach</li><li>Organisateur : 14024 LA BRESSAUDE SECTION SKI</li
 ><li>Courriel : <!-- Cette adresse électronique est protégée contre les rob
 ots spammeurs. --><span class="cloaked_email ep_c20eedaf"><span data-ep-b="
 r" data-ep-a="&#107;arin"><span data-ep-a="&#101;&#46;f&#111;&#117;" data-e
 p-b="&#100;&#111;&#111;&#46;f"><span data-ep-b="&#64;w&#97;&#110;&#97;" dat
 a-ep-a="&#114;&#114;&#97;g&#101;"></span></span></span></span><script>Regul
 arLabs.EmailProtector.unCloak("ep_c20eedaf");</script></li></ul><div class=
 "gski-evenement-infos-2"><div class="gski-evenement-info-inscriptions"><div
  class="gski-evenement-inscriptions-periodes">Période d'inscription à l'evè
 nement du samedi 17 octobre 2020 à 02:00 au jeudi 22 octobre 2020 à 14:00 <
 span class="gski-evenement-inscriptions-impossibles">(Inscriptions impossib
 les).</span><div class="gski-evenement-inscriptions-types-titres">Inscripti
 ons ouvertes aux detenteurs des titres Fédéraux valides suivants : Licencié
 s Compétiteurs</div></div></div><div class="gskiepreuves-links"><ul><li><a 
 href="https://skivosges.net/index.php?option=com_jevents&task=icalevent.det
 ail&evid=1518&Itemid=6283">Voir les informations dans l'agenda...</a></li><
 /ul></div><div class="gski-evenement-epreuves"><div class="gski-evenement-e
 preuves-titres">Epreuves :</div><ul class="gski-evenement-epreuves-list"><l
 i><div class="gski-epreuve-date">Le samedi 24 octobre 2020</div><ul class="
 gski-epreuve-liste-infos"><li>Codex épreuve TMVM0011</li><li>Saut Special</
 li><li>Catégorie(s) : Toutes les Categories (Garçons)</li></ul></li><li><di
 v class="gski-epreuve-date">Le samedi 24 octobre 2020</div><ul class="gski-
 epreuve-liste-infos"><li>Codex épreuve TMVF0011</li><li>Saut Special</li><l
 i>Catégorie(s) : Toutes les Categories (Filles)</li></ul></li></ul></div><d
 iv class="gskiepreuves-links"><ul><li><a href="https://skivosges.net/index.
 php?option=com_jevents&task=icalevent.detail&evid=1518&Itemid=6283">Voir le
 s informations dans l'agenda...</a></li></ul></div></div"><!-- #/gskiepreuv
 e fin du dode généré par le plugin jevents pour GskiEpreuves. . Ne pas modi
 fier cette ligne, ni tout le contenu précedant.  #/gskiepreuve --> <a href=
 "https://skivosges.net/agenda/export-synchronisation/detailevenement/1523/-
 /finale-coupe-des-vosges-la-bresse?tmpl=component">Cet évènement a été impo
 rté depuis :https://skivosges.net/agenda/export-synchronisation/detailevene
 ment/1523/-/finale-coupe-des-vosges-la-bresse?tmpl=component</a>DTSTAMP:20260420T145937
DTSTART;TZID=Europe/Paris;VALUE=DATE:20201024
DTEND;TZID=Europe/Paris;VALUE=DATE:20201025
SEQUENCE:0
TRANSP:OPAQUE
END:VEVENT
END:VCALENDAR