BEGIN:VCALENDAR
VERSION:2.0
PRODID:-//jEvents 2.0 for Joomla//EN
CALSCALE:GREGORIAN
METHOD:PUBLISH
BEGIN:VTIMEZONE
TZID:Europe/Paris
BEGIN:STANDARD
DTSTART:20191212T000000
RDATE:20200329T030000
TZOFFSETFROM:+0200
TZOFFSETTO:+0100
TZNAME:Europe/Paris CET
END:STANDARD
BEGIN:STANDARD
DTSTART:20201025T020000
RDATE:20210328T030000
TZOFFSETFROM:+0200
TZOFFSETTO:+0100
TZNAME:Europe/Paris CET
END:STANDARD
BEGIN:STANDARD
DTSTART:20211031T020000
RDATE:20220327T030000
TZOFFSETFROM:+0200
TZOFFSETTO:+0100
TZNAME:Europe/Paris CET
END:STANDARD
BEGIN:STANDARD
DTSTART:20221030T020000
RDATE:20230326T030000
TZOFFSETFROM:+0200
TZOFFSETTO:+0100
TZNAME:Europe/Paris CET
END:STANDARD
BEGIN:STANDARD
DTSTART:20231029T020000
RDATE:20240331T030000
TZOFFSETFROM:+0200
TZOFFSETTO:+0100
TZNAME:Europe/Paris CET
END:STANDARD
BEGIN:STANDARD
DTSTART:20241027T020000
RDATE:20250330T030000
TZOFFSETFROM:+0200
TZOFFSETTO:+0100
TZNAME:Europe/Paris CET
END:STANDARD
BEGIN:STANDARD
DTSTART:20251026T020000
RDATE:20260329T030000
TZOFFSETFROM:+0200
TZOFFSETTO:+0100
TZNAME:Europe/Paris CET
END:STANDARD
BEGIN:STANDARD
DTSTART:20261025T020000
RDATE:20270328T030000
TZOFFSETFROM:+0200
TZOFFSETTO:+0100
TZNAME:Europe/Paris CET
END:STANDARD
BEGIN:DAYLIGHT
DTSTART:20200329T030000
RDATE:20201025T020000
TZOFFSETFROM:+0100
TZOFFSETTO:+0200
TZNAME:Europe/Paris CEST
END:DAYLIGHT
BEGIN:DAYLIGHT
DTSTART:20210328T030000
RDATE:20211031T020000
TZOFFSETFROM:+0100
TZOFFSETTO:+0200
TZNAME:Europe/Paris CEST
END:DAYLIGHT
BEGIN:DAYLIGHT
DTSTART:20220327T030000
RDATE:20221030T020000
TZOFFSETFROM:+0100
TZOFFSETTO:+0200
TZNAME:Europe/Paris CEST
END:DAYLIGHT
BEGIN:DAYLIGHT
DTSTART:20230326T030000
RDATE:20231029T020000
TZOFFSETFROM:+0100
TZOFFSETTO:+0200
TZNAME:Europe/Paris CEST
END:DAYLIGHT
BEGIN:DAYLIGHT
DTSTART:20240331T030000
RDATE:20241027T020000
TZOFFSETFROM:+0100
TZOFFSETTO:+0200
TZNAME:Europe/Paris CEST
END:DAYLIGHT
BEGIN:DAYLIGHT
DTSTART:20250330T030000
RDATE:20251026T020000
TZOFFSETFROM:+0100
TZOFFSETTO:+0200
TZNAME:Europe/Paris CEST
END:DAYLIGHT
BEGIN:DAYLIGHT
DTSTART:20260329T030000
RDATE:20261025T020000
TZOFFSETFROM:+0100
TZOFFSETTO:+0200
TZNAME:Europe/Paris CEST
END:DAYLIGHT
END:VTIMEZONE
BEGIN:VEVENT
UID:7ea37897a2cd63f6d75953856005b142
CATEGORIES:Compétition Biathlon
CREATED:20201221T154015
SUMMARY:BIATHLON REGIONAL Challenge Crédit Mutuel-Tissus Gisèle-Salomon+OPEN
URL;VALUE=URI:https://skivosges.net/agenda/export-synchronisation/detailevenement/1525/-/
 biathlon-regional-challenge-credit-mutuel-tissus-gisele-salomon-open?tmpl=c
 omponent
DESCRIPTION:BIATHLON REGIONAL Challenge Crédit Mutuel-Tissus Gisèle-Salomon+OPEN\n - Co
 dex évenement BMVT0020\n - Station : LA BRESSE\n - Organisateur : 14486 BAS
 SE SUR LE RUPT SKI NORDIQUE\n - Courriel : RegularLabs.EmailProtector.unClo
 ak("ep_ce1dd529");\n - Téléphone : 07 86 12 42 23\n - Délégué Technique : H
 ABRAN THIERRYPériode d'inscription à l'evènement du samedi 05 décembre 2020
  à 01:00 au jeudi 10 décembre 2020 à 13:00 (Inscriptions impossibles).Inscr
 iptions ouvertes aux detenteurs des titres Fédéraux valides suivants : Lice
 nciés Compétiteurs\n - Voir les informations dans l'agenda... (/index.php?o
 ption=com_jevents&amp;task=icalevent.detail&amp;evid=1520&amp;Itemid=6283)E
 preuves :\n - Le samedi 12 décembre 2020\n - Codex épreuve BMVF0021\n - Spr
 int\n - Catégorie(s) : U15 (Filles)\n - Le samedi 12 décembre 2020\n - Code
 x épreuve BMVM0021\n - Sprint\n - Catégorie(s) : U15 (Garçons)\n - Le samed
 i 12 décembre 2020\n - Codex épreuve BMVF0022\n - Sprint\n - Catégorie(s) :
  U17 (Filles)\n - Le samedi 12 décembre 2020\n - Codex épreuve BMVM0022\n -
  Sprint\n - Catégorie(s) : U17 (Garçons)\n - Le samedi 12 décembre 2020\n -
  Codex épreuve BMVF0023\n - Sprint\n - Catégorie(s) : U19 a SEN (Dames)\n -
  Le samedi 12 décembre 2020\n - Codex épreuve BMVM0023\n - Sprint\n - Catég
 orie(s) : U19 a SEN (Hommes)\n - Le samedi 12 décembre 2020\n - Codex épreu
 ve BMVF0024\n - Sprint\n - Catégorie(s) : U15 (Filles)\n - Le samedi 12 déc
 embre 2020\n - Codex épreuve BMVM0024\n - Sprint\n - Catégorie(s) : U15 (Ga
 rçons)\n - Le samedi 12 décembre 2020\n - Codex épreuve BMVF0025\n - Sprint
 \n - Catégorie(s) : U17 (Dames)\n - Le samedi 12 décembre 2020\n - Codex ép
 reuve BMVM0025\n - Sprint\n - Catégorie(s) : U17 (Hommes)\n - Le samedi 12 
 décembre 2020\n - Codex épreuve BMVF0026\n - Sprint\n - Catégorie(s) : U19 
 a SEN (Dames)\n - Le samedi 12 décembre 2020\n - Codex épreuve BMVM0026\n -
  Sprint\n - Catégorie(s) : U19 a SEN (Hommes)\n - Voir les informations dan
 s l'agenda... (/index.php?option=com_jevents&amp;task=icalevent.detail&amp;
 evid=1520&amp;Itemid=6283) Cet évènement a été importé depuis :https://skiv
 osges.net/agenda/export-synchronisation/detailevenement/1525/-/biathlon-reg
 ional-challenge-credit-mutuel-tissus-gisele-salomon-open?tmpl=component
X-ALT-DESC;FMTTYPE=text/html:<!-- #gskiepreuve code généré par le plugin jevents pour GskiEpreuves. Ne p
 as modifier cette ligne, ni tout le contenu suivant  #gskiepreuve --><div c
 lass="gski-evenement_infos"><div class="gski-evenement-nom">BIATHLON REGION
 AL Challenge Crédit Mutuel-Tissus Gisèle-Salomon+OPEN</div><div class="gski
 -evenement-report"></div><ul class="gski-evenement-liste-infos"><li>Codex é
 venement BMVT0020</li><li>Station : LA BRESSE</li><li>Organisateur : 14486 
 BASSE SUR LE RUPT SKI NORDIQUE</li><li>Courriel : <!-- Cette adresse électr
 onique est protégée contre les robots spammeurs. --><span class="cloaked_em
 ail ep_ce1dd529"><span data-ep-b="&#114;" data-ep-a="&#103;&#105;&#108;le">
 <span data-ep-a="&#99;&#104;&#114;is" data-ep-b="&#110;&#103;e&#46;&#102;">
 <span data-ep-b="&#101;&#64;&#111;&#114;&#97;" data-ep-a="&#99;&#108;&#97;&
 #117;d"></span></span></span></span><script>RegularLabs.EmailProtector.unCl
 oak("ep_ce1dd529");</script></li><li>Téléphone : 07 86 12 42 23</li><li><sp
 an class="gski-evenement-obs">Délégué Technique : HABRAN THIERRY</span></li
 ></ul><div class="gski-evenement-infos-2"><div class="gski-evenement-info-i
 nscriptions"><div class="gski-evenement-inscriptions-periodes">Période d'in
 scription à l'evènement du samedi 05 décembre 2020 à 01:00 au jeudi 10 déce
 mbre 2020 à 13:00 <span class="gski-evenement-inscriptions-impossibles">(In
 scriptions impossibles).</span><div class="gski-evenement-inscriptions-type
 s-titres">Inscriptions ouvertes aux detenteurs des titres Fédéraux valides 
 suivants : Licenciés Compétiteurs</div></div></div><div class="gskiepreuves
 -links"><ul><li><a href="https://skivosges.net/index.php?option=com_jevents
 &task=icalevent.detail&evid=1520&Itemid=6283">Voir les informations dans l'
 agenda...</a></li></ul></div><div class="gski-evenement-epreuves"><div clas
 s="gski-evenement-epreuves-titres">Epreuves :</div><ul class="gski-evenemen
 t-epreuves-list"><li><div class="gski-epreuve-date">Le samedi 12 décembre 2
 020</div><ul class="gski-epreuve-liste-infos"><li>Codex épreuve BMVF0021</l
 i><li>Sprint</li><li>Catégorie(s) : U15 (Filles)</li></ul></li><li><div cla
 ss="gski-epreuve-date">Le samedi 12 décembre 2020</div><ul class="gski-epre
 uve-liste-infos"><li>Codex épreuve BMVM0021</li><li>Sprint</li><li>Catégori
 e(s) : U15 (Garçons)</li></ul></li><li><div class="gski-epreuve-date">Le sa
 medi 12 décembre 2020</div><ul class="gski-epreuve-liste-infos"><li>Codex é
 preuve BMVF0022</li><li>Sprint</li><li>Catégorie(s) : U17 (Filles)</li></ul
 ></li><li><div class="gski-epreuve-date">Le samedi 12 décembre 2020</div><u
 l class="gski-epreuve-liste-infos"><li>Codex épreuve BMVM0022</li><li>Sprin
 t</li><li>Catégorie(s) : U17 (Garçons)</li></ul></li><li><div class="gski-e
 preuve-date">Le samedi 12 décembre 2020</div><ul class="gski-epreuve-liste-
 infos"><li>Codex épreuve BMVF0023</li><li>Sprint</li><li>Catégorie(s) : U19
  a SEN (Dames)</li></ul></li><li><div class="gski-epreuve-date">Le samedi 1
 2 décembre 2020</div><ul class="gski-epreuve-liste-infos"><li>Codex épreuve
  BMVM0023</li><li>Sprint</li><li>Catégorie(s) : U19 a SEN (Hommes)</li></ul
 ></li><li><div class="gski-epreuve-date">Le samedi 12 décembre 2020</div><u
 l class="gski-epreuve-liste-infos"><li>Codex épreuve BMVF0024</li><li>Sprin
 t</li><li>Catégorie(s) : U15 (Filles)</li></ul></li><li><div class="gski-ep
 reuve-date">Le samedi 12 décembre 2020</div><ul class="gski-epreuve-liste-i
 nfos"><li>Codex épreuve BMVM0024</li><li>Sprint</li><li>Catégorie(s) : U15 
 (Garçons)</li></ul></li><li><div class="gski-epreuve-date">Le samedi 12 déc
 embre 2020</div><ul class="gski-epreuve-liste-infos"><li>Codex épreuve BMVF
 0025</li><li>Sprint</li><li>Catégorie(s) : U17 (Dames)</li></ul></li><li><d
 iv class="gski-epreuve-date">Le samedi 12 décembre 2020</div><ul class="gsk
 i-epreuve-liste-infos"><li>Codex épreuve BMVM0025</li><li>Sprint</li><li>Ca
 tégorie(s) : U17 (Hommes)</li></ul></li><li><div class="gski-epreuve-date">
 Le samedi 12 décembre 2020</div><ul class="gski-epreuve-liste-infos"><li>Co
 dex épreuve BMVF0026</li><li>Sprint</li><li>Catégorie(s) : U19 a SEN (Dames
 )</li></ul></li><li><div class="gski-epreuve-date">Le samedi 12 décembre 20
 20</div><ul class="gski-epreuve-liste-infos"><li>Codex épreuve BMVM0026</li
 ><li>Sprint</li><li>Catégorie(s) : U19 a SEN (Hommes)</li></ul></li></ul></
 div><div class="gskiepreuves-links"><ul><li><a href="https://skivosges.net/
 index.php?option=com_jevents&task=icalevent.detail&evid=1520&Itemid=6283">V
 oir les informations dans l'agenda...</a></li></ul></div></div"><!-- #/gski
 epreuve fin du dode généré par le plugin jevents pour GskiEpreuves. . Ne pa
 s modifier cette ligne, ni tout le contenu précedant.  #/gskiepreuve --> <a
  href="https://skivosges.net/agenda/export-synchronisation/detailevenement/
 1525/-/biathlon-regional-challenge-credit-mutuel-tissus-gisele-salomon-open
 ?tmpl=component">Cet évènement a été importé depuis :https://skivosges.net/
 agenda/export-synchronisation/detailevenement/1525/-/biathlon-regional-chal
 lenge-credit-mutuel-tissus-gisele-salomon-open?tmpl=component</a>DTSTAMP:20260420T131538
DTSTART;TZID=Europe/Paris;VALUE=DATE:20201212
DTEND;TZID=Europe/Paris;VALUE=DATE:20201213
SEQUENCE:0
TRANSP:OPAQUE
END:VEVENT
END:VCALENDAR